BEGIN:VCALENDAR
VERSION:2.0
PRODID:-//Paradigma srl - ECPv5.2.1//NONSGML v1.0//EN
CALSCALE:GREGORIAN
METHOD:PUBLISH
X-WR-CALNAME:Paradigma srl
X-ORIGINAL-URL:https://paradigma.it
X-WR-CALDESC:Eventi per Paradigma srl
BEGIN:VTIMEZONE
TZID:Europe/Rome
BEGIN:DAYLIGHT
TZOFFSETFROM:+0100
TZOFFSETTO:+0200
TZNAME:CEST
DTSTART:20250330T010000
END:DAYLIGHT
BEGIN:STANDARD
TZOFFSETFROM:+0200
TZOFFSETTO:+0100
TZNAME:CET
DTSTART:20251026T010000
END:STANDARD
END:VTIMEZONE
BEGIN:VEVENT
DTSTART;TZID=Europe/Rome:20250930T093000
DTEND;TZID=Europe/Rome:20250930T180000
DTSTAMP:20260421T125938
CREATED:20250724T141851Z
LAST-MODIFIED:20250926T084401Z
UID:24100-1759224600-1759255200@paradigma.it
SUMMARY:Varianti\, proroghe e ulteriori  modifiche in corso di esecuzione
DESCRIPTION:[vc_row][vc_column]\n	\n		\n			\n		\n	\n\n	\n		\n			Modifiche sostanziali e non sostanziali\nVarianti in corso d’opera\nProroghe tecniche\, contrattuali e rinnovi\nContratti ponte\nErrori progettuali\nResponsabilità\nAdempimenti anticorruzione e trasparenza\nImplicazioni sul fronte PNRR \n \n\n		\n	\n\n	\n		\n			09.30 - 13.00  14.30 - 18.00 \n\n		\n	\n\n	\n		\n			Evento in diretta streaming \n\n		\n	\n\n	\n		\n			 \n\n		\n	\n\n	\n		\n			\n\n		\n	\nPresentazioneProgrammaDocentiBrochureIscrizioni e CondizioniPresentazione\n	\n		\n			Contenuti dell’evento \nLa giornata di studio vuole approfondire\, trasversalmente e in maniera quanto più analitica\, il tracciato normativo e di prassi inerente alle diverse fattispecie di modifica dell’affidamento in corso di esecuzione alla luce del nuovo Codice dei contratti pubblici. \nIl seminario è stato progettato in modo da risultare di immediato interesse tanto per le stazioni appaltanti quanto per gli operatori economici\, e si concentra sui nodi nevralgici afferenti agli incidenti evolutivi di esecuzione riconducibili alla natura\, all’oggetto e/o alla durata dell’originario affidamento. \nVengono\, in questi termini\, esaminati gli istituti più ricorrenti tra cui le varianti in corso d’esecuzione\, le modifiche sostanziali e non sostanziali\, le prestazioni “supplementari” e “complementari”\, la revisione dei prezzi e le opzioni\, le proroghe (contrattuali e tecniche) e i rinnovi\, gli errori progettuali\, alla luce dei più recenti arresti di giurisprudenza\, anche contabile\, e di prassi A.N.AC. e del MIT. \nL’analisi degli adempimenti relativi alle diverse fasi di esecuzione e rendicontazione del contratto sarà accompagnata da puntuali approfondimenti sui versanti dei flussi informativi (obblighi di comunicazione e segnalazione) nonché delle responsabilità del singolo (dipendente pubblico ovvero referente dell’operatore economico) e dell’Ente di appartenenza\, di natura penale\, amministrativo-contabile e disciplinare. Il tutto alla luce delle importanti implicazioni recate dal PNRR. \nParticolare attenzione sarà altresì dedicata agli adempimenti in materia di prevenzione della corruzione e trasparenza (Legge n. 190/2012) proprie delle fasi oggetto di trattazione\, secondo quanto previsto dalla più recente prassi attuativa. \nDestinatari dell’evento \nL´evento formativo è rivolto agli Internal Auditor e Manager di Pubbliche Amministrazioni\, società ed altri enti a rilevanza pubblica e a tutti i professionisti che operano a supporto degli Internal Audit di ambito pubblico. \nObiettivi dell’evento \nLa giornata di studio vuole approfondire\, trasversalmente e in maniera quanto più analitica\, il tracciato normativo e di prassi inerente alle diverse fattispecie di modifica dell’affidamento in corso di esecuzione alla luce del nuovo Codice dei contratti pubblici. \n\n\n		\n	\nProgramma\n	\n		\n			Martedì 30 settembre 2025 \nLe modifiche relative alla durata dell’affidamento\nLe proroghe vietate\, le proroghe contrattuali e la proroga tecnica\nI “contratti ponte”\nIl rinnovo: condizioni legittimanti\, forma e adempimenti operativi\nIl cumulo di proroga e il rinnovo\nLa proroga e il termine supplettivo\nLa modifica dei contratti di concessione nell’ottica della revisione dell’equilibrio economico e finanziario\nLa recente giurisprudenza e la prassi di ANAC\nAvv. Dante Micalella\nBucchi & Micalella Studio Legale \nLe modifiche relative all’oggetto dell’affidamento\nLe fattispecie di modifica del contratto individuate dal legislatore\nLe modifiche sostanziali\nLe prestazioni “supplementari”\nClausole di “revisione prezzi” e di “opzioni”\nVarianti in corso d’opera\nLe modifiche non sostanziali e l’errore progettuale\nQuinto d’obbligo\nAvv. Marco Martinelli\nLEXIA \nLa prevenzione della corruzione e la trasparenza in relazione all’esecuzione\nLe misure di prevenzione dei rischi corruttivi inerenti alle fasi di esecuzione e rendicontazione del contratto secondo la più recente prassi dell’ANAC\nLa gestione della vigilanza di ANAC\nGli obblighi di comunicazione e pubblicazione anche alla luce del PNA\nAvv. Domenico Ielo\nIelo e Associati \nLe responsabilità e i rischi assicurabili \nLa responsabilità erariale\nLe principali fattispecie di danno erariale in relazione alle modifiche contrattuali\nIl ruolo del RUP: compiti e responsabilità in generale\nI rischi assicurabili\nCons. Fabrizio Cerioni\nCorte dei Conti \n\n\n		\n	\nDocenti\n	\n		\n			Cons. Fabrizio Cerioni\nProcuratore\nCorte dei Conti \nAvv. Domenico Ielo\nFounding Partner\nIelo e Associati \nAvv. Marco Martinelli\nPartner\nLEXIA \nAvv. Dante Micalella\nFounding Partner\nBucchi & Micalella Studio Legale \n\n\n		\n	\nBrochure\n	\n		\n			 Scarica la brochure\n\n		\n	\nIscrizioni e Condizioni\n	\n		\n			Quota di partecipazione \nLa quota di partecipazione in diretta streaming include la fruizione degli interventi\, nonché la possibilità di scaricare\, in formato elettronico\, il materiale didattico che i relatori riterranno di mettere a disposizione. \nÈ inoltre prevista la possibilità di rivolgere contestualmente domande ai docenti (attivando il proprio microfono o tramite chat)\, oppure sottoporle in via preventiva\, inviando una e-mail a info@paradigma.it entro il giorno antecedente l’evento. \nIn caso di videoconferenza con accessi multipli è necessario contattare la Segreteria Organizzativa per un preventivo personalizzato. \nModalità di funzionamento della videoconferenza \nE’ possibile accedere all’aula virtuale da qualsiasi luogo\, utilizzando il proprio PC o tablet con una semplice connessione a Internet. La piattaforma informatica utilizzata da Paradigma non necessita di requisiti tecnici particolari. \nNei giorni antecedenti l’evento il partecipante riceverà per posta elettronica le credenziali e le istruzioni di accesso. Il giorno dell’evento sarà sufficiente selezionare il link che troverà nella mail e inserire le credenziali per accedere all’aula virtuale. \nDurante gli interventi\, oltre a vedere e sentire i docenti\, è possibile consultare simultaneamente la documentazione predisposta dal relatore. Ogni utente collegato potrà porre domande sulle tematiche affrontate (attivando il proprio microfono o tramite chat)\, alle quali il docente risponderà nel corso dell’intervento. \nModalità di iscrizione \nL’iscrizione si perfeziona al momento del ricevimento del modulo di registrazione\, da inviare via e-mail all’indirizzo info@paradigma.it\, integralmente compilato e sottoscritto. Il numero dei collegamenti disponibili è limitato e la priorità d’iscrizione è determinata dalla data di ricezione del modulo di registrazione. Si consiglia pertanto di effettuare una preiscrizione telefonica. \nModalità di pagamento \nLa quota di partecipazione deve essere versata all’atto della presentazione della richiesta di iscrizione e\, in ogni caso\, prima dell’effettuazione dell’evento formativo\, tramite bonifico bancario intestato a:\nParadigma Srl – Corso Vittorio Emanuele II\, 68 – 10121 Torino\nc/o Banco BPM Spa\nIBAN IT 14 V 05034 01017 000000002530 \nFormazione finanziata \nLa quota di partecipazione può essere completamente rimborsata tramite voucher promossi dai Fondi Paritetici Interprofessionali. Paradigma offre la completa e gratuita gestione delle spese di progettazione\, monitoraggio e rendicontazione. La possibilità di accedere alla formazione finanziata con partecipazione mediante videoconferenza può variare a seconda dell’Ente erogante. \nAttestato di frequenza \nL’attestato di partecipazione nominativo sarà inviato al termine dell’evento formativo ai partecipanti che si sono regolarmente collegati all’aula virtuale. \nDiritto di recesso e modalità di disdetta \nÈ attribuita ai partecipanti la facoltà di recedere ai sensi dell’art. 1373 c.c. Il recesso dovrà essere comunicato in forma scritta almeno sette giorni prima della data di inizio dell’evento formativo (escluso il sabato e la domenica). Qualora la disdetta pervenga oltre tale termine o si verifichi di fatto con il mancato collegamento alla videoconferenza\, la quota di partecipazione sarà addebitata per intero e sarà inviato al partecipante il materiale didattico e\, se disponibile e per un periodo limitato\, la registrazione dell’evento. In qualunque momento l’azienda o lo studio potranno comunque sostituire il partecipante\, comunicando il nuovo nominativo alla nostra Segreteria Oorganizzativa. \nVariazioni di programma \nParadigma\, per ragioni eccezionali e imprevedibili\, si riserva di annullare o modificare la data dell’evento formativo\, dandone comunicazione agli interessati entro tre giorni dalla data di inizio prevista. In tali casi le quote di partecipazione pervenute verranno rimborsate\, con esclusione di qualsivoglia onere o obbligo a carico di Paradigma. Paradigma si riserva inoltre\, per ragioni sopravvenute e per cause di forza maggiore\, di modificare l’articolazione del programma e di sostituire i docenti previsti con altri docenti di pari livello professionale. \nPer ulteriori informazioni è possibile contattare la Segreteria Organizzativa al numero 011.538686 o all’indirizzo e-mail info@paradigma.it. \n\n\n		\n	\n\n\n	\n		\n			Quota di partecipazione\n	\n		\n			€ 1.100 + Iva\n\n		\n	\n\n	\n		\n			In caso di videoconferenza con accessi multipli è necessario contattare la Segreteria organizzativa per un preventivo personalizzato. \n\n		\n	\n\n\n		\n	\n\n	\n		\n			\n\n\n\n\n\n\n	\n		\n			Early booking -20%\nInviando il modulo di iscrizione entro il 9 settembre si avrà diritto a una riduzione del 20% sulla quota di partecipazione. \n\n		\n	\n\n\n\n		\n	\n\n	\n		\n			\n\n\n\n\n\n\n	\n		\n			Quota corporate\nIscrivi all’evento 5 o più risorse provenienti dalla stessa organizzazione con una riduzione del 50%. \n\n		\n	\n\n\n\n		\n	\n\n	\n		\n			\n\n		\n	\n\n	\n		\n			\n\n\n\n\n\n\n	\n		\n			Progetto Giovani Eccellenze -50%\nL’adesione all’evento formativo permette di iscrivere una seconda risorsa\, che non abbia compiuto il 30° anno di età e proveniente dalla stessa organizzazione\, con una riduzione del 50% sulla seconda quota di partecipazione. L’agevolazione è calcolata sulla quota ordinaria. \n\n		\n	\n\n\n\n		\n	\n\n	\n		\n			\n\n\n\n\n\n\n	\n		\n			Formazione finanziata\nLa quota di partecipazione all’iniziativa può essere completamente rimborsata tramite voucher promossi dai Fondi Paritetici Interprofessionali. Paradigma offre la completa e gratuita gestione delle spese di progettazione\, monitoraggio e rendiconto. \n\n		\n	\n\n\n\n		\n	\n\n	\n		\n			\n\n\n\n\n\n\n	\n		\n			Mercati elettronici della PA\nParadigma opera sul MePA e sui principali mercati elettronici di soggetti aggregatori e centrali di committenza. \n\n		\n	\n\n\n\n		\n	\n\n	\n		\n			\n	\n\n\n	I campi con (*) sono obbligatori\n	\n		\n		Dati relativi all'evento\n		\n		\n			Partecipazione in aula\n			Partecipazione in videoconferenza\n		\n		\n\n		Dati relativi al richiedente\n		\n		\n		\n		\n		\n		\n		\n		\n\n	\n\n	\n\n		Dati per eventuale partecipante under 30\n		\n		\n		\n\n	\n\n	\n\n		Dati per la fatturazione elettronica\n		\n		\n		\n		\n		\n		\n				\n		\n		\n		  Split Payment:\n          \n            \n              \n              Si \n            No\n          \n        \n		\n		\n		\n		\n	\n\n	\n\n		Per informazioni contattare\n		\n		\n		\n		\n		\n	\n	L'iscrizione all'evento formativo si intende perfezionata al momento del ricevimento\, da parte di Paradigma Srl\, del presente modulo di registrazione compilato in ogni sua parte\, stampato\, firmato e inviato via e-mail all'indirizzo info@paradigma.it. Riceverete via email conferma dell'avvenuta iscrizione. \n\n\n		\n	     Acconsento all'invio di comunicazioni sui servizi Paradigma Srl - Consenso finalizzato\, anche con modalità automatizzate\, all'invio di comunicazioni relative a prodotti e servizi di Paradigma Srl e al fine di ricevere materiale informativo o promozionale.\n	\n	     Acconsento alla personalizzazione delle offerte - Consenso finalizzato\, mediante modalità automatizzate\, a personalizzare i servizi forniti e meglio indirizzare le proposte promozionali grazie ad attività di profilazione.\n	\n	Inviando i dati autorizzi Paradigma Srl a utilizzare i tuoi dati personali per evadere la richiesta di partecipazione all’evento formativo e svolgere le attività a ciò connesse. I dati potranno essere trattati\, per conto di Paradigma Srl\, da dipendenti e collaboratori incaricati di svolgere specifici servizi necessari all’esecuzione delle tue richieste. Il conferimento dei tuoi dati\, pur essendo facoltativo\, si rende necessario per l’esecuzione del servizio richiesto.	\n\n\n\n\n		\n\n\n\n\n\n		\n	\n[/vc_column][/vc_row]
URL:https://paradigma.it/iniziativa/varianti-proroghe-e-ulteriori-modifiche-in-corso-di-esecuzione-6/
CATEGORIES:Gare e Appalti
ORGANIZER;CN="Veronica%20Spiez":MAILTO:vspiez@paradigma.it
END:VEVENT
END:VCALENDAR