BEGIN:VCALENDAR
VERSION:2.0
PRODID:-//Paradigma srl - ECPv5.2.1//NONSGML v1.0//EN
CALSCALE:GREGORIAN
METHOD:PUBLISH
X-WR-CALNAME:Paradigma srl
X-ORIGINAL-URL:https://paradigma.it
X-WR-CALDESC:Eventi per Paradigma srl
BEGIN:VTIMEZONE
TZID:Europe/Rome
BEGIN:DAYLIGHT
TZOFFSETFROM:+0100
TZOFFSETTO:+0200
TZNAME:CEST
DTSTART:20230326T010000
END:DAYLIGHT
BEGIN:STANDARD
TZOFFSETFROM:+0200
TZOFFSETTO:+0100
TZNAME:CET
DTSTART:20231029T010000
END:STANDARD
END:VTIMEZONE
BEGIN:VEVENT
DTSTART;TZID=Europe/Rome:20230925T093000
DTEND;TZID=Europe/Rome:20230925T180000
DTSTAMP:20260421T145755
CREATED:20230614T100255Z
LAST-MODIFIED:20230921T103923Z
UID:18276-1695634200-1695664800@paradigma.it
SUMMARY:Tribunale Unificato dei Brevetti e brevetto unitario
DESCRIPTION:[vc_row][vc_column]\n	\n		\n			\n		\n	\n\n	\n		\n			\nIl nuovo sistema europeo operativo dal 1° giugno 2023\nSoluzioni operative e valutazione delle opportunità\n\nI docenti\, nel corso dell’evento formativo\, risponderanno alle domande e alle richieste di chiarimenti formulate dai partecipanti. Eventuali quesiti potranno essere anticipati inviando una email all’indirizzo info@paradigma.it \n \n\n		\n	\n\n	\n		\n			Evento in videoconferenza \n\n		\n	\n\n	\n		\n			25 settembre 2023 \n\n		\n	\n\n	\n		\n			 \n\n		\n	\n\n	\n		\n			\n\n		\n	\nPresentazioneProgrammaDocentiBrochureIscrizioni e CondizioniPresentazione\n	\n		\n			Contenuti dell’evento \nDopo il deposito della ratifica da parte della Germania il 17 febbraio scorso\, il Tribunale Unificato dei Brevetti\, o Unified Patent Court nella versione inglese del suo nome\, è divenuto operativo da pochissimi giorni\, il 1° giugno scorso. In coincidenza con l’entrata in funzione del nuovo sistema di protezione giurisdizionale dei brevetti nell’UE\, è cessato il cosiddetto periodo di sunrise\, arco temporale di 3 mesi decorso dal 1° marzo durante cui gli utenti potevano ottenere l’esclusione dei propri brevetti europei dalla competenza del TUB\, tramite richiesta di opt-out. \nTribunale Unificato dei Brevetti e brevetto unitario sono i due pilastri alla base del nuovo apparato di tutela brevettuale UE. Per effetto dei Regolamenti dell’Unione Europea n. 1257/2012 e n. 1260/2012 (c.d. “Pacchetto sul Brevetto Unitario”)\, il brevetto unitario nasce come titolo brevettuale conseguibile all’interno della procedura già esistente per il Brevetto Europeo e avrà efficacia contemporaneamente in 24 degli attuali 27 Stati membri dell’Unione Europea\, con l’eccezione di Croazia\, Spagna e Polonia\, che non hanno aderito all’Accordo sul brevetto unitario. Esso viene rilasciato dall’Ufficio Europeo dei Brevetti (EPO) e consente\, attraverso il pagamento di un’unica tassa di rinnovo direttamente all’EPO\, di ottenere contemporaneamente la protezione brevettuale nei 17 paesi UE che hanno ratificato l’Accordo sul Tribunale Unificato dei Brevetti (TUB). \nIl Tribunale Unificato dei Brevetti avrà\, peraltro\, una sede distaccata a Milano\, a seguito della perdita della sede da parte del Regno Unito\, causa Brexit\, e la redistribuzione delle competenze per materia già a questa assegnate in favore delle sedi centrali di Parigi e Monaco di Baviera e\, appunto\, della neoistituita sede distaccata italiana. \nL’evento Paradigma si propone di ricostruire\, con un approccio concreto e operativo\, i vantaggi del nuovo sistema di protezione sostanziale e processuale dei brevetti a livello europeo con cui sarà d’ora in poi imprescindibile confrontarsi\, nonché le cautele da eventualmente assumere con riferimento a taluni specifici aspetti\, attraverso il contributo di autorevoli esperti. \nDestinatari dell’evento \nL’evento formativo è rivolto ai General Counsel\, ai Legal Counsel\, ai Responsabili ed agli addetti IP delle imprese\, nonchè a tutti i professionisti e consulenti che operano nell’ambito della proprietà intellettuale. \nObiettivi dell’evento \nPrecipua finalità del convegno è la messa a disposizione di un complesso esaustivo di strumenti cognitivi e operativi che permetta\, alle imprese e ai singoli professionisti\, un corretto inquadramento della nuova cornice operativa entro cui il brevetto unitario consentirà di agire e\, alla luce di ciò\, un’efficace individuazione e pianificazione delle proprie strategie di tutela degli asset IP. \n\n\n		\n	\nProgramma\n	\n		\n			Lunedì 25 settembre 2023 \nConcorrenza e sinergie tra Corte Unitaria e Giudici nazionali nel regime transitorio: strategie per le imprese e i loro consulenti \nProf. Avv. Cesare Galli\nUniversità di Parma\nIP Law Galli \nIl brevetto unitario e il rapporto col brevetto europeo e i brevetti nazionali \nIng. Giorgio Checcacci\nGiudice Tecnico UPC \nIl contenzioso dei brevetti in Europa: situazione attuale e nuove opportunità di difesa e di valorizzazione\nAvv. Mariangela Bogni\nIP Law Galli \nOpt-out ed eventuale Opt-in: gli aspetti da prendere in considerazione \nIng. Antonio Mario Pizzoli\nNotarbartolo & Gervasi \nIl Certificato Complementare di Protezione dopo l’introduzione del brevetto unitario: situazione attuale e possibili evoluzioni\nDott. Francesco Macchetta\nBracco \nL’Italia nel sistema del brevetto unitario\nAvv. Marina Tavassi\nCoordinatore del Tavolo Tecnico per il Tribunale Unificato del Brevetto \nIl ruolo dei Giudici Tecnici nel Tribunale Unificato dei Brevetti\nDott. Paolo Gerli\nGiudice Tecnico UPC \nBrevetto unitario\, contratti di cessione e licenza: novità e opportunità \nAvv. Ignazio Gatto\nN&G Legal \nLa pianificazione ottimale della protezione di brevetti e segreti\nDott. Sergio Lasca\nPirelli \n\n\n		\n	\nDocenti\n	\n		\n			Avv. Mariangela Bogni\nExecutive Partner and Resident Partner Sede di Brescia\nIP Law Galli \nIng. Giorgio Checcacci\nGiudice Tecnico UPC\nConsulente in Proprietà Industriale \nProf. Avv. Cesare Galli\nOrdinario di Diritto Industriale\nUniversità di Parma\nFounding Partner\nIP Law Galli \nAvv. Ignazio Gatto\nFounding Partner\nN&G Legal \nDott. Paolo Gerli\nGiudice Tecnico UPC\nConsulente in Proprietà Industriale\nGERLIPATENTS – Industrial Property Consultancy \nDott. Sergio Lasca\nHead of Patents and Know-How\nPirelli \nDott. Francesco Macchetta\nIP Strategy Advisor\nBracco \nIng. Antonio Mario Pizzoli\nConsulente in Proprietà Industriale\nNotarbartolo & Gervasi \nAvv. Marina Tavassi\nCoordinatore del Tavolo Tecnico per il Tribunale Unificato del Brevetto\nOf Counsel\nBonelliErede \n\n\n		\n	\nBrochure\n	\n		\n			 Scarica la brochure\n\n		\n	\nIscrizioni e Condizioni\n	\n		\n			Quota di partecipazione \nLa quota di partecipazione in aula virtuale (diretta streaming) include l’invio del materiale didattico in formato elettronico e la possibilità di sottoporre ai relatori quesiti di specifico interesse a mezzo chat. È altresì possibile anticipare domande e richieste di approfondimento inviando una e-mail a info@paradigma.it entro il giorno antecedente l’evento. \nIn caso di videoconferenza con accessi multipli è necessario contattare la Segreteria organizzativa per un preventivo personalizzato. \nModalità di funzionamento della videoconferenza \nE’ possibile accedere all’aula virtuale da qualsiasi luogo\, utilizzando il proprio PC o tablet con una semplice connessione a Internet. La piattaforma informatica utilizzata da Paradigma (Adobe Connect) non necessita di requisiti tecnici particolari. \nNei giorni antecedenti l’evento il partecipante riceverà per posta elettronica le credenziali e le istruzioni di accesso. Il giorno dell’evento sarà sufficiente selezionare il link che troverà nella mail e inserire le credenziali per accedere all’aula virtuale. \nDurante gli interventi\, oltre a vedere e sentire i docenti\, è possibile consultare simultaneamente la documentazione predisposta dal relatore. Ogni utente collegato potrà porre domande sulle tematiche affrontate a mezzo chat\, alle quali il docente risponderà nel corso dell’intervento. \nModalità di iscrizione \nL’iscrizione si perfeziona al momento del ricevimento del modulo di registrazione\, da inviare via e-mail all’indirizzo info@paradigma.it\, integralmente compilato. Il numero dei collegamenti disponibili è limitato e la priorità d’iscrizione è determinata dalla data di ricezione del modulo di registrazione. Si consiglia pertanto di effettuare una preiscrizione telefonica. \nModalità di pagamento \nLa quota di partecipazione deve essere versata all’atto della presentazione della richiesta di iscrizione e\, in ogni caso\, prima dell’effettuazione dell’evento formativo\, tramite bonifico bancario intestato a: \nParadigma Srl – Corso Vittorio Emanuele II\, 68 – 10121 Torino\nc/o Banco BPM Spa\nIBAN IT 14 V 05034 01017 000000002530 \nFormazione finanziata \nLa quota di partecipazione può essere completamente rimborsata tramite voucher promossi dai Fondi Paritetici Interprofessionali. Paradigma offre la completa e gratuita gestione delle spese di progettazione\, monitoraggio e rendicontazione. La possibilità di accedere alla formazione finanziata con partecipazione mediante videoconferenza può variare a seconda dell’Ente erogante. \nAttestato di frequenza \nL’attestato di partecipazione nominativo sarà inviato al termine dell’evento formativo ai partecipanti che si sono regolarmente collegati all’aula virtuale. \nDiritto di recesso e modalità di disdetta \nÈ attribuita ai partecipanti la facoltà di recedere ai sensi dell’art. 1373 c.c. Il recesso dovrà essere comunicato in forma scritta almeno sette giorni prima della data di inizio dell’evento formativo (escluso il sabato e la domenica). Qualora la disdetta pervenga oltre tale termine o si verifichi di fatto con il mancato collegamento alla videoconferenza\, la quota di partecipazione sarà addebitata per intero e sarà inviato al partecipante il materiale didattico. In qualunque momento l’azienda o lo studio potranno comunque sostituire il partecipante\, comunicando il nuovo nominativo alla nostra Segreteria organizzativa. \nVariazioni di programma \nParadigma\, per ragioni eccezionali e imprevedibili\, si riserva di annullare o modificare la data dell’evento formativo\, dandone comunicazione agli interessati entro tre giorni dalla data di inizio prevista. In tali casi le quote di partecipazione pervenute verranno rimborsate\, con esclusione di qualsivoglia onere o obbligo a carico di Paradigma. Paradigma si riserva inoltre\, per ragioni sopravvenute e per cause di forza maggiore\, di modificare l’articolazione del programma e di sostituire i docenti previsti con altri docenti di pari livello professionale. \nPer ulteriori informazioni è possibile contattare la Segreteria organizzativa al numero 011.538686 o all’indirizzo e-mail info@paradigma.it. \n\n\n		\n	\n\n\n	\n		\n			Quota di partecipazione\n	\n		\n			€ 1.100 + Iva\n\n		\n	\n\n	\n		\n			In caso di videoconferenza con accessi multipli è necessario contattare la Segreteria organizzativa per un preventivo personalizzato. \n\n		\n	\n\n\n		\n	\n\n	\n		\n			\n\n\n\n\n\n\n	\n		\n			Early booking -20%\nInviando il modulo di iscrizione entro il 4 settembre si avrà diritto a una riduzione del 20% sulla quota di partecipazione. \n\n		\n	\n\n\n\n		\n	\n\n	\n		\n			\n\n		\n	\n\n	\n		\n			\n\n		\n	\n\n	\n		\n			\n\n\n\n\n\n\n	\n		\n			Progetto Giovani Eccellenze -50%\nL’adesione all’evento formativo permette di iscrivere una seconda risorsa\, che non abbia compiuto il 30° anno di età e proveniente dalla stessa organizzazione\, con una riduzione del 50% sulla seconda quota di partecipazione. L’agevolazione è calcolata sulla quota ordinaria. \n\n		\n	\n\n\n\n		\n	\n\n	\n		\n			\n\n\n\n\n\n\n	\n		\n			Formazione finanziata\nLa quota di partecipazione all’iniziativa può essere completamente rimborsata tramite voucher promossi dai Fondi Paritetici Interprofessionali. Paradigma offre la completa e gratuita gestione delle spese di progettazione\, monitoraggio e rendiconto. \n\n		\n	\n\n\n\n		\n	\n\n	\n		\n			\n\n\n\n\n\n\n	\n		\n			Mercati elettronici della PA\nParadigma opera sul MePA e sui principali mercati elettronici di soggetti aggregatori e centrali di committenza. \n\n		\n	\n\n\n\n		\n	\n\n	\n		\n			\n	\n\n\n	I campi con (*) sono obbligatori\n	\n		\n		Dati relativi all'evento\n		\n		\n			Partecipazione in aula\n			Partecipazione in videoconferenza\n		\n		\n\n		Dati relativi al richiedente\n		\n		\n		\n		\n		\n		\n		\n		\n\n	\n\n	\n\n		Dati per eventuale partecipante under 30\n		\n		\n		\n\n	\n\n	\n\n		Dati per la fatturazione elettronica\n		\n		\n		\n		\n		\n		\n				\n		\n		\n		  Split Payment:\n          \n            \n              \n              Si \n            No\n          \n        \n		\n		\n		\n		\n	\n\n	\n\n		Per informazioni contattare\n		\n		\n		\n		\n		\n	\n	L'iscrizione all'evento formativo si intende perfezionata al momento del ricevimento\, da parte di Paradigma Srl\, del presente modulo di registrazione compilato in ogni sua parte\, stampato\, firmato e inviato via e-mail all'indirizzo info@paradigma.it. Riceverete via email conferma dell'avvenuta iscrizione. \n\n\n		\n	     Acconsento all'invio di comunicazioni sui servizi Paradigma Srl - Consenso finalizzato\, anche con modalità automatizzate\, all'invio di comunicazioni relative a prodotti e servizi di Paradigma Srl e al fine di ricevere materiale informativo o promozionale.\n	\n	     Acconsento alla personalizzazione delle offerte - Consenso finalizzato\, mediante modalità automatizzate\, a personalizzare i servizi forniti e meglio indirizzare le proposte promozionali grazie ad attività di profilazione.\n	\n	Inviando i dati autorizzi Paradigma Srl a utilizzare i tuoi dati personali per evadere la richiesta di partecipazione all’evento formativo e svolgere le attività a ciò connesse. I dati potranno essere trattati\, per conto di Paradigma Srl\, da dipendenti e collaboratori incaricati di svolgere specifici servizi necessari all’esecuzione delle tue richieste. Il conferimento dei tuoi dati\, pur essendo facoltativo\, si rende necessario per l’esecuzione del servizio richiesto.	\n\n\n\n\n		\n\n\n\n\n\n		\n	\n[/vc_column][/vc_row]
URL:https://paradigma.it/iniziativa/tribunale-unificato-dei-brevetti-e-brevetto-unitario/
CATEGORIES:Marchi e Brevetti
ORGANIZER;CN="Angela%20Siniscalchi":MAILTO:asiniscalchi@paradigma.it
END:VEVENT
END:VCALENDAR