BEGIN:VCALENDAR
VERSION:2.0
PRODID:-//Paradigma srl - ECPv5.2.1//NONSGML v1.0//EN
CALSCALE:GREGORIAN
METHOD:PUBLISH
X-WR-CALNAME:Paradigma srl
X-ORIGINAL-URL:https://paradigma.it
X-WR-CALDESC:Eventi per Paradigma srl
BEGIN:VTIMEZONE
TZID:Europe/Rome
BEGIN:DAYLIGHT
TZOFFSETFROM:+0100
TZOFFSETTO:+0200
TZNAME:CEST
DTSTART:20250330T010000
END:DAYLIGHT
BEGIN:STANDARD
TZOFFSETFROM:+0200
TZOFFSETTO:+0100
TZNAME:CET
DTSTART:20251026T010000
END:STANDARD
END:VTIMEZONE
BEGIN:VEVENT
DTSTART;TZID=Europe/Rome:20250930T093000
DTEND;TZID=Europe/Rome:20250930T133000
DTSTAMP:20260421T125935
CREATED:20250721T103712Z
LAST-MODIFIED:20250926T082954Z
UID:23985-1759224600-1759239000@paradigma.it
SUMMARY:Scelta dei fornitori\, rischi 231  e misure di prevenzione
DESCRIPTION:[vc_row][vc_column]\n	\n		\n			\n		\n	\n\n	\n		\n			 \n\n		\n	\n\n	\n		\n			09.30 – 13.30 \n\n		\n	\n\n	\n		\n			Evento in diretta streaming \n\n		\n	\n\n	\n		\n			 \n\n		\n	\n\n	\n		\n			\n\n		\n	\nPresentazioneProgrammaDocentiBrochureIscrizioni e CondizioniPresentazione\n	\n		\n			Contenuti dell’evento \nNel corso del workshop sarà svolta un’analisi completa e dettagliata delle più recenti evoluzioni giurisprudenziali in materia di responsabilità da reato degli enti\, con particolare riferimento agli appalti labour-intensive e all’applicazione delle misure di prevenzione patrimoniali. \nSaranno approfonditi gli impatti organizzativi e operativi che tali orientamenti producono sulla valutazione del Modello 231\, sulla posizione dell’Organismo di Vigilanza e sulla gestione dei rapporti con i fornitori\, anche alla luce delle nuove normative in materia di due diligence e sostenibilità. \nUn focus specifico sarà dedicato al ruolo dell’amministrazione giudiziaria quale leva di riorganizzazione e adeguamento dei sistemi di controllo\, in un’ottica di trasformazione positiva e responsabile del business. \nDestinatari dell’evento \nL’evento formativo è rivolto ai Componenti e Presidenti dell’OdV\, ai Responsabili dell’Ufficio Legale\, ai Responsabili dell’Internal Audit e della Compliance\, ai Responsabili del Procurement\, nonché ai professionisti esterni che prestano consulenza sulle tematiche 231. L’iniziativa è altresì rivolta agli specialisti dell’auditing e del diritto penale operanti nelle materie trattate\, per i quali il convegno rappresenta un’importante occasione di aggiornamento e approfondimento. \nObiettivi dell’evento \nL’obiettivo dell’incontro è fornire ai partecipanti una lettura aggiornata e pragmatica delle implicazioni normative e giurisprudenziali per l’implementazione\, la revisione e il rafforzamento dei Modelli 231 e dei presidi organizzativi nelle aree ad alto rischio. \nSaranno presentati strumenti operativi e indicazioni pratiche per: \nvalutare l’idoneità e l’efficacia del Modello 231 secondo i nuovi criteri giurisprudenziali\nrafforzare i presidi di controllo lungo la filiera\, con focus su appalti e subappalti\ndelineare il ruolo proattivo dell’OdV nei contesti a rischio e nei casi di crisi reputazionale o giudiziaria \nintegrare le misure di prevenzione con una governance sostenibile e conforme al quadro regolamentare europeo (es. CSDDD). \n\n\n		\n	\nProgramma\n	\n		\n			Martedì 30 settembre 2025 \nCompliance integrata e governance della supply chain: presìdi 231 e strategie di riorganizzazione\nLe responsabilità delle imprese committenti negli appalti labour-intensive\nLa colpa di organizzazione e i segnali di non genuinità dell’appalto\nLa misura dell’amministrazione giudiziaria ex art. 34 D. Lgs. 159/2011\nAnalisi delle vulnerabilità e impostazione del piano rimediale\nIl doppio stream: compliance 231 e gestione fornitori\nGli strumenti per potenziare il Modello 231 e presidiare efficacemente la supply chain\nAvv. Marcella Vulcano\nEsperta in misure di Prevenzione e Responsabilità da Reato degli Enti \nModelli 231 e giurisprudenza penale: nuovi criteri di valutazione e nuove sfide per l’OdV alla luce dei recenti casi negli appalti labour-intensive\nI nuovi criteri della giurisprudenza penale nella valutazione dei Modelli 231\nIl ruolo dell’OdV sotto la lente della magistratura: da organo di vigilanza a presidio attivo\nLa responsabilità da “colpa di organizzazione” del committente per deficit di controllo nei reati commessi da terzi\, anche in assenza di vantaggio diretto\nValutazione integrata del Modello e dei comportamenti aziendali: verso una prova dinamica dell’adeguatezza\nL’impatto della giurisprudenza sull’evoluzione della disciplina della responsabilità dell’ente: la nuova sfida dei Modelli 231 e dell’OdV\nCons. Ciro Santoriello\nProcura della Repubblica di Cuneo \n\n\n		\n	\nDocenti\n	\n		\n			Cons. Ciro Santoriello\nProcuratore Aggiunto\nProcura della Repubblica di Cuneo \nAvv. Marcella Vulcano\nAvvocato in Milano\nEsperta in misure di Prevenzione e Responsabilità da Reato degli Enti \n\n\n		\n	\nBrochure\n	\n		\n			 Scarica la brochure\n\n		\n	\nIscrizioni e Condizioni\n	\n		\n			Quota di partecipazione \nLa quota di partecipazione in diretta streaming include la fruizione degli interventi\, nonché la possibilità di scaricare\, in formato elettronico\, il materiale didattico che i relatori riterranno di mettere a disposizione. \nÈ inoltre prevista la possibilità di rivolgere contestualmente domande ai docenti (attivando il proprio microfono o tramite chat)\, oppure sottoporle in via preventiva\, inviando una e-mail a info@optime.it entro il giorno antecedente l’evento. \nIn caso di videoconferenza con accessi multipli è necessario contattare la Segreteria Organizzativa per un preventivo personalizzato. \nModalità di funzionamento della videoconferenza \nE’ possibile accedere all’aula virtuale da qualsiasi luogo\, utilizzando il proprio PC o tablet con una semplice connessione a Internet. La piattaforma informatica utilizzata da Optime non necessita di requisiti tecnici particolari. \nNei giorni antecedenti l’evento il partecipante riceverà per posta elettronica le credenziali e le istruzioni di accesso. Il giorno dell’evento sarà sufficiente selezionare il link che troverà nella mail e inserire le credenziali per accedere all’aula virtuale. \nDurante gli interventi\, oltre a vedere e sentire i docenti\, è possibile consultare simultaneamente la documentazione predisposta dal relatore. Ogni utente collegato potrà porre domande sulle tematiche affrontate (attivando il proprio microfono o tramite chat)\, alle quali il docente risponderà nel corso dell’intervento. \nModalità di iscrizione \nL’iscrizione si perfeziona al momento del ricevimento del modulo di registrazione\, da inviare via e-mail all’indirizzo info@optime.it\, integralmente compilato e sottoscritto. Il numero dei collegamenti disponibili è limitato e la priorità d’iscrizione è determinata dalla data di ricezione del modulo di registrazione. Si consiglia pertanto di effettuare una preiscrizione telefonica. \nModalità di pagamento \nLa quota di partecipazione deve essere versata all’atto della presentazione della richiesta di iscrizione e\, in ogni caso\, prima dell’effettuazione dell’evento formativo\, tramite bonifico bancario intestato a:\nParadigma Srl – Corso Vittorio Emanuele II\, 68 – 10121 Torino\nc/o Banco BPM Spa\nIBAN IT 14 V 05034 01017 000000002530 \nFormazione finanziata \nLa quota di partecipazione può essere completamente rimborsata tramite voucher promossi dai Fondi Paritetici Interprofessionali. Optime offre la completa e gratuita gestione delle spese di progettazione\, monitoraggio e rendicontazione. La possibilità di accedere alla formazione finanziata con partecipazione mediante videoconferenza può variare a seconda dell’Ente erogante. \nAttestato di frequenza \nL’attestato di partecipazione nominativo sarà inviato al termine dell’evento formativo ai partecipanti che si sono regolarmente collegati all’aula virtuale. \nDiritto di recesso e modalità di disdetta \nÈ attribuita ai partecipanti la facoltà di recedere ai sensi dell’art. 1373 c.c. Il recesso dovrà essere comunicato in forma scritta almeno sette giorni prima della data di inizio dell’evento formativo (escluso il sabato e la domenica). Qualora la disdetta pervenga oltre tale termine o si verifichi di fatto con il mancato collegamento alla videoconferenza\, la quota di partecipazione sarà addebitata per intero e sarà inviato al partecipante il materiale didattico e\, se disponibile e per un periodo limitato\, la registrazione dell’evento. In qualunque momento l’azienda o lo studio potranno comunque sostituire il partecipante\, comunicando il nuovo nominativo alla nostra Segreteria Oorganizzativa. \nVariazioni di programma \nParadigma\, per ragioni eccezionali e imprevedibili\, si riserva di annullare o modificare la data dell’evento formativo\, dandone comunicazione agli interessati entro tre giorni dalla data di inizio prevista. In tali casi le quote di partecipazione pervenute verranno rimborsate\, con esclusione di qualsivoglia onere o obbligo a carico di Paradigma. Paradigma si riserva inoltre\, per ragioni sopravvenute e per cause di forza maggiore\, di modificare l’articolazione del programma e di sostituire i docenti previsti con altri docenti di pari livello professionale. \nPer ulteriori informazioni è possibile contattare la Segreteria Organizzativa al numero 011.538686 o all’indirizzo e-mail info@optime.it. \n\n\n		\n	\n\n\n	\n		\n			Quota di partecipazione\n	\n		\n			€ 650 + Iva\n\n		\n	\n\n	\n		\n			In caso di videoconferenza con accessi multipli è necessario contattare la Segreteria organizzativa per un preventivo personalizzato. \n\n		\n	\n\n\n		\n	\n\n	\n		\n			\n\n\n\n\n\n\n	\n		\n			Early booking -20%\nInviando il modulo di iscrizione entro il 9 settembre si avrà diritto a una riduzione del 20% sulla quota di partecipazione. \n\n		\n	\n\n\n\n		\n	\n\n	\n		\n			\n\n\n\n\n\n\n	\n		\n			Quota corporate\nIscrivi all’evento 5 o più risorse provenienti dalla stessa organizzazione con una riduzione del 50%. \n\n		\n	\n\n\n\n		\n	\n\n	\n		\n			\n\n		\n	\n\n	\n		\n			\n\n\n\n\n\n\n	\n		\n			Progetto Giovani Eccellenze -50%\nL’adesione all’evento formativo permette di iscrivere una seconda risorsa\, che non abbia compiuto il 30° anno di età e proveniente dalla stessa organizzazione\, con una riduzione del 50% sulla seconda quota di partecipazione. L’agevolazione è calcolata sulla quota ordinaria. \n\n		\n	\n\n\n\n		\n	\n\n	\n		\n			\n\n\n\n\n\n\n	\n		\n			Formazione finanziata\nLa quota di partecipazione all’iniziativa può essere completamente rimborsata tramite voucher promossi dai Fondi Paritetici Interprofessionali. Paradigma offre la completa e gratuita gestione delle spese di progettazione\, monitoraggio e rendiconto. \n\n		\n	\n\n\n\n		\n	\n\n	\n		\n			\n\n\n\n\n\n\n	\n		\n			Mercati elettronici della PA\nParadigma opera sul MePA e sui principali mercati elettronici di soggetti aggregatori e centrali di committenza. \n\n		\n	\n\n\n\n		\n	\n\n	\n		\n			\n	\n\n\n	I campi con (*) sono obbligatori\n	\n		\n		Dati relativi all'evento\n		\n		\n			Partecipazione in aula\n			Partecipazione in videoconferenza\n		\n		\n\n		Dati relativi al richiedente\n		\n		\n		\n		\n		\n		\n		\n		\n\n	\n\n	\n\n		Dati per eventuale partecipante under 30\n		\n		\n		\n\n	\n\n	\n\n		Dati per la fatturazione elettronica\n		\n		\n		\n		\n		\n		\n				\n		\n		\n		  Split Payment:\n          \n            \n              \n              Si \n            No\n          \n        \n		\n		\n		\n		\n	\n\n	\n\n		Per informazioni contattare\n		\n		\n		\n		\n		\n	\n	L'iscrizione all'evento formativo si intende perfezionata al momento del ricevimento\, da parte di Paradigma Srl\, del presente modulo di registrazione compilato in ogni sua parte\, stampato\, firmato e inviato via e-mail all'indirizzo info@paradigma.it. Riceverete via email conferma dell'avvenuta iscrizione. \n\n\n		\n	     Acconsento all'invio di comunicazioni sui servizi Paradigma Srl - Consenso finalizzato\, anche con modalità automatizzate\, all'invio di comunicazioni relative a prodotti e servizi di Paradigma Srl e al fine di ricevere materiale informativo o promozionale.\n	\n	     Acconsento alla personalizzazione delle offerte - Consenso finalizzato\, mediante modalità automatizzate\, a personalizzare i servizi forniti e meglio indirizzare le proposte promozionali grazie ad attività di profilazione.\n	\n	Inviando i dati autorizzi Paradigma Srl a utilizzare i tuoi dati personali per evadere la richiesta di partecipazione all’evento formativo e svolgere le attività a ciò connesse. I dati potranno essere trattati\, per conto di Paradigma Srl\, da dipendenti e collaboratori incaricati di svolgere specifici servizi necessari all’esecuzione delle tue richieste. Il conferimento dei tuoi dati\, pur essendo facoltativo\, si rende necessario per l’esecuzione del servizio richiesto.	\n\n\n\n\n		\n\n\n\n\n\n		\n	\n[/vc_column][/vc_row]
URL:https://paradigma.it/iniziativa/scelta-dei-fornitori-rischi-231-e-misure-di-prevenzione/
CATEGORIES:Compliance, controlli e internal audit
ORGANIZER;CN="Veronica%20Spiez":MAILTO:vspiez@paradigma.it
END:VEVENT
END:VCALENDAR