BEGIN:VCALENDAR
VERSION:2.0
PRODID:-//Paradigma srl - ECPv5.2.1//NONSGML v1.0//EN
CALSCALE:GREGORIAN
METHOD:PUBLISH
X-WR-CALNAME:Paradigma srl
X-ORIGINAL-URL:https://paradigma.it
X-WR-CALDESC:Eventi per Paradigma srl
BEGIN:VTIMEZONE
TZID:Europe/Rome
BEGIN:DAYLIGHT
TZOFFSETFROM:+0100
TZOFFSETTO:+0200
TZNAME:CEST
DTSTART:20220327T010000
END:DAYLIGHT
BEGIN:STANDARD
TZOFFSETFROM:+0200
TZOFFSETTO:+0100
TZNAME:CET
DTSTART:20221030T010000
END:STANDARD
END:VTIMEZONE
BEGIN:VEVENT
DTSTART;TZID=Europe/Rome:20221216T093000
DTEND;TZID=Europe/Rome:20221216T133000
DTSTAMP:20260421T151103
CREATED:20221117T135702Z
LAST-MODIFIED:20221214T144431Z
UID:16689-1671183000-1671197400@paradigma.it
SUMMARY:Revisione prezzi negli appalti tra criticità contingenti e rimedi normativi
DESCRIPTION:[vc_row][vc_column]\n	\n		\n			\n		\n	\n\n	\n		\n			\nProblemi aperti e relativa gestione\nProspettive di riforma dell’istituto nel nuovo Codice\n\nI docenti\, nel corso dell’evento formativo\, risponderanno alle domande e alle richieste di chiarimenti formulate dai partecipanti. Eventuali quesiti potranno essere anticipati inviando una email all’indirizzo info@paradigma.it \n \n\n		\n	\n\n	\n		\n			Evento in videoconferenza \n\n		\n	\n\n	\n		\n			16 dicembre 2022 \n\n		\n	\n\n	\n		\n			 \n\n		\n	\n\n	\n		\n			\n\n		\n	\nPresentazioneProgrammaDocentiBrochureIscrizioni e CondizioniPresentazione\n	\n		\n			Contenuti dell’evento \nIl settore degli appalti pubblici ha risentito inevitabilmente\, come tanti altri ambiti della vita economica e sociale\, delle criticità connesse alle varie emergenze succedutesi negli ultimi due anni\, CoViD-19 e crisi Ucraina in primis. Tra le implicazioni di maggiore impatto di tali vicende vi è\, senza dubbio alcuno\, il variato quadro dei costi che l’appaltatore è chiamato a sostenere\, anche alla luce delle vicende in questione. \nDi tale fattore destabilizzante per il mondo delle commesse pubbliche dovrà necessariamente tenersi conto\, nell’attuale fase\, tanto in occasione dell’indizione di nuove procedure di aggiudicazione\, quanto con riferimento agli appalti già in corso di esecuzione. \nIn tale duplice direzione si è\, d’altra parte\, mosso il Legislatore negli ultimi mesi\, e in particolare con gli ultimi due significativi interventi\, contenuti nel recente D.L. “Ristori-ter” (n. 4/2022) e nel D.L. “Aiuti” (n. 50/2022)\, da un lato con la previsione di meccanismi compensativi per gli appalti in corso\, dall’altro con l’obbligatorietà dell’inserimento delle clausole di revisione dei prezzi all’interno dei bandi di gara. Novità di grande rilievo sono inoltre attese\, sul punto\, dal nuovo Codice dei contratti pubblici\, che vedrà la luce nei prossimi mesi e di cui è già disponibile una prima bozza. \nSulla materia si segnalano altresì gli interventi della giurisprudenza amministrativa e di ANAC\, con importanti contributi in termini di chiarificazione della normativa applicabile. \nL’evento Paradigma si propone di effettuare un approfondito esame del tema\, con adeguata contestualizzazione complessiva dello stesso sul piano normativo\, della giurisprudenza e della prassi operativa delle amministrazioni\, attraverso il contributo di autorevoli esperti. \nDestinatari dell’evento \nL’evento formativo è rivolto ai Responsabili Gare\, ai Responsabili dell’esecuzione contrattuale e agli Uffici Legali e Acquisti degli operatori economici; a tutte le stazioni appaltanti e in particolare ai loro Uffici Gare\, Appalti e Approvvigionamenti\, nonché ai loro Uffici Tecnici; a tutti i professionisti e consulenti che operano nell’ambito delle procedure a evidenza pubblica. \nObiettivi dell’evento \nObiettivo dell’incontro è fornire un adeguato approfondimento del tema dell’aumento dei costi negli appalti pubblici\, a partire da un’esaustiva ricostruzione del quadro normativo e giurisprudenziale e delle problematiche più discusse in materia nell’attuale fase\, contribuendo all’individuazione di soluzioni operative utili ad agevolare l’operato di committenti pubblici e appaltatori rispetto a tale sopravvenienza. \n\n\n		\n	\nProgramma\n	\n		\n			Venerdì 16 dicembre 2022 \nL’evoluzione del quadro normativo di riferimento in materia di revisione prezzi negli appalti pubblici\nLe previsioni del Codice dei contratti pubblici in materia\nLe previsioni extracodicistiche\nLa normativa emergenziale\nLe novità normative più recenti:\n– l’obbligo di inserire la clausola di revisione prezzi nel bando di gara\n(D.L. n. 4/2022\, articolo 29\, comma 1\, lettera a)\n– il sistema di compensazioni previsto per gli appalti con offerta presentata entro\nil 31 Dicembre 2021 e l’inapplicabilità dello stesso alle concessioni (Parere ANAC\, funzione\nconsultiva\, n. 51 del 12 ottobre 2022)\nLe indicazioni del legislatore delegante in vista del nuovo Codice dei contratti pubblici e le previsioni contenute nella bozza di nuovo Codice \nI principi elaborati dalla giurisprudenza\nIl tema\, generale\, della remuneratività dell’importo posto a base di gara: la giurisprudenza più recente al riguardo (Consiglio di Stato\, Sez. III\, n. 3191/2022)\nLe indicazioni giurisprudenziali in materia di rapporto tra revisione prezzi e rischio d’impresa\nL’inapplicabilità della revisione nel caso di rinnovo del contratto\nLa giurisdizione esclusiva del giudice amministrativo in materia (Consiglio di Stato\, Sez. V\, 31 luglio 2019\, n. 5446\, TAR Basilicata\, Sez. I\, 12 maggio 2022\, n. 356)\nLa misura della revisione prezzi alla luce delle rilevazioni delle variazioni percentuali contenute nell’apposito decreto MIT (già MIMS) dell’11 novembre 2021 e i contenziosi in essere (Sent. TAR Lazio-Roma\, Sez. III\, n. 7215/2022; Ord. CdS\, Sez. V\, n. 4936/2022); rapporto tra periculum in mora ed effetto conformativo della sentenza impugnata\nAdeguamento dei corrispettivi contrattuali a fronte di variazione dei costi dei fattori produttivi dipendente da caro energia: il caso esaminato dalla Sent. TAR Lazio-Roma\, Sez. III-Quater\, n. 13695/2022 \n  \nAvv. Daniela Anselmi\nAnselmi & Associati Law Lab \n  \nCaro materiali e bandi PNRR: le conseguenze pratiche\nI margini di manovra delle stazioni appaltanti e le valutazioni da effettuare in sede di istruttoria della procedura di gara\nLe considerazioni da effettuare con riferimento alle procedure già avviate\nL’interlocuzione con gli offerenti rispetto ad eventuali contestazioni sui bandi \nForza maggiore\, eccessiva onerosità sopravvenuta\, ulteriori difficoltà degli operatori economici nel far fronte agli obblighi contrattuali assunti: dai principi civilistici alla loro applicazione concreta in recenti fattispecie\nLe indicazioni della Delibera ANAC n. 227/2022: l’ascrivibilità delle fattispecie ivi considerate (crisi Ucraina; misure di lock-down in Cina) alla forza maggiore; la possibile soluzione della sospensione temporanea dell’esecuzione\nDelimitazione del campo di applicazione: quali le casistiche strettamente riconducibili alle situazioni di crisi anzidette?\nLa valutazione della migliore soluzione praticabile in presenza di eccessiva onerosità sopravvenuta: rinegoziazione o risoluzione?\nL’istanza di recesso dell’aggiudicatario dovuta ai maggiori costi e la revoca dall’aggiudicazione (con incameramento della cauzione provvisoria) da parte del committente: la Sent. TAR Lazio-Roma\, Sez. IV\, n. 5062/2022\nRapporto tra fattispecie di sospensione ex art. 107 CCP e fattispecie di sospensione ex art. 5 L. n. 120/2020 e figure soggettive coinvolte\nLe ADR esperibili \n  \nAvv. Federico Smerchinich\nAnselmi & Associati Law Lab \n\n\n		\n	\nDocenti\n	\n		\n			Avv. Daniela Anselmi\nPartner\nAnselmi & Associati Law Lab \nAvv. Federico Smerchinich\nAnselmi & Associati Law Lab \n\n\n		\n	\nBrochure\n	\n		\n			 Scarica la brochure\n\n		\n	\nIscrizioni e Condizioni\n	\n		\n			Quota di partecipazione \nLa quota di partecipazione in aula virtuale (diretta streaming) include l’invio del materiale didattico in formato elettronico e la possibilità di sottoporre ai relatori quesiti di specifico interesse a mezzo chat. È altresì possibile anticipare domande e richieste di approfondimento inviando una e-mail a info@paradigma.it entro il giorno antecedente l’evento. \nIn caso di videoconferenza con accessi multipli è necessario contattare la Segreteria organizzativa per un preventivo personalizzato. \nModalità di funzionamento della videoconferenza \nE’ possibile accedere all’aula virtuale da qualsiasi luogo\, utilizzando il proprio PC o tablet con una semplice connessione a Internet. La piattaforma informatica utilizzata da Paradigma (Adobe Connect) non necessita di requisiti tecnici particolari. \nNei giorni antecedenti l’evento il partecipante riceverà per posta elettronica le credenziali e le istruzioni di accesso. Il giorno dell’evento sarà sufficiente selezionare il link che troverà nella mail e inserire le credenziali per accedere all’aula virtuale. \nDurante gli interventi\, oltre a vedere e sentire i docenti\, è possibile consultare simultaneamente la documentazione predisposta dal relatore. Ogni utente collegato potrà porre domande sulle tematiche affrontate a mezzo chat\, alle quali il docente risponderà nel corso dell’intervento. \nModalità di iscrizione \nL’iscrizione si perfeziona al momento del ricevimento del modulo di registrazione\, da inviare via e-mail all’indirizzo info@paradigma.it\, integralmente compilato. Il numero dei collegamenti disponibili è limitato e la priorità d’iscrizione è determinata dalla data di ricezione del modulo di registrazione. Si consiglia pertanto di effettuare una preiscrizione telefonica. \nModalità di pagamento \nLa quota di partecipazione deve essere versata all’atto della presentazione della richiesta di iscrizione e\, in ogni caso\, prima dell’effettuazione dell’evento formativo\, tramite bonifico bancario intestato a: \nParadigma Srl – Corso Vittorio Emanuele II\, 68 – 10121 Torino\nc/o Banco BPM Spa\nIBAN IT 14 V 05034 01017 000000002530 \nFormazione finanziata \nLa quota di partecipazione può essere completamente rimborsata tramite voucher promossi dai Fondi Paritetici Interprofessionali. Paradigma offre la completa e gratuita gestione delle spese di progettazione\, monitoraggio e rendicontazione. La possibilità di accedere alla formazione finanziata con partecipazione mediante videoconferenza può variare a seconda dell’Ente erogante. \nAttestato di frequenza \nL’attestato di partecipazione nominativo sarà inviato al termine dell’evento formativo ai partecipanti che si sono regolarmente collegati all’aula virtuale. \nDiritto di recesso e modalità di disdetta \nÈ attribuita ai partecipanti la facoltà di recedere ai sensi dell’art. 1373 c.c. Il recesso dovrà essere comunicato in forma scritta almeno sette giorni prima della data di inizio dell’evento formativo (escluso il sabato e la domenica). Qualora la disdetta pervenga oltre tale termine o si verifichi di fatto con il mancato collegamento alla videoconferenza\, la quota di partecipazione sarà addebitata per intero e sarà inviato al partecipante il materiale didattico. In qualunque momento l’azienda o lo studio potranno comunque sostituire il partecipante\, comunicando il nuovo nominativo alla nostra Segreteria organizzativa. \nVariazioni di programma \nParadigma\, per ragioni eccezionali e imprevedibili\, si riserva di annullare o modificare la data dell’evento formativo\, dandone comunicazione agli interessati entro tre giorni dalla data di inizio prevista. In tali casi le quote di partecipazione pervenute verranno rimborsate\, con esclusione di qualsivoglia onere o obbligo a carico di Paradigma. Paradigma si riserva inoltre\, per ragioni sopravvenute e per cause di forza maggiore\, di modificare l’articolazione del programma e di sostituire i docenti previsti con altri docenti di pari livello professionale. \nPer ulteriori informazioni è possibile contattare la Segreteria organizzativa al numero 011.538686 o all’indirizzo e-mail info@paradigma.it. \n\n\n		\n	\n\n\n	\n		\n			Quota di partecipazione\n	\n		\n			€ 650 + Iva\n\n		\n	\n\n	\n		\n			In caso di videoconferenza con accessi multipli è necessario contattare la Segreteria organizzativa per un preventivo personalizzato. \n\n		\n	\n\n\n		\n	\n\n	\n		\n			\n\n\n\n\n\n\n	\n		\n			Early booking -20% \nInviando il modulo di iscrizione entro il 25 novembre si avrà diritto a una riduzione del 20% sulla quota di partecipazione. \n\n		\n	\n\n\n\n		\n	\n\n	\n		\n			\n\n		\n	\n\n	\n		\n			\n\n		\n	\n\n	\n		\n			\n\n\n\n\n\n\n	\n		\n			Progetto Giovani Eccellenze -50%\nL’adesione all’evento formativo permette di iscrivere una seconda risorsa\, che non abbia compiuto il 30° anno di età e proveniente dalla stessa organizzazione\, con una riduzione del 50% sulla seconda quota di partecipazione. L’agevolazione è calcolata sulla quota ordinaria. \n\n		\n	\n\n\n\n		\n	\n\n	\n		\n			\n\n\n\n\n\n\n	\n		\n			Formazione finanziata\nLa quota di partecipazione all’iniziativa può essere completamente rimborsata tramite voucher promossi dai Fondi Paritetici Interprofessionali. Paradigma offre la completa e gratuita gestione delle spese di progettazione\, monitoraggio e rendiconto. \n\n		\n	\n\n\n\n		\n	\n\n	\n		\n			\n\n\n\n\n\n\n	\n		\n			Mercati elettronici della PA\nParadigma opera sul MePA e sui principali mercati elettronici di soggetti aggregatori e centrali di committenza. \n\n		\n	\n\n\n\n		\n	\n\n	\n		\n			\n	\n\n\n	I campi con (*) sono obbligatori\n	\n		\n		Dati relativi all'evento\n		\n		\n			Partecipazione in aula\n			Partecipazione in videoconferenza\n		\n		\n\n		Dati relativi al richiedente\n		\n		\n		\n		\n		\n		\n		\n		\n\n	\n\n	\n\n		Dati per eventuale partecipante under 30\n		\n		\n		\n\n	\n\n	\n\n		Dati per la fatturazione elettronica\n		\n		\n		\n		\n		\n		\n				\n		\n		\n		  Split Payment:\n          \n            \n              \n              Si \n            No\n          \n        \n		\n		\n		\n		\n	\n\n	\n\n		Per informazioni contattare\n		\n		\n		\n		\n		\n	\n	L'iscrizione all'evento formativo si intende perfezionata al momento del ricevimento\, da parte di Paradigma Srl\, del presente modulo di registrazione compilato in ogni sua parte\, stampato\, firmato e inviato via e-mail all'indirizzo info@paradigma.it. Riceverete via email conferma dell'avvenuta iscrizione. \n\n\n		\n	     Acconsento all'invio di comunicazioni sui servizi Paradigma Srl - Consenso finalizzato\, anche con modalità automatizzate\, all'invio di comunicazioni relative a prodotti e servizi di Paradigma Srl e al fine di ricevere materiale informativo o promozionale.\n	\n	     Acconsento alla personalizzazione delle offerte - Consenso finalizzato\, mediante modalità automatizzate\, a personalizzare i servizi forniti e meglio indirizzare le proposte promozionali grazie ad attività di profilazione.\n	\n	Inviando i dati autorizzi Paradigma Srl a utilizzare i tuoi dati personali per evadere la richiesta di partecipazione all’evento formativo e svolgere le attività a ciò connesse. I dati potranno essere trattati\, per conto di Paradigma Srl\, da dipendenti e collaboratori incaricati di svolgere specifici servizi necessari all’esecuzione delle tue richieste. Il conferimento dei tuoi dati\, pur essendo facoltativo\, si rende necessario per l’esecuzione del servizio richiesto.	\n\n\n\n\n		\n\n\n\n\n\n		\n	\n[/vc_column][/vc_row]
URL:https://paradigma.it/iniziativa/revisione-prezzi-negli-appalti-tra-criticita-contingenti-e-rimedi-normativi/
CATEGORIES:Gare e Appalti
ORGANIZER;CN="Veronica%20Spiez":MAILTO:vspiez@paradigma.it
END:VEVENT
END:VCALENDAR