BEGIN:VCALENDAR
VERSION:2.0
PRODID:-//Paradigma srl - ECPv5.2.1//NONSGML v1.0//EN
CALSCALE:GREGORIAN
METHOD:PUBLISH
X-WR-CALNAME:Paradigma srl
X-ORIGINAL-URL:https://paradigma.it
X-WR-CALDESC:Eventi per Paradigma srl
BEGIN:VTIMEZONE
TZID:Europe/Rome
BEGIN:DAYLIGHT
TZOFFSETFROM:+0100
TZOFFSETTO:+0200
TZNAME:CEST
DTSTART:20230326T010000
END:DAYLIGHT
BEGIN:STANDARD
TZOFFSETFROM:+0200
TZOFFSETTO:+0100
TZNAME:CET
DTSTART:20231029T010000
END:STANDARD
END:VTIMEZONE
BEGIN:VEVENT
DTSTART;TZID=Europe/Rome:20231012T093000
DTEND;TZID=Europe/Rome:20231013T180000
DTSTAMP:20260421T130536
CREATED:20230908T145136Z
LAST-MODIFIED:20231012T102139Z
UID:18656-1697103000-1697220000@paradigma.it
SUMMARY:Report di sostenibilità
DESCRIPTION:[vc_row][vc_column]\n	\n		\n			\n		\n	\n\n	\n		\n			\nStruttura e contenuti\nProcedimento di formazione\nImplementazione dei flussi informativi\nGli ESRS climatico-ambientali\nGli ESRS sociali e la business conduct\nFormato elettronico unico di comunicazione\nRuoli e responsabilità\n\nI docenti\, nel corso dell’evento formativo\, risponderanno alle domande e alle richieste di chiarimenti formulate dai partecipanti. Eventuali quesiti potranno essere anticipati inviando una email all’indirizzo asorba@paradigma.it \n \n\n		\n	\n\n	\n		\n			Evento in videoconferenza \n\n		\n	\n\n	\n		\n			12 e 13 ottobre 2023 \n\n		\n	\n\n	\n		\n			 \n\n		\n	\n\n	\n		\n			\n\n		\n	\nPresentazioneProgrammaDocentiBrochureIscrizioni e CondizioniPresentazione\n	\n		\n			Contenuti dell’evento \nNel corso delle giornate di studio sarà analizzata la disciplina unionale sulla rendicontazione di sostenibilità introdotta dalla Direttiva (UE) 2022/2464 del Parlamento europeo e del Consiglio del 14 dicembre 2022 (Corporate Sustainability Reporting Directive o CSRD). Si affronteranno\, in particolare\, alcuni temi chiave quali: \nl’insieme dei soggetti obbligati al sustainability reporting e la road map per l’applicazione delle nuove regole\nle fasi\, i soggetti coinvolti e i flussi informativi da implementare nel procedimento di formazione del Report di Sostenibilità\nla struttura e i contenuti del Report di sostenibilità\nil dettaglio dei contenuti degli ESRS\nil ruolo del formato elettronico unico di comunicazione (European Single Electronic Format o ESEF) e dell’eXtensible Business Reporting Language (XBRL)\nla connectiveness tra informativa finanziaria e informativa di sostenibilità \nDestinatari dell’evento \nL’evento formativo è rivolto ai Direttori Amministrativi\, ai Responsabili del Servizio Bilancio e ai Sustainability Manager dei principali gruppi finanziari e industriali italiani\, commercialisti e revisori contabili. \nObiettivi dell’evento \nObiettivo dell’incontro è fornire ai partecipanti un quadro dettagliato e completo della disciplina unionale sulla rendicontazione di sostenibilità\, presentando strumenti operativi per adeguarsi alle nuove disposizioni\, attraverso l’analisi di casi concreti e problematiche operative. \n\n\n		\n	\nProgramma\n	\n		\n			Prima giornata\nGiovedì 12 ottobre 2023 \nL’attività di vigilanza ed enforcement delle Autorità di Vigilanza europee e della Consob\nL’attività svolta attualmente dalla Consob sulle DNF\nIl ruolo dell’ESMA\nIl processo di selezione delle società oggetto di verifica\nLe principali tipologie di verifiche svolte\nI possibili impatti derivanti dalla CSRD\nDott.ssa Silvana Anchino\nConsob \nLa nuova Corporate Sustainability Reporting Directive: dalla Dichiarazione non Finanziaria al Report di sostenibilità\nLe nuove disposizioni introdotte dalla CSRD\nLe tempistiche di attuazione\nGli adempimenti in caso di gruppo societario e il ruolo della capogruppo\, anche con riferimento ai paesi non UE\nL’attività dell’EFRAG e le tempistiche di approvazione dei nuovi ESRS\nGli sviluppi della Direttiva Europea sulla Due Diligence di Sostenibilità – CSDD\nIng. Maurizio Russotto\nKPMG \nLa struttura e i contenuti del Report di sostenibilità\nOverview sugli ESRS\nESRS 1 e double materiality\nESRS 2 e cross cutting Standards\nL’informativa in linea con il Regolamento EU Taxonomy\nDott.ssa Roberta Fazi\nEY \nGli ESRS climatico-ambientali\nESRS E1 – Cambiamento climatico\nESRS E2 – Inquinamento\nESRS E3 – Acqua e risorse marine\nESRS E4 – Biodiversità ed ecosistemi\nESRS E5 – Utilizzo di risorse ed economia circolare\nDott.ssa Francesca Bielli\nDeloitte \nGli ESRS sociali e la business conduct\nESRS S1 – Forza lavoro propria\nESRS S2 – Lavoratori nella catena del valore\nESRS S3 – Comunità interessate\nESRS S4 – Consumatori e utilizzatori finali\nESRS G1- Condotta aziendale\nDott.ssa Silvia Lunghi\nPwC \n  \nSeconda giornata\nVenerdì 13 ottobre 2023 \nIl formato elettronico unico di comunicazione per i soggetti obbligati alla rendicontazione di sostenibilità\nIl nuovo formato di redazione della Relazione sulla gestione\nLa marcatura della rendicontazione di sostenibilità\nI principali impatti sul processo di redazione\nProf. Andrea Fradeani\nAssociato di Economia Aziendale \nVerso un corporate reporting: la connectiveness tra informativa finanziaria e informativa di sostenibilità\nIl progetto dell’EFRAG\nIl progetto dello ISSB/IASB\nLe richieste nei principi di sostenibilità sulla connettività delle informazioni\nRating ESG e armonizzazione nel processo di valutazione finanziaria\nDott. Giorgio Alessio Acunzo\nEY\nDocente a contratto in IFRS (ICHEC – LUMSA)\nEFRAG \nLa digital governance del reporting di sostenibilità: fasi\, soggetti coinvolti e implementazione dei flussi informativi\nL’informazione non finanziaria come asset aziendale\nLe tre variabili chiave: timeliness\, integrazione\, auditabilità\nLe fasi del processo e i soggetti coinvolti\nL’implementazione dei flussi informativi\nInternalizzazione o esternalizzazione del processo?\nDott. Alessandro Mantini\nGruppo MFE – MEDIAFOREUROPE \nL’inclusione del Report di sostenibilità all’interno della Relazione sulla gestione. Il ruolo e le responsabilità degli organi societari\nLa collocazione delle informazioni\nIl richiamo ad altri documenti\nLe principali novità per gli organi sociali\nIl procedimento di formazione\nIl ruolo dell’organo amministrativo\, del Collegio sindacale del DP e dell’Assemblea\nI vizi del Report di sostenibilità\nAvv. Leonardo Benvenuto\nAssonime \nLa revisione delle informazioni\, assurance e il ruolo del revisore\nIng. Monica Palumbo\nDeloitte \nAssirevi \nLe modalità attuative e le indicazioni operative per il settore industriale e commerciale\nDott.ssa Carolina Condemi\nTerna \n\n\n		\n	\nDocenti\n	\n		\n			Dott.ssa Silvana Anchino *\nResponsabile\nUfficio Vigilanza Informazione Emittenti\nConsob \nDott. Giorgio Alessio Acunzo\nPartner IFRS Desk – EY\nDocente a contratto in IFRS (ICHEC – LUMSA)\nComponente Rate-Regulated Activities Working Group – EFRAG \nAvv. Leonardo Benvenuto\nDirigente\nArea Diritto Societario\nAssonime \nDott.ssa Francesca Bielli\nManager\nSustainability & Climate Change\nDeloitte \nDott.ssa Carolina Condemi\nComitato Tecnico Financial Reporting Standard\nTerna \nDott.ssa Roberta Fazi\nSenior Manager Climate Change and Sustainability Services\nEY \nProf. Andrea Fradeani\nAssociato di Economia Aziendale\nDottore Commercialista \nDott.ssa Silvia Lunghi\nSenior Manager ESG\nPwC \nDott. Alessandro Mantini\nSustainability Reporting Manager\nGruppo MFE – MEDIAFOREUROPE \nIng. Monica Palumbo\nPartner Sustainability Audit & Assurance – Deloitte\nComponente Commissione Assurance Non Financial Information \nIng. Maurizio Russotto\nSenior Manager Climate Change and Sustainability Services\nKPMG\nAssirevi \n  \n* La relazione è presentata a titolo personale e non impegna l’Ente di appartenenza. In attesa di autorizzazione. \n\n\n		\n	\nBrochure\n	\n		\n			 Scarica la brochure\n\n		\n	\nIscrizioni e Condizioni\n	\n		\n			Quota di partecipazione \nLa quota di partecipazione in aula virtuale (diretta streaming) include l’invio del materiale didattico in formato elettronico e la possibilità di sottoporre ai relatori quesiti di specifico interesse a mezzo chat. È altresì possibile anticipare domande e richieste di approfondimento inviando una e-mail a info@paradigma.it entro il giorno antecedente l’evento. \nIn caso di videoconferenza con accessi multipli è necessario contattare la Segreteria organizzativa per un preventivo personalizzato. \nModalità di funzionamento della videoconferenza \nE’ possibile accedere all’aula virtuale da qualsiasi luogo\, utilizzando il proprio PC o tablet con una semplice connessione a Internet. La piattaforma informatica utilizzata da Paradigma (Adobe Connect) non necessita di requisiti tecnici particolari. \nNei giorni antecedenti l’evento il partecipante riceverà per posta elettronica le credenziali e le istruzioni di accesso. Il giorno dell’evento sarà sufficiente selezionare il link che troverà nella mail e inserire le credenziali per accedere all’aula virtuale. \nDurante gli interventi\, oltre a vedere e sentire i docenti\, è possibile consultare simultaneamente la documentazione predisposta dal relatore. Ogni utente collegato potrà porre domande sulle tematiche affrontate a mezzo chat\, alle quali il docente risponderà nel corso dell’intervento. \nModalità di iscrizione \nL’iscrizione si perfeziona al momento del ricevimento del modulo di registrazione\, da inviare via e-mail all’indirizzo info@paradigma.it\, integralmente compilato. Il numero dei collegamenti disponibili è limitato e la priorità d’iscrizione è determinata dalla data di ricezione del modulo di registrazione. Si consiglia pertanto di effettuare una preiscrizione telefonica. \nModalità di pagamento \nLa quota di partecipazione deve essere versata all’atto della presentazione della richiesta di iscrizione e\, in ogni caso\, prima dell’effettuazione dell’evento formativo\, tramite bonifico bancario intestato a: \nParadigma Srl – Corso Vittorio Emanuele II\, 68 – 10121 Torino\nc/o Banco BPM Spa\nIBAN IT 14 V 05034 01017 000000002530 \nFormazione finanziata \nLa quota di partecipazione può essere completamente rimborsata tramite voucher promossi dai Fondi Paritetici Interprofessionali. Paradigma offre la completa e gratuita gestione delle spese di progettazione\, monitoraggio e rendicontazione. La possibilità di accedere alla formazione finanziata con partecipazione mediante videoconferenza può variare a seconda dell’Ente erogante. \nAttestato di frequenza \nL’attestato di partecipazione nominativo sarà inviato al termine dell’evento formativo ai partecipanti che si sono regolarmente collegati all’aula virtuale. \nDiritto di recesso e modalità di disdetta \nÈ attribuita ai partecipanti la facoltà di recedere ai sensi dell’art. 1373 c.c. Il recesso dovrà essere comunicato in forma scritta almeno sette giorni prima della data di inizio dell’evento formativo (escluso il sabato e la domenica). Qualora la disdetta pervenga oltre tale termine o si verifichi di fatto con il mancato collegamento alla videoconferenza\, la quota di partecipazione sarà addebitata per intero e sarà inviato al partecipante il materiale didattico. In qualunque momento l’azienda o lo studio potranno comunque sostituire il partecipante\, comunicando il nuovo nominativo alla nostra Segreteria organizzativa. \nVariazioni di programma \nParadigma\, per ragioni eccezionali e imprevedibili\, si riserva di annullare o modificare la data dell’evento formativo\, dandone comunicazione agli interessati entro tre giorni dalla data di inizio prevista. In tali casi le quote di partecipazione pervenute verranno rimborsate\, con esclusione di qualsivoglia onere o obbligo a carico di Paradigma. Paradigma si riserva inoltre\, per ragioni sopravvenute e per cause di forza maggiore\, di modificare l’articolazione del programma e di sostituire i docenti previsti con altri docenti di pari livello professionale. \nPer ulteriori informazioni è possibile contattare la Segreteria organizzativa al numero 011.538686 o all’indirizzo e-mail info@paradigma.it. \n\n\n		\n	\n\n\n	\n		\n			Quota di partecipazione\n	\n		\n			€ 1.100 + Iva una giornata€ 2.050 + Iva due giornate\n\n		\n	\n\n	\n		\n			In caso di videoconferenza con accessi multipli è necessario contattare la Segreteria organizzativa per un preventivo personalizzato. \n\n		\n	\n\n\n		\n	\n\n	\n		\n			\n\n\n\n\n\n\n	\n		\n			Early booking -20%\nInviando il modulo di iscrizione entro il 21 settembre si avrà diritto a una riduzione del 20% sulla quota di partecipazione. \n\n		\n	\n\n\n\n		\n	\n\n	\n		\n			\n\n		\n	\n\n	\n		\n			\n\n		\n	\n\n	\n		\n			\n\n\n\n\n\n\n	\n		\n			Progetto Giovani Eccellenze -50%\nL’adesione all’evento formativo permette di iscrivere una seconda risorsa\, che non abbia compiuto il 30° anno di età e proveniente dalla stessa organizzazione\, con una riduzione del 50% sulla seconda quota di partecipazione. L’agevolazione è calcolata sulla quota ordinaria. \n\n		\n	\n\n\n\n		\n	\n\n	\n		\n			\n\n\n\n\n\n\n	\n		\n			Formazione finanziata\nLa quota di partecipazione all’iniziativa può essere completamente rimborsata tramite voucher promossi dai Fondi Paritetici Interprofessionali. Paradigma offre la completa e gratuita gestione delle spese di progettazione\, monitoraggio e rendiconto. \n\n		\n	\n\n\n\n		\n	\n\n	\n		\n			\n\n\n\n\n\n\n	\n		\n			Mercati elettronici della PA\nParadigma opera sul MePA e sui principali mercati elettronici di soggetti aggregatori e centrali di committenza. \n\n		\n	\n\n\n\n		\n	\n\n	\n		\n			\n	\n\n\n	I campi con (*) sono obbligatori\n	\n		\n		Dati relativi all'evento\n		\n		\n			Partecipazione in aula\n			Partecipazione in videoconferenza\n		\n		\n\n		Dati relativi al richiedente\n		\n		\n		\n		\n		\n		\n		\n		\n\n	\n\n	\n\n		Dati per eventuale partecipante under 30\n		\n		\n		\n\n	\n\n	\n\n		Dati per la fatturazione elettronica\n		\n		\n		\n		\n		\n		\n				\n		\n		\n		  Split Payment:\n          \n            \n              \n              Si \n            No\n          \n        \n		\n		\n		\n		\n	\n\n	\n\n		Per informazioni contattare\n		\n		\n		\n		\n		\n	\n	L'iscrizione all'evento formativo si intende perfezionata al momento del ricevimento\, da parte di Paradigma Srl\, del presente modulo di registrazione compilato in ogni sua parte\, stampato\, firmato e inviato via e-mail all'indirizzo info@paradigma.it. Riceverete via email conferma dell'avvenuta iscrizione. \n\n\n		\n	     Acconsento all'invio di comunicazioni sui servizi Paradigma Srl - Consenso finalizzato\, anche con modalità automatizzate\, all'invio di comunicazioni relative a prodotti e servizi di Paradigma Srl e al fine di ricevere materiale informativo o promozionale.\n	\n	     Acconsento alla personalizzazione delle offerte - Consenso finalizzato\, mediante modalità automatizzate\, a personalizzare i servizi forniti e meglio indirizzare le proposte promozionali grazie ad attività di profilazione.\n	\n	Inviando i dati autorizzi Paradigma Srl a utilizzare i tuoi dati personali per evadere la richiesta di partecipazione all’evento formativo e svolgere le attività a ciò connesse. I dati potranno essere trattati\, per conto di Paradigma Srl\, da dipendenti e collaboratori incaricati di svolgere specifici servizi necessari all’esecuzione delle tue richieste. Il conferimento dei tuoi dati\, pur essendo facoltativo\, si rende necessario per l’esecuzione del servizio richiesto.	\n\n\n\n\n		\n\n\n\n\n\n		\n	\n[/vc_column][/vc_row] \n 
URL:https://paradigma.it/iniziativa/report-di-sostenibilita/
CATEGORIES:Bilancio
ORGANIZER;CN="Angela%20Siniscalchi":MAILTO:asiniscalchi@paradigma.it
END:VEVENT
END:VCALENDAR