BEGIN:VCALENDAR
VERSION:2.0
PRODID:-//Paradigma srl - ECPv5.2.1//NONSGML v1.0//EN
CALSCALE:GREGORIAN
METHOD:PUBLISH
X-WR-CALNAME:Paradigma srl
X-ORIGINAL-URL:https://paradigma.it
X-WR-CALDESC:Eventi per Paradigma srl
BEGIN:VTIMEZONE
TZID:Europe/Rome
BEGIN:DAYLIGHT
TZOFFSETFROM:+0100
TZOFFSETTO:+0200
TZNAME:CEST
DTSTART:20260329T010000
END:DAYLIGHT
BEGIN:STANDARD
TZOFFSETFROM:+0200
TZOFFSETTO:+0100
TZNAME:CET
DTSTART:20261025T010000
END:STANDARD
END:VTIMEZONE
BEGIN:VEVENT
DTSTART;TZID=Europe/Rome:20260520T093000
DTEND;TZID=Europe/Rome:20260520T170000
DTSTAMP:20260421T164603
CREATED:20260226T144507Z
LAST-MODIFIED:20260227T113122Z
UID:27250-1779269400-1779296400@paradigma.it
SUMMARY:Piano strategico\, budget  e modelli di controllo risk based
DESCRIPTION:[vc_row][vc_column]\n	\n		\n			\n		\n	\n\n	\n		\n			Guida operativa per la definizione del piano\nBudget e Rolling Forecast: pianificazione continua\nLa valutazione degli investimenti in ottica di creazione di valore\nRelazione tra CFO e CRO nella definizione di Risk-Adjusted Budget Plan\nRisk Appetite e definizione dei target \n \n\n		\n	\n\n	\n		\n			09.30 - 13.30  14.30 - 17.00 \n\n		\n	\n\n	\n		\n			Evento in diretta streaming \n\n		\n	\n\n	\n		\n			 \n\n		\n	\n\n	\n		\n			\n\n		\n	\nPresentazioneProgrammaDocentiBrochureIscrizioni e CondizioniPresentazione\n	\n		\n			Contenuti dell’evento \nL’obiettivo del webinar è fornire un quadro pragmatico e una visione integrata dei processi di pianificazione strategica e programmazione economico-finanziaria in ottica di risk-adjusted. \nIl webinar offre un percorso integrato che guida i partecipanti dalla definizione del piano strategico aziendale alla costruzione di un budget operativo e finanziario corretto per il rischio (risk-adjusted). \nSi parte dall’identificazione della visione\, missione e dei driver di valore dell’impresa\, passando per la definizione degli obiettivi strategici\, dei KPI\, fino alla traduzione in piani d’azione\, budget e proiezioni economico-finanziarie. \nUn capitolo centrale è dedicato alla sostenibilità dei target: come assicurarne la coerenza con gli adeguati assetti organizzativi\, amministrativi e contabili\, e con i framework di rischio adottati dall’azienda. \nIl concetto di risk appetite funge da filo conduttore: viene definito\, declinato per categorie di rischio\, e integrato nella governance della pianificazione\, nella misurazione delle performance attese e nella definizione dei limiti operativi. \nAttraverso casi pratici\, esercitazioni su modelli e discussioni interattive\, i partecipanti svilupperanno competenze concrete per costruire un piano strategico e un budget che non solo siano orientati alla crescita\, ma anche resilienti\, misurabili e in linea con la propensione al rischio dell’impresa. \nDestinatari dell’evento \nL’evento formativo è rivolto ai CFO\, ai Responsabili Controllo Gestione e Pianificazione Strategica\, ai Risk Manager dei principali gruppi finanziari e industriali italiani\, Commercialisti e Consulenti. \nObiettivi dell’evento \nSi fornirà ai partecipanti un vademecum efficace e un metodo pratico per: \n– comprendere e applicare il processo completo di pianificazione strategica\, dalla visione fino alla traduzione in obiettivi e piani d’azione;\n– definire KPI chiari e quantificabili\, con un’attenzione particolare alla sostenibilità (non solo economica\, ma anche ambientale e sociale) e alla coerenza con la strategia aziendale;\n– verificare la “sostenibilità” dei target nel piano strategico e budgetario\, ossia che siano realistici\, in linea con il modello di business\, compatibili con la propensione al rischio e sostenuti da presidi di controllo efficaci;\n– definire e declinare un framework di risk appetite aziendale: identificare soglie\, limiti\, tolleranze e relazionarli al piano strategico e alle risorse disponibili;\n– integrare la governance del rischio\, i controlli interni e l’ERM (Enterprise Risk Management) nel processo di pianificazione e budgeting;\n– costruire un budget operativo e finanziario robusto\, configurato su diversi scenari (ordinario\, rischio\, opportunità) e corretto per il rischio (risk-adjusted);\n– valutazione ed inserimento nel piano strategico dei progetti si sostenibilità: valutazione rischi ed opportunità correlati al progetto e rischi del non implementarlo;\n– valutazione degli investimenti e supporto al “decision makink process”;\n– utilizzare strumenti e modelli per la misurazione della performance corretta per il rischio (es. RAROC\, CF@R\, EVA) e per allocare risorse in funzione del profilo rischio/rendimento;\n– preparare la Relazione sulla gestione e il reporting direzionale in modo che riflettano la strategia\, i target\, i rischi assunti e i controlli attivati;\n– sviluppare una cultura aziendale orientata alla pianificazione strategica\, alla gestione del rischio e alla sostenibilità: consapevolezza dei trade-off tra crescita\, rischio e controllo;\n– implementare un sistema di monitoraggio\, revisione e adattamento continuo del piano strategico e del budget\, in risposta alle variazioni di contesto o di profilo di rischio. \n\n\n		\n	\nProgramma\n	\n		\n			Mercoledì 20 maggio 2026 \n  \nLa definizione della missione\, visione e valori: come collegarli ai driver strategici e alle ambizioni di crescita \nAnalisi SWOT\, PESTEL e scenario planning: comprendere il contesto competitivo\, i trend di mercato e i rischi emergenti \nLa definizione degli obiettivi strategici e dei KPI correlati: scelta delle metriche operative\, finanziarie e sostenibili \nSostenibilità dei target: criteri per verificare che gli obiettivi siano realistici\, allineati al business model e compatibili con il Risk Appetite aziendale \nIntroduzione al framework del Risk Appetite: definizione\, limiti\, tolleranza\, capacità e governance \nL’integrazione tra strategia\, risk management e controlli: trasformare il Risk Appetite in limiti operativi\, indicatori (KRIs)\, processi di monitoraggio \nLa costruzione del budget operativo e finanziario: stime ricavi\, costi\, investimenti\, flussi di cassa \nRisk-Adjusted Budget Plan: applicazione di logiche quali RAROC\, CF@R\, EVA o altri indicatori di performance corretta per il rischio \nGovernance\, adeguati assetti organizzativi e amministrativi: ruolo del Board\, del Comitato rischi\, dei presidi interni \nMonitoraggio\, revisione e comunicazione: come implementare un sistema di review periodica dei target\, come reagire agli scostamenti\, allineare le metriche ESG e controllo dei limiti di Risk Appetite\, nonché integrare il reporting interno ed esterno \n  \nDott. Gustavo Troisi\nFounder\nTroisi&Partners – Consulenze Integrate\nVice Presidente\nANDAF – Associazione Nazionale Direttori Amministrativi e Finanziari \n\n\n		\n	\nDocenti\n	\n		\n			Dott. Gustavo Troisi \nDottore Commercialista e Revisore Legale esperto di finanza aziendale\, pianificazione strategica\, controllo di gestione e risk management\, con una carriera di rilievo sia in ambito accademico che industriale. \nVice Presidente di ANDAF (Associazione Nazionale Direttori Amministrativi e Finanziari)\, membro di AIFIRM (Associazione Italiana Financial and Industrial Risk Managers). \nHa ricoperto ruoli chiave in Enel\, tra cui CFO\, Responsabile Risk Management e Responsabile Controllo di Gestione. In precedenza\, ha maturato sei anni di esperienza in audit e consulenza presso Arthur Andersen. \nFondatore di Troisi&Partners – Consulenze Integrate\, specializzata in consulenza su pianificazione strategica\, finanza\, controllo e sostenibilità. \nDocente in diverse Università italiane e Business School\, quali Rome Business School\, Sapienza Università di Roma\, Università Roma Tre\, Università di Pescara e speaker in contesti internazionali. \n\n\n		\n	\nBrochure\n	\n		\n			 Scarica la brochure\n\n		\n	\nIscrizioni e Condizioni\n	\n		\n			Quota di partecipazione \nLa quota di partecipazione in diretta streaming include la fruizione degli interventi\, nonché la possibilità di scaricare\, in formato elettronico\, il materiale didattico che i relatori riterranno di mettere a disposizione. \nÈ inoltre prevista la possibilità di rivolgere contestualmente domande ai docenti (attivando il proprio microfono o tramite chat)\, oppure sottoporle in via preventiva\, inviando una e-mail a info@paradigma.it entro il giorno antecedente l’evento. \nIn caso di diretta streaming con accessi multipli è necessario contattare la Segreteria Organizzativa per un preventivo personalizzato. \nModalità di funzionamento della diretta streaming \nLe iniziative formative sono fruibili in diretta streaming attraverso un semplice collegamento alla piattaforma dedicata. La piattaforma è strutturata per garantire un ottimo livello di fruizione e interazione e non necessita di particolari requisiti tecnici. \nAlcuni giorni prima dell’evento il partecipante riceve le istruzioni di accesso e sarà sufficiente selezionare il link ricevuto per accedere all’aula virtuale. \nGli interventi in diretta streaming sono supportati dalle slide predisposte dal docente. Ogni utente collegato potrà intervenire formulando domande o richieste di approfondimento attivando il proprio microfono o utilizzando la chat dedicata. \nModalità di iscrizione \nL’iscrizione si perfeziona al momento del ricevimento del modulo di registrazione\, da inviare via e-mail all’indirizzo info@paradigma.it\, integralmente compilato e sottoscritto. Il numero dei collegamenti disponibili è limitato e la priorità d’iscrizione è determinata dalla data di ricezione del modulo di registrazione. Si consiglia pertanto di effettuare una preiscrizione telefonica. \nModalità di pagamento \nLa quota di partecipazione deve essere versata all’atto della presentazione della richiesta di iscrizione e\, in ogni caso\, prima dell’effettuazione dell’evento formativo\, tramite bonifico bancario intestato a: \nParadigma Srl – Corso Vittorio Emanuele II\, 68 – 10121 Torino\nc/o Banco BPM Spa\nIBAN IT 14 V 05034 01017 000000002530 \nFormazione finanziata \nLa quota di partecipazione può essere completamente rimborsata tramite voucher promossi dai Fondi Paritetici Interprofessionali. Paradigma offre la completa e gratuita gestione delle spese di progettazione\, monitoraggio e rendicontazione. La possibilità di accedere alla formazione finanziata con partecipazione mediante diretta streaming può variare a seconda dell’Ente erogante. \nAttestato di frequenza \nL’attestato di partecipazione nominativo sarà inviato al termine dell’evento formativo ai partecipanti che si sono regolarmente collegati all’aula virtuale. \nDiritto di recesso e modalità di disdetta \nÈ attribuita ai partecipanti la facoltà di recedere ai sensi dell’art. 1373 c.c. Il recesso dovrà essere comunicato in forma scritta almeno sette giorni prima della data di inizio dell’evento formativo (escluso il sabato e la domenica). Qualora la disdetta pervenga oltre tale termine o si verifichi di fatto con il mancato collegamento alla diretta streaming\, la quota di partecipazione sarà addebitata per intero e sarà inviato al partecipante il materiale didattico e\, se disponibile e per un periodo limitato\, la registrazione dell’evento. In qualunque momento l’azienda o lo studio potranno comunque sostituire il partecipante\, comunicando il nuovo nominativo alla nostra Segreteria Organizzativa. \nVariazioni di programma \nParadigma\, per ragioni eccezionali e imprevedibili\, si riserva di annullare o modificare la data dell’evento formativo\, dandone comunicazione agli interessati entro tre giorni dalla data di inizio prevista. In tali casi le quote di partecipazione pervenute verranno rimborsate\, con esclusione di qualsivoglia onere o obbligo a carico di Paradigma. Paradigma si riserva inoltre\, per ragioni sopravvenute e per cause di forza maggiore\, di modificare l’articolazione del programma e di sostituire i docenti previsti con altri docenti di pari livello professionale. \nPer ulteriori informazioni è possibile contattare la Segreteria Organizzativa al numero 011.538686 o all’indirizzo e-mail info@paradigma.it. \n\n\n		\n	\n\n\n	\n		\n			Quota di partecipazione\n	\n		\n			€ 1.100 + Iva\n\n		\n	\n\n	\n		\n			In caso di videoconferenza con accessi multipli è necessario contattare la Segreteria organizzativa per un preventivo personalizzato. \n\n		\n	\n\n\n		\n	\n\n	\n		\n			\n\n\n\n\n\n\n	\n		\n			Early booking -20%\nInviando il modulo di iscrizione entro il 29 aprile si avrà diritto a una riduzione del 20% sulla quota di partecipazione. \n\n		\n	\n\n\n\n		\n	\n\n	\n		\n			\n\n\n\n\n\n\n	\n		\n			Quota corporate\nIscrivi all’evento 5 o più risorse provenienti dalla stessa organizzazione con una riduzione del 50%. \n\n		\n	\n\n\n\n		\n	\n\n	\n		\n			\n\n		\n	\n\n	\n		\n			\n\n\n\n\n\n\n	\n		\n			Progetto Giovani Eccellenze -50%\nL’adesione all’evento formativo permette di iscrivere una seconda risorsa\, che non abbia compiuto il 30° anno di età e proveniente dalla stessa organizzazione\, con una riduzione del 50% sulla seconda quota di partecipazione. L’agevolazione è calcolata sulla quota ordinaria. \n\n		\n	\n\n\n\n		\n	\n\n	\n		\n			\n\n\n\n\n\n\n	\n		\n			Formazione finanziata\nLa quota di partecipazione all’iniziativa può essere completamente rimborsata tramite voucher promossi dai Fondi Paritetici Interprofessionali. Paradigma offre la completa e gratuita gestione delle spese di progettazione\, monitoraggio e rendiconto. \n\n		\n	\n\n\n\n		\n	\n\n	\n		\n			\n\n\n\n\n\n\n	\n		\n			Mercati elettronici della PA\nParadigma opera sul MePA e sui principali mercati elettronici di soggetti aggregatori e centrali di committenza. \n\n		\n	\n\n\n\n		\n	\n\n	\n		\n			\n	\n\n\n	I campi con (*) sono obbligatori\n	\n		\n		Dati relativi all'evento\n		\n		\n			Partecipazione in aula\n			Partecipazione in videoconferenza\n		\n		\n\n		Dati relativi al richiedente\n		\n		\n		\n		\n		\n		\n		\n		\n\n	\n\n	\n\n		Dati per eventuale partecipante under 30\n		\n		\n		\n\n	\n\n	\n\n		Dati per la fatturazione elettronica\n		\n		\n		\n		\n		\n		\n				\n		\n		\n		  Split Payment:\n          \n            \n              \n              Si \n            No\n          \n        \n		\n		\n		\n		\n	\n\n	\n\n		Per informazioni contattare\n		\n		\n		\n		\n		\n	\n	L'iscrizione all'evento formativo si intende perfezionata al momento del ricevimento\, da parte di Paradigma Srl\, del presente modulo di registrazione compilato in ogni sua parte\, stampato\, firmato e inviato via e-mail all'indirizzo info@paradigma.it. Riceverete via email conferma dell'avvenuta iscrizione. \n\n\n		\n	     Acconsento all'invio di comunicazioni sui servizi Paradigma Srl - Consenso finalizzato\, anche con modalità automatizzate\, all'invio di comunicazioni relative a prodotti e servizi di Paradigma Srl e al fine di ricevere materiale informativo o promozionale.\n	\n	     Acconsento alla personalizzazione delle offerte - Consenso finalizzato\, mediante modalità automatizzate\, a personalizzare i servizi forniti e meglio indirizzare le proposte promozionali grazie ad attività di profilazione.\n	\n	Inviando i dati autorizzi Paradigma Srl a utilizzare i tuoi dati personali per evadere la richiesta di partecipazione all’evento formativo e svolgere le attività a ciò connesse. I dati potranno essere trattati\, per conto di Paradigma Srl\, da dipendenti e collaboratori incaricati di svolgere specifici servizi necessari all’esecuzione delle tue richieste. Il conferimento dei tuoi dati\, pur essendo facoltativo\, si rende necessario per l’esecuzione del servizio richiesto.	\n\n\n\n\n		\n\n\n\n\n\n		\n	\n[/vc_column][/vc_row]
URL:https://paradigma.it/iniziativa/piano-strategico-budget-e-modelli-di-controllo-risk-based/
CATEGORIES:Bilancio
END:VEVENT
END:VCALENDAR