BEGIN:VCALENDAR
VERSION:2.0
PRODID:-//Paradigma srl - ECPv5.2.1//NONSGML v1.0//EN
CALSCALE:GREGORIAN
METHOD:PUBLISH
X-WR-CALNAME:Paradigma srl
X-ORIGINAL-URL:https://paradigma.it
X-WR-CALDESC:Eventi per Paradigma srl
BEGIN:VTIMEZONE
TZID:Europe/Rome
BEGIN:DAYLIGHT
TZOFFSETFROM:+0100
TZOFFSETTO:+0200
TZNAME:CEST
DTSTART:20240331T010000
END:DAYLIGHT
BEGIN:STANDARD
TZOFFSETFROM:+0200
TZOFFSETTO:+0100
TZNAME:CET
DTSTART:20241027T010000
END:STANDARD
END:VTIMEZONE
BEGIN:VEVENT
DTSTART;TZID=Europe/Rome:20240530T093000
DTEND;TZID=Europe/Rome:20240530T180000
DTSTAMP:20260421T145652
CREATED:20240422T105245Z
LAST-MODIFIED:20240528T130430Z
UID:20438-1717061400-1717092000@paradigma.it
SUMMARY:Patti parasociali
DESCRIPTION:[vc_row][vc_column]\n	\n		\n			\n		\n	\n\n	\n		\n			\nDisciplina\, organizzazione e redazione delle clausole\n\nI docenti\, nel corso dell’evento formativo\, risponderanno alle domande e alle richieste di chiarimenti formulate dai partecipanti. Eventuali quesiti potranno essere anticipati inviando una email all’indirizzo asorba@paradigma.it \n \n\n		\n	\n\n	\n		\n			Evento in videoconferenza \n\n		\n	\n\n	\n		\n			30 maggio 2024 \n\n		\n	\n\n	\n		\n			 \n\n		\n	\n\n	\n		\n			\n\n		\n	\nPresentazioneProgrammaDocentiBrochureIscrizioni e CondizioniPresentazione\n	\n		\n			Contenuti dell’evento \nNel corso della giornata di studi sarà analizzata la recente evoluzione normativa e giurisprudenziale in materia di patti parasociali\, definendo\, anche alla luce della recente prassi operativa\, i profili organizzativi e le modalità di predisposizione delle principali clausole. \nNello specifico\, sarà presentata la disciplina e la struttura delle principali tipologie di patto parasociale (sindacati di voto\, sindacati di blocco\, patti per l’esercizio del controllo)\, le misure antistallo e le responsabilità per inadempimento. \nDestinatari dell’evento \nL’evento formativo è rivolto ai Responsabili degli Affari Legali e Societari\, ai Responsabili della Segreteria Societaria\, ai General Counsel di tutte le società\, quotate e non quotate\, nonchè e ai professionisti esterni che operano nel settore societario e supportano le aziende nelle decisioni strategiche (Avvocati\, Commercialisti e Notai). \nObiettivi dell’evento \nObiettivo dell’incontro è fornire ai partecipanti un quadro dettagliato e completo della disciplina\, dei profili organizzativi e della struttura dei patti parasociali\, attraverso l’analisi di casi concreti e problematiche operative. \n\n\n		\n	\nProgramma\n	\n		\n			Giovedì 30 maggio 2024 \nAutonomia e funzionamento dei patti parasociali \nLe tipologie di patto parasociale\nI patti parasociali e le maggioranze assembleari\nI patti parasociali nei diversi tipi di società\nLa formalizzazione del patto e i patti parasociali taciti\nLa durata e la pubblicità nelle società non quotate\nProf. Avv. Oreste Cagnasso\nUniversità di Torino \nL’efficacia e la responsabilità per inadempimento\nEfficacia obbligatoria e meccanismi per la certezza dell’adempimento: intestazione fiduciaria\, intestazioni societaria\, trust\nI patti a favore della società\nLa circolazione delle partecipazioni dentro e fuori dal patto\nL’inadempimento: esclusione dal patto\, risarcimento del danno\, clausole penali\nProvvedimenti d’urgenza per la corretta esecuzione del patto\nProf. Avv. Silvia Vanoni\nUniversità Cattolica del Sacro Cuore di Milano\nStudio Legale Vanoni \nL’organizzazione del patto parasociale\nL’Assemblea dei partecipanti\nLa Direzione del patto\nLa Segreteria\nL’esecuzione delle decisioni assunte dal patto\nProf. Avv. Mario Paccoia\nUniversità di Milano Bicocca \nI sindacati di blocco e i sindacati di voto\nClausole di gradimento\nClausole di prelazione\nClausole put and call\nClausole drag/tag along\nI sindacati di sola consultazione\nIl voto del socio in conflitti di interessi\nL’esercizio del diritto di voto in Assemblea: l’eventuale motivazione del voto\nI vizi delle decisioni del patto e le conseguenze\nIl voto difforme rispetto alla decisione del patto\nProf. Avv. Ivan Demuro\nUniversità Cattolica del Sacro Cuore di Piacenza \nI patti per l’esercizio del controllo\nI sindacati di concerto e i sindacati di gestione: l’esercizio dell’influenza dominante sulla società\nL’influenza sulla gestione nella Spa: rapporti con l’organo amministrativo\nL’influenza sulla gestione nella Srl: tra patti parasociali e statuto\nL’integrazione del “controllo congiunto” e l’influenza sul gruppo\nLe clausole esonerative di responsabilità degli amministratori\nProf. Avv. Ivan Demuro\nUniversità Cattolica del Sacro Cuore di Piacenza \nLe misure antistallo: prevenzione e soluzioni del dead-lock\nLo stallo del patto: le conseguenze della non decisione\nI dissidi tra soci paritari: gestione parasociale\nI contrasti tra soci: gestione parasociale e soluzione transattiva\nL’arbitraggio economico nella Srl e nella Spa\nL’arbitrato nei patti parasociali\nProf. Avv. Nicola Soldati\nUniversità di Bologna \n\n\n		\n	\nDocenti\n	\n		\n			Prof. Avv. Oreste Cagnasso\nEmerito di Diritto Commerciale\nUniversità di Torino \nProf. Avv. Ivan Demuro\nAssociato di Diritto Commerciale\nUniversità Cattolica del Sacro Cuore di Piacenza\nStudio Legale Demuro Russo \nProf. Avv. Mario Paccoia\nDocente a contratto di Diritto Commerciale\nUniversità di Milano Bicocca\nPartner\nStudio Legale Vassalli \nProf. Avv. Nicola Soldati\nAssociato di Diritto dell’Economia\nUniversità di Bologna\nFounding Partner\nStudio Legale Soldati \nProf. Avv. Silvia Vanoni\nOrdinario di Diritto Commerciale\nUniversità Cattolica del Sacro Cuore di Milano\nFounding Partner\nStudio Legale Vanoni \n\n\n		\n	\nBrochure\n	\n		\n			 Scarica la brochure\n\n		\n	\nIscrizioni e Condizioni\n	\n		\n			Quota di partecipazione \nLa quota di partecipazione in aula virtuale (diretta streaming) include la fruizione in diretta delle docenze\, nonché l’invio\, in formato elettronico\, del materiale didattico che i relatori riterranno di mettere a disposizione. È inoltre prevista la possibilità di presentare in diretta domande e quesiti di specifico interesse a mezzo chat\, nonché di sottoporli in via preventiva\, inviando una email a info@paradigma.it entro il giorno antecedente l’evento. \nIn caso di videoconferenza con accessi multipli è necessario contattare la Segreteria organizzativa per un preventivo personalizzato. \nModalità di funzionamento della videoconferenza \nE’ possibile accedere all’aula virtuale da qualsiasi luogo\, utilizzando il proprio PC o tablet con una semplice connessione a Internet. La piattaforma informatica utilizzata da Paradigma (Adobe Connect) non necessita di requisiti tecnici particolari. \nNei giorni antecedenti l’evento il partecipante riceverà per posta elettronica le credenziali e le istruzioni di accesso. Il giorno dell’evento sarà sufficiente selezionare il link che troverà nella mail e inserire le credenziali per accedere all’aula virtuale. \nDurante gli interventi\, oltre a vedere e sentire i docenti\, è possibile consultare simultaneamente la documentazione predisposta dal relatore. Ogni utente collegato potrà porre domande sulle tematiche affrontate a mezzo chat\, alle quali il docente risponderà nel corso dell’intervento. \nModalità di iscrizione \nL’iscrizione si perfeziona al momento del ricevimento del modulo di registrazione\, da inviare via e-mail all’indirizzo info@paradigma.it\, integralmente compilato. Il numero dei collegamenti disponibili è limitato e la priorità d’iscrizione è determinata dalla data di ricezione del modulo di registrazione. Si consiglia pertanto di effettuare una preiscrizione telefonica. \nModalità di pagamento \nLa quota di partecipazione deve essere versata all’atto della presentazione della richiesta di iscrizione e\, in ogni caso\, prima dell’effettuazione dell’evento formativo\, tramite bonifico bancario intestato a: \nParadigma Srl – Corso Vittorio Emanuele II\, 68 – 10121 Torino\nc/o Banco BPM Spa\nIBAN IT 14 V 05034 01017 000000002530 \nFormazione finanziata \nLa quota di partecipazione può essere completamente rimborsata tramite voucher promossi dai Fondi Paritetici Interprofessionali. Paradigma offre la completa e gratuita gestione delle spese di progettazione\, monitoraggio e rendicontazione. La possibilità di accedere alla formazione finanziata con partecipazione mediante videoconferenza può variare a seconda dell’Ente erogante. \nAttestato di frequenza \nL’attestato di partecipazione nominativo sarà inviato al termine dell’evento formativo ai partecipanti che si sono regolarmente collegati all’aula virtuale. \nDiritto di recesso e modalità di disdetta \nÈ attribuita ai partecipanti la facoltà di recedere ai sensi dell’art. 1373 c.c. Il recesso dovrà essere comunicato in forma scritta almeno sette giorni prima della data di inizio dell’evento formativo (escluso il sabato e la domenica). Qualora la disdetta pervenga oltre tale termine o si verifichi di fatto con il mancato collegamento alla videoconferenza\, la quota di partecipazione sarà addebitata per intero e sarà inviato al partecipante il materiale didattico. In qualunque momento l’azienda o lo studio potranno comunque sostituire il partecipante\, comunicando il nuovo nominativo alla nostra Segreteria organizzativa. \nVariazioni di programma \nParadigma\, per ragioni eccezionali e imprevedibili\, si riserva di annullare o modificare la data dell’evento formativo\, dandone comunicazione agli interessati entro tre giorni dalla data di inizio prevista. In tali casi le quote di partecipazione pervenute verranno rimborsate\, con esclusione di qualsivoglia onere o obbligo a carico di Paradigma. Paradigma si riserva inoltre\, per ragioni sopravvenute e per cause di forza maggiore\, di modificare l’articolazione del programma e di sostituire i docenti previsti con altri docenti di pari livello professionale. \nPer ulteriori informazioni è possibile contattare la Segreteria organizzativa al numero 011.538686 o all’indirizzo e-mail info@paradigma.it. \n\n\n		\n	\n\n\n	\n		\n			Quota di partecipazione\n	\n		\n			€ 1.100 + Iva\n\n		\n	\n\n	\n		\n			In caso di videoconferenza con accessi multipli è necessario contattare la Segreteria organizzativa per un preventivo personalizzato. \n\n		\n	\n\n\n		\n	\n\n	\n		\n			\n\n\n\n\n\n\n	\n		\n			Early booking -20%\nInviando il modulo di iscrizione entro il 9 maggio si avrà diritto a una riduzione del 20% sulla quota di partecipazione. \n\n		\n	\n\n\n\n		\n	\n\n	\n		\n			\n\n		\n	\n\n	\n		\n			\n\n		\n	\n\n	\n		\n			\n\n\n\n\n\n\n	\n		\n			Progetto Giovani Eccellenze -50%\nL’adesione all’evento formativo permette di iscrivere una seconda risorsa\, che non abbia compiuto il 30° anno di età e proveniente dalla stessa organizzazione\, con una riduzione del 50% sulla seconda quota di partecipazione. L’agevolazione è calcolata sulla quota ordinaria. \n\n		\n	\n\n\n\n		\n	\n\n	\n		\n			\n\n\n\n\n\n\n	\n		\n			Formazione finanziata\nLa quota di partecipazione all’iniziativa può essere completamente rimborsata tramite voucher promossi dai Fondi Paritetici Interprofessionali. Paradigma offre la completa e gratuita gestione delle spese di progettazione\, monitoraggio e rendiconto. \n\n		\n	\n\n\n\n		\n	\n\n	\n		\n			\n\n\n\n\n\n\n	\n		\n			Mercati elettronici della PA\nParadigma opera sul MePA e sui principali mercati elettronici di soggetti aggregatori e centrali di committenza. \n\n		\n	\n\n\n\n		\n	\n\n	\n		\n			\n	\n\n\n	I campi con (*) sono obbligatori\n	\n		\n		Dati relativi all'evento\n		\n		\n			Partecipazione in aula\n			Partecipazione in videoconferenza\n		\n		\n\n		Dati relativi al richiedente\n		\n		\n		\n		\n		\n		\n		\n		\n\n	\n\n	\n\n		Dati per eventuale partecipante under 30\n		\n		\n		\n\n	\n\n	\n\n		Dati per la fatturazione elettronica\n		\n		\n		\n		\n		\n		\n				\n		\n		\n		  Split Payment:\n          \n            \n              \n              Si \n            No\n          \n        \n		\n		\n		\n		\n	\n\n	\n\n		Per informazioni contattare\n		\n		\n		\n		\n		\n	\n	L'iscrizione all'evento formativo si intende perfezionata al momento del ricevimento\, da parte di Paradigma Srl\, del presente modulo di registrazione compilato in ogni sua parte\, stampato\, firmato e inviato via e-mail all'indirizzo info@paradigma.it. Riceverete via email conferma dell'avvenuta iscrizione. \n\n\n		\n	     Acconsento all'invio di comunicazioni sui servizi Paradigma Srl - Consenso finalizzato\, anche con modalità automatizzate\, all'invio di comunicazioni relative a prodotti e servizi di Paradigma Srl e al fine di ricevere materiale informativo o promozionale.\n	\n	     Acconsento alla personalizzazione delle offerte - Consenso finalizzato\, mediante modalità automatizzate\, a personalizzare i servizi forniti e meglio indirizzare le proposte promozionali grazie ad attività di profilazione.\n	\n	Inviando i dati autorizzi Paradigma Srl a utilizzare i tuoi dati personali per evadere la richiesta di partecipazione all’evento formativo e svolgere le attività a ciò connesse. I dati potranno essere trattati\, per conto di Paradigma Srl\, da dipendenti e collaboratori incaricati di svolgere specifici servizi necessari all’esecuzione delle tue richieste. Il conferimento dei tuoi dati\, pur essendo facoltativo\, si rende necessario per l’esecuzione del servizio richiesto.	\n\n\n\n\n		\n\n\n\n\n\n		\n	\n[/vc_column][/vc_row]
URL:https://paradigma.it/iniziativa/patti-parasociali-7/
CATEGORIES:Governance e Diritto Societario
ORGANIZER;CN="Angela%20Siniscalchi":MAILTO:asiniscalchi@paradigma.it
END:VEVENT
END:VCALENDAR