BEGIN:VCALENDAR
VERSION:2.0
PRODID:-//Paradigma srl - ECPv5.2.1//NONSGML v1.0//EN
CALSCALE:GREGORIAN
METHOD:PUBLISH
X-WR-CALNAME:Paradigma srl
X-ORIGINAL-URL:https://paradigma.it
X-WR-CALDESC:Eventi per Paradigma srl
BEGIN:VTIMEZONE
TZID:Europe/Rome
BEGIN:DAYLIGHT
TZOFFSETFROM:+0100
TZOFFSETTO:+0200
TZNAME:CEST
DTSTART:20250330T010000
END:DAYLIGHT
BEGIN:STANDARD
TZOFFSETFROM:+0200
TZOFFSETTO:+0100
TZNAME:CET
DTSTART:20251026T010000
END:STANDARD
END:VTIMEZONE
BEGIN:VEVENT
DTSTART;TZID=Europe/Rome:20250527T093000
DTEND;TZID=Europe/Rome:20250527T163000
DTSTAMP:20260421T205608
CREATED:20250418T142806Z
LAST-MODIFIED:20250523T140203Z
UID:22962-1748338200-1748363400@paradigma.it
SUMMARY:Operazioni sui crediti in sofferenza  dopo la Secondary Market Directive e la relativa attuazione nazionale
DESCRIPTION:[vc_row][vc_column]\n	\n		\n			\n		\n	\n\n	\n		\n			Decreto Legislativo n. 116/2024\nDisposizioni di vigilanza Banca d’Italia 13/2/2025 \nImpatto sulla cessione dei crediti deteriorati\nI nuovi intermediari\nLe previsioni in materia di trasparenza e rapporti con i clienti\nRiflessi sul mercato delle cartolarizzazioni \n \n\n		\n	\n\n	\n		\n			09.30 - 13.30  14.30 - 16.30 \n\n		\n	\n\n	\n		\n			Evento in diretta streaming \n\n		\n	\n\n	\n		\n			 \n\n		\n	\n\n	\n		\n			\n\n		\n	\nPresentazioneProgrammaDocentiBrochureIscrizioni e CondizioniPresentazione\n	\n		\n			Contenuti dell’evento \nNel corso dell’evento di Paradigma verranno approfonditi i profili di maggiore interesse\, sul piano regolatorio\, giurisprudenziale e operativo\, inerenti il settore dei crediti in sofferenza e delle operazioni di gestione\, cessione e cartolarizzazione. \nSignificative novità sono state introdotte nell’ultimo anno dalle disposizioni di recepimento (D. Lgs. n. 116/2024) della Direttiva (UE) 2021/2167\, meglio nota come “SMD”\, avente ad oggetto la disciplina dei gestori e degli acquirenti di crediti e finalizzata a migliorare l’efficienza e la trasparenza nel mercato degli NPL\, attraverso nuove figure di intermediari specializzati e nuove tutele per i debitori. Il quadro regolatorio è poi stato completato dalle Disposizioni di vigilanza per la gestione di crediti in sofferenza emanate da Banca di Italia il 13 febbraio u.s. \nIl recepimento attuato dal Legislatore nazionale\, sfruttando i margini di flessibilità previsti dalla Direttiva\, prevede che la liberalizzazione della cessione sia circoscritta ai soli crediti classificabili come “in sofferenza” ai sensi delle disposizioni attuative della Banca d’Italia. Le altre scelte di maggiore rilevanza operate dal Legislatore nazionale e dalla Banca d’Italia nelle Disposizioni di vigilanza saranno dettagliatamente approfondite nel corso del webinar. \nDestinatari dell’evento \nL’evento formativo è rivolto ai Responsabili e agli Addetti dell’Area Crediti\, dell’Area NPL\, dell’Area Finanza\, Legale e Compliance\, CRO\, CFO e Direzioni Generali di banche e operatori specializzati nelle operazioni di cartolarizzazione\, nonché al Management e ai Responsabili e agli Addetti Legali e Fiscali delle ReoCo e delle SPV ex L. n. 130 e ai Responsabili e ai Responsabili e agli Addetti del settore Finance di tutti i soggetti le cui emissioni obbligazionarie costituiranno possibile oggetto di tali operazioni\, e agli avvocati e consulenti esperti del settore. \nObiettivi dell’evento \nObiettivo dell’incontro è quello di fornire un quadro aggiornato e approfondito del regime giuridico delle operazioni aventi ad oggetto i crediti in sofferenza\, evidenziandone opportunità e criticità e tenendo conto delle recenti novità normative e delle indicazioni provenienti dalla prassi applicativa. \n\n\n		\n	\nProgramma\n	\n		\n			Martedì 27 maggio 2025 \nGli acquirenti di crediti in sofferenza\nLa liberalizzazione della possibilità di acquisto dei crediti in sofferenza bancari e finanziari\nLe limitazioni previste dalla normativa italiana e la natura giuridica dell’acquirente di crediti in sofferenza\nLe casistiche delle esclusioni: i soggetti che non possono comprare crediti in sofferenza in Italia\nL’obbligo di nominare un gestore di crediti in sofferenza autorizzato\nI requisiti del contratto di gestione di crediti in sofferenza\nL’acquisto di crediti in sofferenza da parte di soggetti aventi sede in uno Stato terzo\nAvv. Francesco Dialti\nCBA \nGli impatti della SMD sui rapporti tra investitori e servicer: una visione sulle prospettive del mercato\nAvv. Tommaso Delitala\nAMCO \nIl nuovo Albo dei gestori di crediti in sofferenza\nL’attività di “gestione di crediti in sofferenza”\nLa riserva di attività per la gestione di crediti deteriorati e i soggetti titolari di licenza ex art. 115 TULPS\nL’esternalizzazione dell’attività di recupero ai soggetti titolari di licenza ex art. 115 TULPS\nIl regime transitorio\nAvv. Alberto Prade\nPedersoliGattai\n \nL’iscrizione all’albo dei gestori di crediti in sofferenza \nI requisiti richiesti dalla legge e dalla Banca d’Italia nelle disposizioni di vigilanza pubblicate in G.U. il 7 marzo 2025 e il procedimento di iscrizione\nL’autorizzazione dei gestori di crediti in sofferenza alla detenzione dei fondi ricevuti dai debitori\nLe attività esercitabili\, le attività connesse e strumentali\, gli investimenti in beni immobili\nL’operatività transfrontaliera\nLe comunicazioni e segnalazioni alla Banca d’Italia\nAvv. Fabio Coco\nADVANT Nctm \nLe tutele in favore dei debitori ceduti\nI principi generali di condotta\nL’informativa ai debitori ceduti\nI reclami e gli esposti\nLe modifiche alle disposizioni trasparenza bancaria\nLe disposizioni specifiche sul credito ai consumatori\nProf. Avv. Giorgio Afferni\nUniversità di Genova \nL’impatto sulle operazioni di cessione dei crediti e sulle operazioni di cartolarizzazione \nLa disciplina applicabile all’acquirente estero\nL’informativa ai potenziali acquirenti di crediti in sofferenza\nL’ambito di applicazione del Regolamento di Esecuzione 2023/2083\nL’informativa da fornire in caso di cessione di crediti in sofferenza\nL’impatto sulle operazioni di cartolarizzazione\nAvv. Fabrizio Occhipinti\niLS Milan\nAvv. Norman Pepe\niLS Milan\niLS London \n\n\n		\n	\nDocenti\n	\n		\n			Prof. Avv. Giorgio Afferni\nAssociato di Diritto Privato\nUniversità di Genova\nManaging Partner\nDELEX Law Firm \nAvv. Fabio Coco\nPartner\nADVANT Nctm \nAvv. Tommaso Delitala\nResponsabile Consulenza Legale\nAMCO \nAvv. Francesco Dialti\nPartner\nCBA \nAvv. Fabrizio Occhipinti\nPartner\niLS Milan \nAvv. Norman Pepe\nChairman\niLS Milan\nPartner\niLS London \nAvv. Alberto Prade\nSenior Associate\nPedersoliGattai \n\n\n		\n	\nBrochure\n	\n		\n			 Scarica la brochure\n\n		\n	\nIscrizioni e Condizioni\n	\n		\n			Quota di partecipazione \nLa quota di partecipazione in aula virtuale (diretta streaming) include la fruizione in diretta delle docenze\, nonché l’invio\, in formato elettronico\, del materiale didattico che i relatori riterranno di mettere a disposizione. È inoltre prevista la possibilità di presentare in diretta domande e quesiti di specifico interesse a mezzo chat\, nonché di sottoporli in via preventiva\, inviando una email a info@paradigma.it entro il giorno antecedente l’evento. \nIn caso di videoconferenza con accessi multipli è necessario contattare la Segreteria organizzativa per un preventivo personalizzato. \nModalità di funzionamento della videoconferenza \nE’ possibile accedere all’aula virtuale da qualsiasi luogo\, utilizzando il proprio PC o tablet con una semplice connessione a Internet. La piattaforma informatica utilizzata da Paradigma (Adobe Connect) non necessita di requisiti tecnici particolari. \nNei giorni antecedenti l’evento il partecipante riceverà per posta elettronica le credenziali e le istruzioni di accesso. Il giorno dell’evento sarà sufficiente selezionare il link che troverà nella mail e inserire le credenziali per accedere all’aula virtuale. \nDurante gli interventi\, oltre a vedere e sentire i docenti\, è possibile consultare simultaneamente la documentazione predisposta dal relatore. Ogni utente collegato potrà porre domande sulle tematiche affrontate a mezzo chat\, alle quali il docente risponderà nel corso dell’intervento. \nModalità di iscrizione \nL’iscrizione si perfeziona al momento del ricevimento del modulo di registrazione\, da inviare via e-mail all’indirizzo info@paradigma.it\, integralmente compilato. Il numero dei collegamenti disponibili è limitato e la priorità d’iscrizione è determinata dalla data di ricezione del modulo di registrazione. Si consiglia pertanto di effettuare una preiscrizione telefonica. \nModalità di pagamento \nLa quota di partecipazione deve essere versata all’atto della presentazione della richiesta di iscrizione e\, in ogni caso\, prima dell’effettuazione dell’evento formativo\, tramite bonifico bancario intestato a: \nParadigma Srl – Corso Vittorio Emanuele II\, 68 – 10121 Torino\nc/o Banco BPM Spa\nIBAN IT 14 V 05034 01017 000000002530 \nFormazione finanziata \nLa quota di partecipazione può essere completamente rimborsata tramite voucher promossi dai Fondi Paritetici Interprofessionali. Paradigma offre la completa e gratuita gestione delle spese di progettazione\, monitoraggio e rendicontazione. La possibilità di accedere alla formazione finanziata con partecipazione mediante videoconferenza può variare a seconda dell’Ente erogante. \nAttestato di frequenza \nL’attestato di partecipazione nominativo sarà inviato al termine dell’evento formativo ai partecipanti che si sono regolarmente collegati all’aula virtuale. \nDiritto di recesso e modalità di disdetta \nÈ attribuita ai partecipanti la facoltà di recedere ai sensi dell’art. 1373 c.c. Il recesso dovrà essere comunicato in forma scritta almeno sette giorni prima della data di inizio dell’evento formativo (escluso il sabato e la domenica). Qualora la disdetta pervenga oltre tale termine o si verifichi di fatto con il mancato collegamento alla videoconferenza\, la quota di partecipazione sarà addebitata per intero e sarà inviato al partecipante il materiale didattico. In qualunque momento l’azienda o lo studio potranno comunque sostituire il partecipante\, comunicando il nuovo nominativo alla nostra Segreteria organizzativa. \nVariazioni di programma \nParadigma\, per ragioni eccezionali e imprevedibili\, si riserva di annullare o modificare la data dell’evento formativo\, dandone comunicazione agli interessati entro tre giorni dalla data di inizio prevista. In tali casi le quote di partecipazione pervenute verranno rimborsate\, con esclusione di qualsivoglia onere o obbligo a carico di Paradigma. Paradigma si riserva inoltre\, per ragioni sopravvenute e per cause di forza maggiore\, di modificare l’articolazione del programma e di sostituire i docenti previsti con altri docenti di pari livello professionale. \nPer ulteriori informazioni è possibile contattare la Segreteria organizzativa al numero 011.538686 o all’indirizzo e-mail info@paradigma.it. \n\n\n		\n	\n\n\n	\n		\n			Quota di partecipazione\n	\n		\n			€ 1.100 + Iva\n\n		\n	\n\n	\n		\n			In caso di videoconferenza con accessi multipli è necessario contattare la Segreteria organizzativa per un preventivo personalizzato. \n\n		\n	\n\n\n		\n	\n\n	\n		\n			\n\n\n\n\n\n\n	\n		\n			Early booking -20%\nInviando il modulo di iscrizione entro il 6 maggio si avrà diritto a una riduzione del 20% sulla quota di partecipazione. \n\n		\n	\n\n\n\n		\n	\n\n	\n		\n			\n\n		\n	\n\n	\n		\n			\n\n		\n	\n\n	\n		\n			\n\n\n\n\n\n\n	\n		\n			Progetto Giovani Eccellenze -50%\nL’adesione all’evento formativo permette di iscrivere una seconda risorsa\, che non abbia compiuto il 30° anno di età e proveniente dalla stessa organizzazione\, con una riduzione del 50% sulla seconda quota di partecipazione. L’agevolazione è calcolata sulla quota ordinaria. \n\n		\n	\n\n\n\n		\n	\n\n	\n		\n			\n\n\n\n\n\n\n	\n		\n			Formazione finanziata\nLa quota di partecipazione all’iniziativa può essere completamente rimborsata tramite voucher promossi dai Fondi Paritetici Interprofessionali. Paradigma offre la completa e gratuita gestione delle spese di progettazione\, monitoraggio e rendiconto. \n\n		\n	\n\n\n\n		\n	\n\n	\n		\n			\n\n\n\n\n\n\n	\n		\n			Mercati elettronici della PA\nParadigma opera sul MePA e sui principali mercati elettronici di soggetti aggregatori e centrali di committenza. \n\n		\n	\n\n\n\n		\n	\n\n	\n		\n			\n	\n\n\n	I campi con (*) sono obbligatori\n	\n		\n		Dati relativi all'evento\n		\n		\n			Partecipazione in aula\n			Partecipazione in videoconferenza\n		\n		\n\n		Dati relativi al richiedente\n		\n		\n		\n		\n		\n		\n		\n		\n\n	\n\n	\n\n		Dati per eventuale partecipante under 30\n		\n		\n		\n\n	\n\n	\n\n		Dati per la fatturazione elettronica\n		\n		\n		\n		\n		\n		\n				\n		\n		\n		  Split Payment:\n          \n            \n              \n              Si \n            No\n          \n        \n		\n		\n		\n		\n	\n\n	\n\n		Per informazioni contattare\n		\n		\n		\n		\n		\n	\n	L'iscrizione all'evento formativo si intende perfezionata al momento del ricevimento\, da parte di Paradigma Srl\, del presente modulo di registrazione compilato in ogni sua parte\, stampato\, firmato e inviato via e-mail all'indirizzo info@paradigma.it. Riceverete via email conferma dell'avvenuta iscrizione. \n\n\n		\n	     Acconsento all'invio di comunicazioni sui servizi Paradigma Srl - Consenso finalizzato\, anche con modalità automatizzate\, all'invio di comunicazioni relative a prodotti e servizi di Paradigma Srl e al fine di ricevere materiale informativo o promozionale.\n	\n	     Acconsento alla personalizzazione delle offerte - Consenso finalizzato\, mediante modalità automatizzate\, a personalizzare i servizi forniti e meglio indirizzare le proposte promozionali grazie ad attività di profilazione.\n	\n	Inviando i dati autorizzi Paradigma Srl a utilizzare i tuoi dati personali per evadere la richiesta di partecipazione all’evento formativo e svolgere le attività a ciò connesse. I dati potranno essere trattati\, per conto di Paradigma Srl\, da dipendenti e collaboratori incaricati di svolgere specifici servizi necessari all’esecuzione delle tue richieste. Il conferimento dei tuoi dati\, pur essendo facoltativo\, si rende necessario per l’esecuzione del servizio richiesto.	\n\n\n\n\n		\n\n\n\n\n\n		\n	\n[/vc_column][/vc_row]
URL:https://paradigma.it/iniziativa/operazioni-sui-crediti-in-sofferenza-dopo-la-secondary-market-directive-e-la-relativa-attuazione-nazionale/
CATEGORIES:Capitale e Finanza
ORGANIZER;CN="Veronica%20Spiez":MAILTO:vspiez@paradigma.it
END:VEVENT
END:VCALENDAR