BEGIN:VCALENDAR
VERSION:2.0
PRODID:-//Paradigma srl - ECPv5.2.1//NONSGML v1.0//EN
CALSCALE:GREGORIAN
METHOD:PUBLISH
X-WR-CALNAME:Paradigma srl
X-ORIGINAL-URL:https://paradigma.it
X-WR-CALDESC:Eventi per Paradigma srl
BEGIN:VTIMEZONE
TZID:Europe/Rome
BEGIN:DAYLIGHT
TZOFFSETFROM:+0100
TZOFFSETTO:+0200
TZNAME:CEST
DTSTART:20230326T010000
END:DAYLIGHT
BEGIN:STANDARD
TZOFFSETFROM:+0200
TZOFFSETTO:+0100
TZNAME:CET
DTSTART:20231029T010000
END:STANDARD
END:VTIMEZONE
BEGIN:VEVENT
DTSTART;TZID=Europe/Rome:20230705T093000
DTEND;TZID=Europe/Rome:20230705T180000
DTSTAMP:20260421T145750
CREATED:20230531T150607Z
LAST-MODIFIED:20230703T081904Z
UID:18170-1688549400-1688580000@paradigma.it
SUMMARY:Mobilità internazionale  dei lavoratori
DESCRIPTION:[vc_row][vc_column]\n	\n		\n			\n		\n	\n\n	\n		\n			\nProfili contrattuali\, fiscali e contributivi\nLa Direttiva Posted Worker n. 2018/957 UE\nLa Direttiva Equal Pay for Equal Work n. 2023/970 UE\nGli adempimenti immigrativi\nRemote working e virtual assignment\nBest practice e recente prassi amministrativa\nEvoluzione giurisprudenzale\n\nI docenti\, nel corso dell’evento formativo\, risponderanno alle domande e alle richieste di chiarimenti formulate dai partecipanti. Eventuali quesiti potranno essere anticipati inviando una email all’indirizzo info@paradigma.it \n \n\n		\n	\n\n	\n		\n			Evento in videoconferenza \n\n		\n	\n\n	\n		\n			5 luglio 2023 \n\n		\n	\n\n	\n		\n			 \n\n		\n	\n\n	\n		\n			\n\n		\n	\nPresentazioneProgrammaDocentiBrochureIscrizioni e CondizioniPresentazione\n	\n		\n			Contenuti dell’evento \nNel corso della giornata verranno approfondite le principali problematiche inerenti la gestione dei lavoratori italiani all’estero e le tematiche più rilevanti per i lavoratori stranieri in Italia. \nIn particolare\, verranno analizzati gli istituti della trasferta\, del trasferimento e del distacco con particolare attenzione alle variabili da considerare nella scelta della struttura contrattuale e ai temi della legislazione e della giurisdizione applicabili al rapporto di lavoro. \nVerranno poi esaminati i profili fiscali e contributivi delle prestazioni lavorative svolte nell’ambito della mobilità internazionale analizzando i principali arresti della prassi amministrativa e della giurisprudenza. \nCi si soffermerà poi sull’istituto del distacco dei lavoratori in ambito UE prendendo in esame gli obblighi amministrativi previsti dalla Direttiva Posted Workers (n. 2018/957 UE) e le implicazioni sulla gestione della global mobility scaturenti dalla Direttiva Equal Pay for Equal Work di recente approvazione (n. 2023/970 UE). \nInfine\, verrà fatto il punto sugli adempimenti immigrativi per l’ingresso dei lavoratori extra-comunitari e approfondito il tema delle nuove policy di gestione della mobilità internazionale in materia di remote working e virtual assignment. \nDestinatari dell’evento \nL’evento formativo è rivolto alle risorse operanti all’interno delle Direzioni del Personale\, ai Responsabili della Gestione e Sviluppo del Personale\, ai Responsabili dell’Amministrazione del Personale\, agli esperti fiscali e previdenziali che seguono le problematiche relative agli expatriates\, nonché ai professionisti esterni alle società che prestano consulenza sulla materia (avvocati\, consulenti tributari e previdenziali). \nObiettivi dell’evento \nL’incontro si propone di analizzare\, in tutte le sue complessità\, il tema della gestione degli expatriates-impatriates\, affrontando la casistica e le criticità maggiormente ricorrenti\, presentando le soluzioni più avanzate derivanti dall’esperienza professionale dei migliori esperti della materia\, sia sotto il profilo giuslavoristico che fiscale e contributivo. \n\n\n		\n	\nProgramma\n	\n		\n			Mercoledì 5 luglio 2023 \nLa gestione contrattuale del lavoratore espatriato\nLe variabili da considerare nella scelta della struttura contrattuale\nLa trasferta\nIl trasferimento\nIl distacco\nLa legislazione e la giurisdizione applicabili al rapporto di lavoro\nAvv. Annalisa Reale\nChiomenti \nLa disciplina fiscale del lavoro prestato all’estero\nLa nozione di residenza domestica e internazionale e le prospettive di riforma\nI nuovi limiti all’applicabilità delle c.d. retribuzioni convenzionali alla luce della più recente prassi amministrativa\nGli obblighi di sostituzione d’imposta e la gestione della doppia imposizione\nAvv. Antonio Longo\nDLA Piper \nIl regime degli impatriati alla luce della recente prassi amministrativa\nL’ambito di applicazione della normativa di favore\nIl caso del rientro del lavoratore dopo un periodo di distacco all’estero: contrasto tra prassi amministrativa e giurisprudenza\nRegime impatriati e smart working\nGli adempimenti e la responsabilità del datore di lavoro\nAvv. Marco Cerrato\nMaisto e Associati \nIl trattamento previdenziale del lavoratore in mobilità internazionale\nI regolamenti europei e gli accordi bilaterali di sicurezza sociale\nLa determinazione della base imponibile contributiva alla luce della giurisprudenza della Cassazione\nL’ambito di applicazione della Legge n. 398/1987\nL’assunzione di cittadini italiani da parte di imprese residenti in Paesi extra-UE non convenzionati: obblighi e adempimenti\nI principi contributivi applicabili ai lavoratori in remote working\nDott. Marco Strafile\nStudio Tributario e Societario Deloitte \nIl distacco dei lavoratori in ambito UE\nGli obblighi amministrativi previsti dalla Posted Worker Directive e il recepimento in Italia\nDirettiva Equal Pay for Equal Work: implicazioni sulla gestione della global mobility\nDott. Raffaele Calabrese\nStudio Tributario e Societario Deloitte \nIl punto sugli adempimenti immigrativi per l’ingresso di lavoratori extra-comunitari\nDott. Raffaele Calabrese\nStudio Tributario e Societario Deloitte \nLe nuove policy di gestione della global mobility: remote working e virtual assignment\nLe implicazioni del remote working: le tematiche di fiscalità individuale e gli impatti sulla fiscalità d’impresa\nIl virtual assigment tra prospettive e criticità gestionali\nIl recruitment su base internazionale\nAvv. Giuseppe Marianetti\nStudio Tributario e Societario Deloitte \n\n\n		\n	\nDocenti\n	\n		\n			Dott. Raffaele Calabrese\nPartner\nStudio Tributario e Societario Deloitte \nAvv. Marco Cerrato\nPartner\nMaisto e Associati \nAvv. Antonio Longo\nPartner\nDLA Piper \nAvv. Giuseppe Marianetti\nPartner\nStudio Tributario e Societario Deloitte \nAvv. Annalisa Reale\nPartner\nResponsabile Dipartimento Diritto del Lavoro\nChiomenti \nDott. Marco Strafile\nPartner\nStudio Tributario e Societario Deloitte \n\n\n		\n	\nBrochure\n	\n		\n			 Scarica la brochure\n\n		\n	\nIscrizioni e Condizioni\n	\n		\n			Quota di partecipazione \nLa quota di partecipazione in aula virtuale (diretta streaming) include l’invio del materiale didattico in formato elettronico e la possibilità di sottoporre ai relatori quesiti di specifico interesse a mezzo chat. È altresì possibile anticipare domande e richieste di approfondimento inviando una e-mail a info@paradigma.it entro il giorno antecedente l’evento. \nIn caso di videoconferenza con accessi multipli è necessario contattare la Segreteria organizzativa per un preventivo personalizzato. \nModalità di funzionamento della videoconferenza \nE’ possibile accedere all’aula virtuale da qualsiasi luogo\, utilizzando il proprio PC o tablet con una semplice connessione a Internet. La piattaforma informatica utilizzata da Paradigma (Adobe Connect) non necessita di requisiti tecnici particolari. \nNei giorni antecedenti l’evento il partecipante riceverà per posta elettronica le credenziali e le istruzioni di accesso. Il giorno dell’evento sarà sufficiente selezionare il link che troverà nella mail e inserire le credenziali per accedere all’aula virtuale. \nDurante gli interventi\, oltre a vedere e sentire i docenti\, è possibile consultare simultaneamente la documentazione predisposta dal relatore. Ogni utente collegato potrà porre domande sulle tematiche affrontate a mezzo chat\, alle quali il docente risponderà nel corso dell’intervento. \nModalità di iscrizione \nL’iscrizione si perfeziona al momento del ricevimento del modulo di registrazione\, da inviare via e-mail all’indirizzo info@paradigma.it\, integralmente compilato. Il numero dei collegamenti disponibili è limitato e la priorità d’iscrizione è determinata dalla data di ricezione del modulo di registrazione. Si consiglia pertanto di effettuare una preiscrizione telefonica. \nModalità di pagamento \nLa quota di partecipazione deve essere versata all’atto della presentazione della richiesta di iscrizione e\, in ogni caso\, prima dell’effettuazione dell’evento formativo\, tramite bonifico bancario intestato a: \nParadigma Srl – Corso Vittorio Emanuele II\, 68 – 10121 Torino\nc/o Banco BPM Spa\nIBAN IT 14 V 05034 01017 000000002530 \nFormazione finanziata \nLa quota di partecipazione può essere completamente rimborsata tramite voucher promossi dai Fondi Paritetici Interprofessionali. Paradigma offre la completa e gratuita gestione delle spese di progettazione\, monitoraggio e rendicontazione. La possibilità di accedere alla formazione finanziata con partecipazione mediante videoconferenza può variare a seconda dell’Ente erogante. \nAttestato di frequenza \nL’attestato di partecipazione nominativo sarà inviato al termine dell’evento formativo ai partecipanti che si sono regolarmente collegati all’aula virtuale. \nDiritto di recesso e modalità di disdetta \nÈ attribuita ai partecipanti la facoltà di recedere ai sensi dell’art. 1373 c.c. Il recesso dovrà essere comunicato in forma scritta almeno sette giorni prima della data di inizio dell’evento formativo (escluso il sabato e la domenica). Qualora la disdetta pervenga oltre tale termine o si verifichi di fatto con il mancato collegamento alla videoconferenza\, la quota di partecipazione sarà addebitata per intero e sarà inviato al partecipante il materiale didattico. In qualunque momento l’azienda o lo studio potranno comunque sostituire il partecipante\, comunicando il nuovo nominativo alla nostra Segreteria organizzativa. \nVariazioni di programma \nParadigma\, per ragioni eccezionali e imprevedibili\, si riserva di annullare o modificare la data dell’evento formativo\, dandone comunicazione agli interessati entro tre giorni dalla data di inizio prevista. In tali casi le quote di partecipazione pervenute verranno rimborsate\, con esclusione di qualsivoglia onere o obbligo a carico di Paradigma. Paradigma si riserva inoltre\, per ragioni sopravvenute e per cause di forza maggiore\, di modificare l’articolazione del programma e di sostituire i docenti previsti con altri docenti di pari livello professionale. \nPer ulteriori informazioni è possibile contattare la Segreteria organizzativa al numero 011.538686 o all’indirizzo e-mail info@paradigma.it. \n\n\n		\n	\n\n\n	\n		\n			Quota di partecipazione\n	\n		\n			€ 1.100 + Iva\n\n		\n	\n\n	\n		\n			In caso di videoconferenza con accessi multipli è necessario contattare la Segreteria organizzativa per un preventivo personalizzato. \n\n		\n	\n\n\n		\n	\n\n	\n		\n			\n\n\n\n\n\n\n	\n		\n			Early booking -20%\nInviando il modulo di iscrizione entro il 14 giugno si avrà diritto a una riduzione del 20% sulla quota di partecipazione.\n \n\n		\n	\n\n\n\n		\n	\n\n	\n		\n			\n\n		\n	\n\n	\n		\n			\n\n		\n	\n\n	\n		\n			\n\n\n\n\n\n\n	\n		\n			Progetto Giovani Eccellenze -50%\nL’adesione all’evento formativo permette di iscrivere una seconda risorsa\, che non abbia compiuto il 30° anno di età e proveniente dalla stessa organizzazione\, con una riduzione del 50% sulla seconda quota di partecipazione. L’agevolazione è calcolata sulla quota ordinaria. \n\n		\n	\n\n\n\n		\n	\n\n	\n		\n			\n\n\n\n\n\n\n	\n		\n			Formazione finanziata\nLa quota di partecipazione all’iniziativa può essere completamente rimborsata tramite voucher promossi dai Fondi Paritetici Interprofessionali. Paradigma offre la completa e gratuita gestione delle spese di progettazione\, monitoraggio e rendiconto. \n\n		\n	\n\n\n\n		\n	\n\n	\n		\n			\n\n\n\n\n\n\n	\n		\n			Mercati elettronici della PA\nParadigma opera sul MePA e sui principali mercati elettronici di soggetti aggregatori e centrali di committenza. \n\n		\n	\n\n\n\n		\n	\n\n	\n		\n			\n	\n\n\n	I campi con (*) sono obbligatori\n	\n		\n		Dati relativi all'evento\n		\n		\n			Partecipazione in aula\n			Partecipazione in videoconferenza\n		\n		\n\n		Dati relativi al richiedente\n		\n		\n		\n		\n		\n		\n		\n		\n\n	\n\n	\n\n		Dati per eventuale partecipante under 30\n		\n		\n		\n\n	\n\n	\n\n		Dati per la fatturazione elettronica\n		\n		\n		\n		\n		\n		\n				\n		\n		\n		  Split Payment:\n          \n            \n              \n              Si \n            No\n          \n        \n		\n		\n		\n		\n	\n\n	\n\n		Per informazioni contattare\n		\n		\n		\n		\n		\n	\n	L'iscrizione all'evento formativo si intende perfezionata al momento del ricevimento\, da parte di Paradigma Srl\, del presente modulo di registrazione compilato in ogni sua parte\, stampato\, firmato e inviato via e-mail all'indirizzo info@paradigma.it. Riceverete via email conferma dell'avvenuta iscrizione. \n\n\n		\n	     Acconsento all'invio di comunicazioni sui servizi Paradigma Srl - Consenso finalizzato\, anche con modalità automatizzate\, all'invio di comunicazioni relative a prodotti e servizi di Paradigma Srl e al fine di ricevere materiale informativo o promozionale.\n	\n	     Acconsento alla personalizzazione delle offerte - Consenso finalizzato\, mediante modalità automatizzate\, a personalizzare i servizi forniti e meglio indirizzare le proposte promozionali grazie ad attività di profilazione.\n	\n	Inviando i dati autorizzi Paradigma Srl a utilizzare i tuoi dati personali per evadere la richiesta di partecipazione all’evento formativo e svolgere le attività a ciò connesse. I dati potranno essere trattati\, per conto di Paradigma Srl\, da dipendenti e collaboratori incaricati di svolgere specifici servizi necessari all’esecuzione delle tue richieste. Il conferimento dei tuoi dati\, pur essendo facoltativo\, si rende necessario per l’esecuzione del servizio richiesto.	\n\n\n\n\n		\n\n\n\n\n\n		\n	\n[/vc_column][/vc_row]
URL:https://paradigma.it/iniziativa/mobilita-internazionale-dei-lavoratori/
CATEGORIES:Lavoro e Previdenza
ORGANIZER;CN="Angela%20Siniscalchi":MAILTO:asiniscalchi@paradigma.it
END:VEVENT
END:VCALENDAR