BEGIN:VCALENDAR
VERSION:2.0
PRODID:-//Paradigma srl - ECPv5.2.1//NONSGML v1.0//EN
CALSCALE:GREGORIAN
METHOD:PUBLISH
X-WR-CALNAME:Paradigma srl
X-ORIGINAL-URL:https://paradigma.it
X-WR-CALDESC:Eventi per Paradigma srl
BEGIN:VTIMEZONE
TZID:Europe/Rome
BEGIN:DAYLIGHT
TZOFFSETFROM:+0100
TZOFFSETTO:+0200
TZNAME:CEST
DTSTART:20240331T010000
END:DAYLIGHT
BEGIN:STANDARD
TZOFFSETFROM:+0200
TZOFFSETTO:+0100
TZNAME:CET
DTSTART:20241027T010000
END:STANDARD
END:VTIMEZONE
BEGIN:VEVENT
DTSTART;TZID=Europe/Rome:20240411T103000
DTEND;TZID=Europe/Rome:20240415T180000
DTSTAMP:20260421T205300
CREATED:20240307T141142Z
LAST-MODIFIED:20240408T133430Z
UID:20046-1712831400-1713204000@paradigma.it
SUMMARY:MiFID II
DESCRIPTION:[vc_row][vc_column]\n	\n		\n			\n		\n	\n\n	\n		\n			Aggiornamenti operativi e prospettive di riforma \n\nLe semplificazioni di cui al D. Lgs. n. 31/2023\nI più recenti orientamenti ESMA in materia di product governance e di requisiti di adeguatezza\nLe novità in materia di finanza sostenibile\nCripto attività e ulteriori ambiti della regolazione finanziaria\n\nI docenti\, nel corso dell’evento formativo\, risponderanno alle domande e alle richieste di chiarimenti formulate dai partecipanti. Eventuali quesiti potranno essere anticipati inviando una email all’indirizzo info@paradigma.it \n \n\n		\n	\n\n	\n		\n			Evento in videoconferenza \n\n		\n	\n\n	\n		\n			11 e 15 aprile 2024 \n\n		\n	\n\n	\n		\n			 \n\n		\n	\n\n	\n		\n			\n\n		\n	\nPresentazioneProgrammaDocentiBrochureIscrizioni e CondizioniPresentazione\n	\n		\n			Contenuti dell’evento \nL’applicazione della MiFID II è oggetto di periodico “arricchimento” a opera delle Autorità di Vigilanza competenti\, i cui aggiornamenti operativi costituiscono imprescindibile riferimento per gli operatori del settore finanziario. \nIl processo di revisione della Direttiva (Review of the MiFID II/MiFIR regulatory framework)\, avviato dalla Commissione UE con la proposta del luglio 2020\, che muoveva dall’individuazione degli ambiti oggetto di riforma (product governance\, vendita di taluni prodotti alla clientela retail\, classificazione della clientela\, regole sugli incentivi) e che doveva costituire\, nelle ambizioni della Commissione stessa\, un obiettivo da conseguire entro la legislatura UE che sta ormai per concludersi\, ha prodotto finora un esito molto circoscritto\, costituito dalle modifiche ai due Regolamenti approvate il 20 febbraio u.s. in materia di accessibilità ai dati relativi alle negoziazioni. \nPer contro\, ESMA\, CONSOB e Banca d’Italia intervengono nel settore con una certa frequenza\, adottando\, ciascuna entro i limiti delle proprie competenze\, Linee Guida e altri orientamenti di prassi\, rispetto ai quali i destinatari incisi non posso esimersi dall’apprestare i necessari adempimenti di conformità. \nIl seminario di approfondimento affronterà – con approccio operativo – tutte le più recenti novità in ambito MiFID II/MiFIR emerse a livello nazionale ed europeo. \nIn particolare\, costituiranno oggetto di esame della presente edizione: \n– il  Lgs. n. 71/2023\, che ha recepito la Direttiva UE 2021/338\, meglio nota come Direttiva “Quick fix”\, contenente alcune semplificazioni degli obblighi MiFID II in materia di informazioni\, di governance del prodotto e di limiti di posizione; \n– le Linee Guida ESMA sulla Product Governance del 27 marzo 2023 e quelle in materia di adeguatezza del 23 settembre 2022 che aggiornano le precedenti\, datate rispettivamente 2017 e 2018\, alla luce delle novità normative medio tempore intervenute; \n– le Linee Guida ESMA per la Funzione Compliance del 5 giugno 2020\, che hanno visto un rafforzamento degli obblighi a carico di tale presidio\, nonché quelle del 18 dicembre 2020 sul cloud outsourcing; \n– gli aggiornamenti in materia di finanza sostenibile (SFDR; Regolamento UE Tassonomia e relativi atti delegati; CSRD; Direttive e Regolamenti UE di modifica delle Direttive MiFID II\, Product Governance\, IDD\, Ucits e Aifm; Regolamento UE per le obbligazioni verdi; Linee Guida ESMA sui requisiti di adeguatezza già citate); \n– lo stato dell’arte in materia di crypto-assets\, alla luce del Regolamento UE 2023/1114 “MiCAR” (Markets in Crypto-Assets Regulation)\, adottato in via definitiva il 31 maggio 2023 e in relazione al quale sono stati recentemente posti in consultazione\, dal Governo italiano\, gli schemi di decreto legislativo di adattamento dell’ordinamento interno; \n– le Linee Guida ESMA su taluni aspetti dei requisiti della remunerazione nell’ambito della MiFID II del 31 marzo 2022 e le prospettive di riforma allo studio; \n– il recente intervento di modifica a MiFID II/MiFIR concernente le facilitazioni all’accesso ai dati delle negoziazioni. \nInoltre\, nell’approssimarsi della scadenza (30 aprile) entro cui assolvere all’adempimento nei confronti di CONSOB riguardante la rendicontazione annuale dei costi e degli oneri\, è stata appositamente prevista una relazione a beneficio degli operatori di mercato ad essa tenuti. \nDestinatari dell’evento \nL’evento formativo è rivolto a Banche\, SIM\, SGR e a tutti gli intermediari finanziari abilitati\, nonché a tutti i professionisti che operano nel banking and finance. \nLe figure maggiormente interessate sono: Compliance Officer\, Chief Investment Officer\, Responsabili dell’Asset Management\, Head of Operations\, Responsabili dell’Organizzazione\, Responsabili Commerciali\, Responsabili dello Sviluppo dei Nuovi Prodotti\, Internal Audit\, Uffici Legali e Contenzioso\, Responsabili dell’IT. \nObiettivi dell’evento \nObiettivo dell’incontro è presentare un quadro completo e approfondito dei temi di maggiore attualità della compliance MiFID II\, alla luce dell’assetto normativo vigente e dei contenuti delle riforme avviate\, fornendo ai partecipanti utili indicazioni per l’ottimale adeguamento agli orientamenti dei regolatori. \n\n\n		\n	\nProgramma\n	\n		\n			Prima giornata\nGiovedì 11 aprile 2024 \nLa trasparenza su costi e oneri ex ante e ex post\nLe modalità di rappresentazione dei costi e oneri\nGli interventi di CONSOB di febbraio 2019 e maggio 2020\nLe Q&A ESMA in materia di investor protection\nLe altre indicazioni di prassi cui fare riferimento\nLe principali criticità emerse nell’assolvimento degli obblighi informativi da parte degli operatori\nAvv. Giorgio Gasparri\nConsob \nLe regole di product governance e le più recenti novità\nLa normativa di riferimento\, la definizione della clientela target e i rapporti tra produttori e distributori durante il ciclo di vita dei prodotti\nLe Linee Guida ESMA sugli obblighi di product governance del 27 marzo 2023\nLe novità in ambito product governance del “Quick Fix” di MiFID II\, recepito con D. Lgs. n. 31/2023\nProduct governance e rischio inflazione: il Public Statement dell’ESMA del 27 settembre 2022\nLa Call for Evidence dell’ESMA del giugno 2023 sulla sostenibilità nell’adeguatezza e nella product governance\nAvv. Francesco Mocci\nZitiello Associati\n \nL’innovazione tecnologica nel settore finanziario: inquadramento normativo dei più recenti sviluppi in materia di Fintech\nIl Regolamento UE n. 2023/1114 relativo ai mercati dei crypto-asset (MiCAR)\nLa disciplina degli emittenti di crypto-asset\, il contenuto del white paper\, la responsabilità degli emittenti\, le reserve of assets e le stablecoin\nLe cripto-attività rientranti nella definizione di strumenti finanziari di cui alla MiFID II (strumenti finanziari “tokenizzati”) e gli NFT\nGli schemi di Decreto Legislativo\, attualmente in consultazione\, di adeguamento dell’ordinamento interno alla normativa MiCAR\nIl Regolamento UE n. 2022/858 sul regime pilota per le infrastrutture di mercato basate su DLT\nIl D.L. n. 25/2023\, convertito in L. n. 52/2023\, contenente le “Disposizioni urgenti in materia di emissioni e circolazione di determinati strumenti finanziari in forma digitale e di semplificazione della sperimentazione FinTech”\nAvv. Fabio Coco\nZitiello Associati\n \nLa distribuzione di IBIPs da parte dei soggetti vigilati da Consob\nQuadro normativo unionale e nazionale\nRiparto di competenze tra Consob e IVASS\nIl Libro IX Regolamento Intermediari\nLe specificità della attività di distribuzione di IBIPs\nLe evoluzioni normative\nAvv. Mario Zanin\nPwC TLS Avvocati e Commercialisti \nI recenti sviluppi in materia di finanza sostenibile\nLa finanza sostenibile e il Green Deal europeo\nLa normativa di riferimento per il settore dei servizi finanziari: Tassonomia\, SFDR\, CSRD e modifiche specifiche in ambito MiFID 2\, IDD\, UCITS e AIFMD\nLe aspettative di vigilanza di Banca d’Italia e gli esiti delle tavole rotonde con banche e intermediari finanziari svoltesi presso Banca d’Italia il 7 e 8 settembre 2023\nLa creazione di prodotti ESG e la redazione dell’informativa di prodotto: le Linee Guida ESMA sulla product governance del 27 marzo 2023\nGli elementi più innovativi del Regolamento UE n. 2023/2631 in materia di obbligazioni verdi\nProf. Avv. Roberto Della Vecchia\nDi Tanno Associati – Studio Legale e Tributario\nAvv. Pietro Lorenzi\nDi Tanno Associati – Studio Legale e Tributario \nAdeguatezza e appropriatezza: il ruolo dell’intermediario\nDefinizione e contestualizzazione dell’operatività dei soggetti\nLe nuove Linee Guida ESMA in materia di appropriatezza ed execution only del 3 gennaio 2022 (applicabili dal 12 ottobre 2022)\nLe regole in materia di “know your client” e “know your product”\nLa valutazione di affidabilità delle informazioni fornite dal cliente e le procedure di aggiornamento\nLe procedure per garantire la comprensione dei prodotti e l’individuazione di prodotti appropriati per il cliente\nGli obblighi in caso di mancata o insufficiente informazione sulla conoscenza ed esperienza del cliente\nGli obblighi in materia di record keeping\nLe nuove Linee Guida ESMA del 23 settembre 2022 in materia di requisiti di adeguatezza ai sensi della MiFID II\, aggiornate alle più recenti novità regolatorie in materia di sostenibilità (in applicazione dal 3 ottobre 2023)\nDott. Massimo Scolari\nASCOFIND \n  \nSeconda giornata\nLunedì 15 aprile 2024 \nLa disciplina degli inducements e la remunerazione dei gestori\nLa normativa di riferimento e l’esperienza applicativa\nLe nuove Linee Guida ESMA su politiche e prassi di remunerazione del 31 marzo 2022\, applicabili dal 3 ottobre 2023\nIl trattamento degli incentivi nell’ambito del servizio di gestione collettiva del risparmio e dei servizi di investimento\nLa proposta di divieto di retrocessione degli incentivi nell’ambito della EU Retail Investment Strategy\nLe opportunità derivanti dalle nuove regole in materia di remunerazione\nDott. Filippo Berneri\nAnnunziata & Conso \nGli Orientamenti ESMA in tema di funzione di conformità e le novità in tema di risk assessment\, reporting\, competenze e outsourcing\nIl quadro regolamentare applicabile\nLe Linee Guida dell’ESMA del 6 aprile 2021\, in applicazione dal 7 giugno 2021\nLa funzione di controllo di conformità alle norme in ambiente MiFID II\nFocus sulle Linee Guida relative a: risk assessment\, reporting\, competenze e outsourcing\nLe Linee Guida ESMA del maggio 2021 in materia di esternalizzazione a fornitori di servizi cloud (applicabili dal 31 luglio 2021)\nIl Provvedimento della Banca d’Italia del 31 maggio 2023 contenente disposizioni per la segnalazione in materia di esternalizzazione di funzioni aziendali per gli intermediari vigilati\nDott. Luca Galli\nEY\nDott. Simone Smeraldi\nEY \nIl punto in materia di MiFIR e le novità normative di recente approvazione\nL’attuale contesto di applicazione della “MiFID mercati” e le criticità venute in rilievo\, alla base dell’attesa “MiFIR Review”\nL’approvazione definitiva\, il 20 febbraio 2024\, da parte del Consiglio UE delle modifiche alla MiFIR e alla MiFID volte a migliorare la trasparenza pre-trade e post-trade\nProf. Avv. Marco Boldini\nUniversità Telematica San Raffaele di Roma \nIl Compliance Officer e il personale addetto alla funzione di compliance. I rapporti con le altre funzioni di controllo\, i reclami e il report\nI requisiti\, il profilo e le responsabilità del Compliance Officer\nIl personale addetto alla funzione di compliance\nComunicazione e coordinamento con le altre funzioni di controllo\nEventuale gestione dei reclami\nIl report di conformità\nDott. Aldo Furlani\nAtrigna & Partners \n\n\n		\n	\nDocenti\n	\n		\n			Dott. Filippo Berneri\nPartner\nAnnunziata & Conso \nProf. Avv. Marco Boldini\nStraordinario di Diritto dell’Economia\nUniversità Telematica San Raffaele di Roma\nGlobal Head of Policy\,\nRegulatory and Governmental Affairs\nTerraPay \nAvv. Fabio Coco\nSocio\nZitiello Associati \nProf. Avv. Roberto Della Vecchia\nSocio\nDi Tanno Associati – Studio Legale e Tributario\nDocente a contratto di Diritto dei Mercati Finanziari e degli Intermediari\nUniversità di Teramo \nDott. Aldo Furlani\nSenior Compliance Advisor\nAtrigna & Partners \nDott. Luca Galli\nPartner\nAdvisory Financial Services\nEY \nAvv. Giorgio Gasparri *\nConsigliere giuridico del Commissario\nConsob \nAvv. Pietro Lorenzi\nCounsel\nFinancial Services Lawyer\nDi Tanno Associati – Studio Legale e Tributario \nAvv. Francesco Mocci\nSocio\nZitiello Associati \nDott. Massimo Scolari\nPresidente\nASCOFIND \nDott. Simone Smeraldi\nManager\nAdvisory Financial Services\nEY \nAvv. Mario Zanin\nDirector\nPwC TLS Avvocati e Commercialisti \n  \n* La relazione è svolta a titolo personale e non impegna l’Ente di appartenenza \n\n\n		\n	\nBrochure\n	\n		\n			 Scarica la brochure\n\n		\n	\nIscrizioni e Condizioni\n	\n		\n			Quota di partecipazione \nLa quota di partecipazione in aula virtuale (diretta streaming) include la fruizione in diretta delle docenze\, nonché l’invio\, in formato elettronico\, del materiale didattico che i relatori riterranno di mettere a disposizione. È inoltre prevista la possibilità di presentare in diretta domande e quesiti di specifico interesse a mezzo chat\, nonché di sottoporli in via preventiva\, inviando una email a info@paradigma.it entro il giorno antecedente l’evento. \nIn caso di videoconferenza con accessi multipli è necessario contattare la Segreteria organizzativa per un preventivo personalizzato. \nModalità di funzionamento della videoconferenza \nE’ possibile accedere all’aula virtuale da qualsiasi luogo\, utilizzando il proprio PC o tablet con una semplice connessione a Internet. La piattaforma informatica utilizzata da Paradigma (Adobe Connect) non necessita di requisiti tecnici particolari. \nNei giorni antecedenti l’evento il partecipante riceverà per posta elettronica le credenziali e le istruzioni di accesso. Il giorno dell’evento sarà sufficiente selezionare il link che troverà nella mail e inserire le credenziali per accedere all’aula virtuale. \nDurante gli interventi\, oltre a vedere e sentire i docenti\, è possibile consultare simultaneamente la documentazione predisposta dal relatore. Ogni utente collegato potrà porre domande sulle tematiche affrontate a mezzo chat\, alle quali il docente risponderà nel corso dell’intervento. \nModalità di iscrizione \nL’iscrizione si perfeziona al momento del ricevimento del modulo di registrazione\, da inviare via e-mail all’indirizzo info@paradigma.it\, integralmente compilato. Il numero dei collegamenti disponibili è limitato e la priorità d’iscrizione è determinata dalla data di ricezione del modulo di registrazione. Si consiglia pertanto di effettuare una preiscrizione telefonica. \nModalità di pagamento \nLa quota di partecipazione deve essere versata all’atto della presentazione della richiesta di iscrizione e\, in ogni caso\, prima dell’effettuazione dell’evento formativo\, tramite bonifico bancario intestato a: \nParadigma Srl – Corso Vittorio Emanuele II\, 68 – 10121 Torino\nc/o Banco BPM Spa\nIBAN IT 14 V 05034 01017 000000002530 \nFormazione finanziata \nLa quota di partecipazione può essere completamente rimborsata tramite voucher promossi dai Fondi Paritetici Interprofessionali. Paradigma offre la completa e gratuita gestione delle spese di progettazione\, monitoraggio e rendicontazione. La possibilità di accedere alla formazione finanziata con partecipazione mediante videoconferenza può variare a seconda dell’Ente erogante. \nAttestato di frequenza \nL’attestato di partecipazione nominativo sarà inviato al termine dell’evento formativo ai partecipanti che si sono regolarmente collegati all’aula virtuale. \nDiritto di recesso e modalità di disdetta \nÈ attribuita ai partecipanti la facoltà di recedere ai sensi dell’art. 1373 c.c. Il recesso dovrà essere comunicato in forma scritta almeno sette giorni prima della data di inizio dell’evento formativo (escluso il sabato e la domenica). Qualora la disdetta pervenga oltre tale termine o si verifichi di fatto con il mancato collegamento alla videoconferenza\, la quota di partecipazione sarà addebitata per intero e sarà inviato al partecipante il materiale didattico. In qualunque momento l’azienda o lo studio potranno comunque sostituire il partecipante\, comunicando il nuovo nominativo alla nostra Segreteria organizzativa. \nVariazioni di programma \nParadigma\, per ragioni eccezionali e imprevedibili\, si riserva di annullare o modificare la data dell’evento formativo\, dandone comunicazione agli interessati entro tre giorni dalla data di inizio prevista. In tali casi le quote di partecipazione pervenute verranno rimborsate\, con esclusione di qualsivoglia onere o obbligo a carico di Paradigma. Paradigma si riserva inoltre\, per ragioni sopravvenute e per cause di forza maggiore\, di modificare l’articolazione del programma e di sostituire i docenti previsti con altri docenti di pari livello professionale. \nPer ulteriori informazioni è possibile contattare la Segreteria organizzativa al numero 011.538686 o all’indirizzo e-mail info@paradigma.it. \n\n\n		\n	\n\n\n	\n		\n			Quota di partecipazione\n	\n		\n			€ 1.100 + Iva prima giornata€ 700 + Iva seconda giornata€ 1.800 + Iva intero progetto\n\n		\n	\n\n	\n		\n			In caso di videoconferenza con accessi multipli è necessario contattare la Segreteria organizzativa per un preventivo personalizzato. \n\n		\n	\n\n\n		\n	\n\n	\n		\n			\n\n\n\n\n\n\n	\n		\n			Early booking -20%\nInviando il modulo di iscrizione entro il 21 marzo si avrà diritto a una riduzione del 20% sulla quota di partecipazione. \n\n		\n	\n\n\n\n		\n	\n\n	\n		\n			\n\n		\n	\n\n	\n		\n			\n\n		\n	\n\n	\n		\n			\n\n\n\n\n\n\n	\n		\n			Progetto Giovani Eccellenze -50%\nL’adesione all’evento formativo permette di iscrivere una seconda risorsa\, che non abbia compiuto il 30° anno di età e proveniente dalla stessa organizzazione\, con una riduzione del 50% sulla seconda quota di partecipazione. L’agevolazione è calcolata sulla quota ordinaria. \n\n		\n	\n\n\n\n		\n	\n\n	\n		\n			\n\n\n\n\n\n\n	\n		\n			Formazione finanziata\nLa quota di partecipazione all’iniziativa può essere completamente rimborsata tramite voucher promossi dai Fondi Paritetici Interprofessionali. Paradigma offre la completa e gratuita gestione delle spese di progettazione\, monitoraggio e rendiconto. \n\n		\n	\n\n\n\n		\n	\n\n	\n		\n			\n\n\n\n\n\n\n	\n		\n			Mercati elettronici della PA\nParadigma opera sul MePA e sui principali mercati elettronici di soggetti aggregatori e centrali di committenza. \n\n		\n	\n\n\n\n		\n	\n\n	\n		\n			\n	\n\n\n	I campi con (*) sono obbligatori\n	\n		\n		Dati relativi all'evento\n		\n		\n			Partecipazione in aula\n			Partecipazione in videoconferenza\n		\n		\n\n		Dati relativi al richiedente\n		\n		\n		\n		\n		\n		\n		\n		\n\n	\n\n	\n\n		Dati per eventuale partecipante under 30\n		\n		\n		\n\n	\n\n	\n\n		Dati per la fatturazione elettronica\n		\n		\n		\n		\n		\n		\n				\n		\n		\n		  Split Payment:\n          \n            \n              \n              Si \n            No\n          \n        \n		\n		\n		\n		\n	\n\n	\n\n		Per informazioni contattare\n		\n		\n		\n		\n		\n	\n	L'iscrizione all'evento formativo si intende perfezionata al momento del ricevimento\, da parte di Paradigma Srl\, del presente modulo di registrazione compilato in ogni sua parte\, stampato\, firmato e inviato via e-mail all'indirizzo info@paradigma.it. Riceverete via email conferma dell'avvenuta iscrizione. \n\n\n		\n	     Acconsento all'invio di comunicazioni sui servizi Paradigma Srl - Consenso finalizzato\, anche con modalità automatizzate\, all'invio di comunicazioni relative a prodotti e servizi di Paradigma Srl e al fine di ricevere materiale informativo o promozionale.\n	\n	     Acconsento alla personalizzazione delle offerte - Consenso finalizzato\, mediante modalità automatizzate\, a personalizzare i servizi forniti e meglio indirizzare le proposte promozionali grazie ad attività di profilazione.\n	\n	Inviando i dati autorizzi Paradigma Srl a utilizzare i tuoi dati personali per evadere la richiesta di partecipazione all’evento formativo e svolgere le attività a ciò connesse. I dati potranno essere trattati\, per conto di Paradigma Srl\, da dipendenti e collaboratori incaricati di svolgere specifici servizi necessari all’esecuzione delle tue richieste. Il conferimento dei tuoi dati\, pur essendo facoltativo\, si rende necessario per l’esecuzione del servizio richiesto.	\n\n\n\n\n		\n\n\n\n\n\n		\n	\n[/vc_column][/vc_row]
URL:https://paradigma.it/iniziativa/mifid-ii-5/
CATEGORIES:Disciplina Investimenti
ORGANIZER;CN="Angela%20Siniscalchi":MAILTO:asiniscalchi@paradigma.it
END:VEVENT
END:VCALENDAR