BEGIN:VCALENDAR
VERSION:2.0
PRODID:-//Paradigma srl - ECPv5.2.1//NONSGML v1.0//EN
CALSCALE:GREGORIAN
METHOD:PUBLISH
X-WR-CALNAME:Paradigma srl
X-ORIGINAL-URL:https://paradigma.it
X-WR-CALDESC:Eventi per Paradigma srl
BEGIN:VTIMEZONE
TZID:Europe/Rome
BEGIN:DAYLIGHT
TZOFFSETFROM:+0100
TZOFFSETTO:+0200
TZNAME:CEST
DTSTART:20250330T010000
END:DAYLIGHT
BEGIN:STANDARD
TZOFFSETFROM:+0200
TZOFFSETTO:+0100
TZNAME:CET
DTSTART:20251026T010000
END:STANDARD
END:VTIMEZONE
BEGIN:VEVENT
DTSTART;TZID=Europe/Rome:20250610T093000
DTEND;TZID=Europe/Rome:20250610T170000
DTSTAMP:20260421T145900
CREATED:20250402T133113Z
LAST-MODIFIED:20250606T090858Z
UID:22933-1749547800-1749574800@paradigma.it
SUMMARY:L’utilizzo dell’Intelligenza Artificiale  in ambito anticorruzione e trasparenza
DESCRIPTION:[vc_row][vc_column]\n	\n		\n			\n		\n	\n\n	\n		\n			 \n\n		\n	\n\n	\n		\n			09.30 - 13.30  14.30 - 17.00 \n\n		\n	\n\n	\n		\n			Evento in diretta streaming \n\n		\n	\n\n	\n		\n			 \n\n		\n	\n\n	\n		\n			\n\n		\n	\nPresentazioneProgrammaDocentiBrochureIscrizioni e CondizioniPresentazione\n	\n		\n			Contenuti dell’evento \nIl webinar esamina gli strumenti e le applicazioni dell’intelligenza artificiale nella Pubblica Amministrazione\, anche allargata (es. società ed enti a controllo pubblico)\, con particolare riferimento alla prevenzione della corruzione\, alla trasparenza amministrativa e\, più in generale\, all’etica pubblica. \nNell’ambito dell’incontro i partecipanti avranno l’opportunità di esaminare esperienze applicate e di confrontarsi con gli autorevoli docenti nell’ottica di cogliere utili spunti in ottica applicativa. \nDestinatari dell’evento \nL’evento formativo è rivolto ai Dirigenti\, ai RPCT\, ai funzionari operanti in Area IT\, di tutte le Pubbliche Amministrazioni ed enti di diritto privato variamente soggetti alla l. n. 190/2012. \nL’evento rappresenta un’importante occasione di confronto anche per i professionisti che operano nell’ambito dei processi di intelligenza artificiale. \nObiettivi dell’evento \nObiettivo dell’incontro è fornire un quadro ampio e\, quanto più\, operativo in merito alle attuali soluzioni applicate di intelligenza artificiale in ambito pubblico. \n\n\n		\n	\nProgramma\n	\n		\n			Martedì 10 giugno 2025 \nI fondamenti dell’Intelligenza Artificiale\nConcetti chiave di IA\nMachine learning\, deep learning e data mining\nAlgoritmi e tecniche di analisi dei dati\nClassificazione\, clustering e reti neurali\nImplicazioni etiche e legali dell’uso di IA\nNormative internazionali e locali\nPrivacy e protezione dei dati \nLe applicazioni dell’IA nella strategia di contrasto ai fenomeni corruttivi\nGli strumenti di analisi predittiva\nL’identificazione di modelli di rischio\nLa previsione delle anomalie\nIl riconoscimento di schemi fraudolenti\nLe tecnologie di text mining e Natural Language Processing (NLP)\nL’analisi di grandi dataset (big data) per individuare irregolarità\nCase study e applicazioni di successo nel settore pubblico e privato \nLe applicazioni dell’IA alla trasparenza e alla governance\nMonitoraggio e auditing automatizzato\nAlgoritmi per la trasparenza nei contratti pubblici\nDashboard e report basati su IA\nAnalisi dei flussi finanziari\nTracciabilità delle transazioni\nIdentificazione di paradisi fiscali e flussi illeciti\nPartecipazione civica e piattaforme trasparenti\nSoluzioni IA per promuovere la collaborazione con i cittadini \nLimiti\, rischi dell’IA e possibili soluzioni\nBias algoritmici (dati di training non rappresentativi)\nPrivacy (GDPR e trattamento dati sensibili)\nSovraffidamento nella tecnologia\nAudit periodici degli algoritmi\nIntegrazione con controlli umani \nLaboratori pratici e casi d’uso registrati\nAnalisi dei dati pubblici: rilevare incongruenze in bandi di gara\, fatture\, contratti\nMonitoraggio transazioni: identificare flussi finanziari anomali (es. AML)\nCorrettezza contributiva nella Pubblica Amministrazione e nelle assicurazioni: congruenza tra i dati aziendali e le contribuzioni\, correttezza dei crediti vantati\, ecc\nIndirizzo efficace delle attività di vigilanza ispettiva\nSegnalazione automatica: alert per potenziali conflitti di interesse\nIl sistema ”Aria”* del MEF per gli appalti pubblici \n  \nIng. Vittorio Mordanini\nINAIL \nDott. Alessandro Pastorelli\nINAIL \n\n\n		\n	\nDocenti\n	\n		\n			Ing. Vittorio Mordanini\nCoordinatore Generale\nConsulenza Innovazione Tecnologica\nINAIL \nDott. Alessandro Pastorelli\nDirigente Pubblico\nResponsabile Servizio Ispettorato e Sicurezza e RPCT\nComponente di Organismi Indipendenti di Valutazione\nINAIL \n\n\n		\n	\nBrochure\n	\n		\n			 Scarica la brochure\n\n		\n	\nIscrizioni e Condizioni\n	\n		\n			Quota di partecipazione \nLa quota di partecipazione in aula virtuale (diretta streaming) include la fruizione in diretta delle docenze\, nonché l’invio\, in formato elettronico\, del materiale didattico che i relatori riterranno di mettere a disposizione. È inoltre prevista la possibilità di presentare in diretta domande e quesiti di specifico interesse a mezzo chat\, nonché di sottoporli in via preventiva\, inviando una email a info@paradigma.it entro il giorno antecedente l’evento. \nIn caso di videoconferenza con accessi multipli è necessario contattare la Segreteria organizzativa per un preventivo personalizzato. \nModalità di funzionamento della videoconferenza \nE’ possibile accedere all’aula virtuale da qualsiasi luogo\, utilizzando il proprio PC o tablet con una semplice connessione a Internet. La piattaforma informatica utilizzata da Paradigma (Adobe Connect) non necessita di requisiti tecnici particolari. \nNei giorni antecedenti l’evento il partecipante riceverà per posta elettronica le credenziali e le istruzioni di accesso. Il giorno dell’evento sarà sufficiente selezionare il link che troverà nella mail e inserire le credenziali per accedere all’aula virtuale. \nDurante gli interventi\, oltre a vedere e sentire i docenti\, è possibile consultare simultaneamente la documentazione predisposta dal relatore. Ogni utente collegato potrà porre domande sulle tematiche affrontate a mezzo chat\, alle quali il docente risponderà nel corso dell’intervento. \nModalità di iscrizione \nL’iscrizione si perfeziona al momento del ricevimento del modulo di registrazione\, da inviare via e-mail all’indirizzo info@paradigma.it\, integralmente compilato. Il numero dei collegamenti disponibili è limitato e la priorità d’iscrizione è determinata dalla data di ricezione del modulo di registrazione. Si consiglia pertanto di effettuare una preiscrizione telefonica. \nModalità di pagamento \nLa quota di partecipazione deve essere versata all’atto della presentazione della richiesta di iscrizione e\, in ogni caso\, prima dell’effettuazione dell’evento formativo\, tramite bonifico bancario intestato a: \nParadigma Srl – Corso Vittorio Emanuele II\, 68 – 10121 Torino\nc/o Banco BPM Spa\nIBAN IT 14 V 05034 01017 000000002530 \nFormazione finanziata \nLa quota di partecipazione può essere completamente rimborsata tramite voucher promossi dai Fondi Paritetici Interprofessionali. Paradigma offre la completa e gratuita gestione delle spese di progettazione\, monitoraggio e rendicontazione. La possibilità di accedere alla formazione finanziata con partecipazione mediante videoconferenza può variare a seconda dell’Ente erogante. \nAttestato di frequenza \nL’attestato di partecipazione nominativo sarà inviato al termine dell’evento formativo ai partecipanti che si sono regolarmente collegati all’aula virtuale. \nDiritto di recesso e modalità di disdetta \nÈ attribuita ai partecipanti la facoltà di recedere ai sensi dell’art. 1373 c.c. Il recesso dovrà essere comunicato in forma scritta almeno sette giorni prima della data di inizio dell’evento formativo (escluso il sabato e la domenica). Qualora la disdetta pervenga oltre tale termine o si verifichi di fatto con il mancato collegamento alla videoconferenza\, la quota di partecipazione sarà addebitata per intero e sarà inviato al partecipante il materiale didattico. In qualunque momento l’azienda o lo studio potranno comunque sostituire il partecipante\, comunicando il nuovo nominativo alla nostra Segreteria organizzativa. \nVariazioni di programma \nParadigma\, per ragioni eccezionali e imprevedibili\, si riserva di annullare o modificare la data dell’evento formativo\, dandone comunicazione agli interessati entro tre giorni dalla data di inizio prevista. In tali casi le quote di partecipazione pervenute verranno rimborsate\, con esclusione di qualsivoglia onere o obbligo a carico di Paradigma. Paradigma si riserva inoltre\, per ragioni sopravvenute e per cause di forza maggiore\, di modificare l’articolazione del programma e di sostituire i docenti previsti con altri docenti di pari livello professionale. \nPer ulteriori informazioni è possibile contattare la Segreteria organizzativa al numero 011.538686 o all’indirizzo e-mail info@paradigma.it. \n\n\n		\n	\n\n\n	\n		\n			Quota di partecipazione\n	\n		\n			€ 1.100 + Iva\n\n		\n	\n\n	\n		\n			In caso di videoconferenza con accessi multipli è necessario contattare la Segreteria organizzativa per un preventivo personalizzato. \n\n		\n	\n\n\n		\n	\n\n	\n		\n			\n\n\n\n\n\n\n	\n		\n			Early booking -20%\nInviando il modulo di iscrizione entro il 20 maggio si avrà diritto a una riduzione del 20% sulla quota di partecipazione. \n\n		\n	\n\n\n\n		\n	\n\n	\n		\n			\n\n		\n	\n\n	\n		\n			\n\n		\n	\n\n	\n		\n			\n\n\n\n\n\n\n	\n		\n			Progetto Giovani Eccellenze -50%\nL’adesione all’evento formativo permette di iscrivere una seconda risorsa\, che non abbia compiuto il 30° anno di età e proveniente dalla stessa organizzazione\, con una riduzione del 50% sulla seconda quota di partecipazione. L’agevolazione è calcolata sulla quota ordinaria. \n\n		\n	\n\n\n\n		\n	\n\n	\n		\n			\n\n\n\n\n\n\n	\n		\n			Formazione finanziata\nLa quota di partecipazione all’iniziativa può essere completamente rimborsata tramite voucher promossi dai Fondi Paritetici Interprofessionali. Paradigma offre la completa e gratuita gestione delle spese di progettazione\, monitoraggio e rendiconto. \n\n		\n	\n\n\n\n		\n	\n\n	\n		\n			\n\n\n\n\n\n\n	\n		\n			Mercati elettronici della PA\nParadigma opera sul MePA e sui principali mercati elettronici di soggetti aggregatori e centrali di committenza. \n\n		\n	\n\n\n\n		\n	\n\n	\n		\n			\n	\n\n\n	I campi con (*) sono obbligatori\n	\n		\n		Dati relativi all'evento\n		\n		\n			Partecipazione in aula\n			Partecipazione in videoconferenza\n		\n		\n\n		Dati relativi al richiedente\n		\n		\n		\n		\n		\n		\n		\n		\n\n	\n\n	\n\n		Dati per eventuale partecipante under 30\n		\n		\n		\n\n	\n\n	\n\n		Dati per la fatturazione elettronica\n		\n		\n		\n		\n		\n		\n				\n		\n		\n		  Split Payment:\n          \n            \n              \n              Si \n            No\n          \n        \n		\n		\n		\n		\n	\n\n	\n\n		Per informazioni contattare\n		\n		\n		\n		\n		\n	\n	L'iscrizione all'evento formativo si intende perfezionata al momento del ricevimento\, da parte di Paradigma Srl\, del presente modulo di registrazione compilato in ogni sua parte\, stampato\, firmato e inviato via e-mail all'indirizzo info@paradigma.it. Riceverete via email conferma dell'avvenuta iscrizione. \n\n\n		\n	     Acconsento all'invio di comunicazioni sui servizi Paradigma Srl - Consenso finalizzato\, anche con modalità automatizzate\, all'invio di comunicazioni relative a prodotti e servizi di Paradigma Srl e al fine di ricevere materiale informativo o promozionale.\n	\n	     Acconsento alla personalizzazione delle offerte - Consenso finalizzato\, mediante modalità automatizzate\, a personalizzare i servizi forniti e meglio indirizzare le proposte promozionali grazie ad attività di profilazione.\n	\n	Inviando i dati autorizzi Paradigma Srl a utilizzare i tuoi dati personali per evadere la richiesta di partecipazione all’evento formativo e svolgere le attività a ciò connesse. I dati potranno essere trattati\, per conto di Paradigma Srl\, da dipendenti e collaboratori incaricati di svolgere specifici servizi necessari all’esecuzione delle tue richieste. Il conferimento dei tuoi dati\, pur essendo facoltativo\, si rende necessario per l’esecuzione del servizio richiesto.	\n\n\n\n\n		\n\n\n\n\n\n		\n	\n[/vc_column][/vc_row]
URL:https://paradigma.it/iniziativa/lutilizzo-dellintelligenza-artificiale-in-ambito-anticorruzione-e-trasparenza/
CATEGORIES:Anticorruzione e Trasparenza PA
ORGANIZER;CN="Veronica%20Spiez":MAILTO:vspiez@paradigma.it
END:VEVENT
END:VCALENDAR