BEGIN:VCALENDAR
VERSION:2.0
PRODID:-//Paradigma srl - ECPv5.2.1//NONSGML v1.0//EN
CALSCALE:GREGORIAN
METHOD:PUBLISH
X-WR-CALNAME:Paradigma srl
X-ORIGINAL-URL:https://paradigma.it
X-WR-CALDESC:Eventi per Paradigma srl
BEGIN:VTIMEZONE
TZID:Europe/Rome
BEGIN:DAYLIGHT
TZOFFSETFROM:+0100
TZOFFSETTO:+0200
TZNAME:CEST
DTSTART:20240331T010000
END:DAYLIGHT
BEGIN:STANDARD
TZOFFSETFROM:+0200
TZOFFSETTO:+0100
TZNAME:CET
DTSTART:20241027T010000
END:STANDARD
END:VTIMEZONE
BEGIN:VEVENT
DTSTART;TZID=Europe/Rome:20240924T093000
DTEND;TZID=Europe/Rome:20240924T180000
DTSTAMP:20260421T151451
CREATED:20240722T151244Z
LAST-MODIFIED:20240920T104557Z
UID:21124-1727170200-1727200800@paradigma.it
SUMMARY:L’evoluzione della governance nel sistema bancario e finanziario
DESCRIPTION:[vc_row][vc_column]\n	\n		\n			\n		\n	\n\n	\n		\n			\nComposizione del CdA\nFit & Proper Assessment\nIntegrazione dei fattori ESG\nGovernance dei rischi ICT\nAdempimenti AML\nRemunerazioni\nImpatto del DDL Capitali\n\nI docenti\, nel corso dell’evento formativo\, risponderanno alle domande e alle richieste di chiarimenti formulate dai partecipanti. Eventuali quesiti potranno essere anticipati inviando una email all’indirizzo asorba@paradigma.it \n \n\n		\n	\n\n	\n		\n			Evento in videoconferenza \n\n		\n	\n\n	\n		\n			24 settembre 2024 \n\n		\n	\n\n	\n		\n			 \n\n		\n	\n\n	\n		\n			\n\n		\n	\nPresentazioneProgrammaDocentiBrochureIscrizioni e CondizioniPresentazione\n	\n		\n			Contenuti dell’evento \nNel corso della giornata di studi saranno analizzati i recenti sviluppi in materia di governance nel sistema bancario e finanziario\, alla luce della recente evoluzione normativa e regolamentare e della più diffusa prassi applicativa. \nIn particolare\, dopo una disamina delle disposizioni sulla composizione del CdA e sulla verifica dei requisiti dei suoi componenti\, saranno approfonditi il ruolo e le funzioni dell’organo amministrativo nell’adozione della normativa ESG\, nella governance dei rischi ICT e nell’implementazione dei nuovi adempimenti antiriciclaggio. \nSaranno infine trattati i temi connessi al ruolo e alle responsabilità del CdA e del Comitato Remunerazioni in materia di politiche e prassi di remunerazione e incentivazione. \nDestinatari dell’evento \nL’evento formativo è rivolto ai Responsabili della Segreteria Societaria\, ai Responsabili degli Affari Legali e Societari\, ai General Counsel\, ai componenti dei Board\, ai Sindaci\, ai componenti dei Comitati di tutto il sistema bancario e finanziario\, nonché ai professionisti che si occupano della materia. \nObiettivi dell’evento \nObiettivo dell’incontro è fornire ai partecipanti un quadro dettagliato e completo dei recenti sviluppi in materia di governance nel sistema bancario e finanziario\, alla luce della recente evoluzione normativa e regolamentare e della più diffusa prassi applicativa. \n\n\n		\n	\nProgramma\n	\n		\n			Martedì 24 settembre 2024 \nLa composizione del CdA e la verifica dei requisiti degli amministratori nella recente evoluzione normativa e nella prassi operativa\nRequisiti di professionalità e criteri di competenza\nRequisiti di indipendenza generale e indipendenza di giudizio\nRequisiti di onorabilità e criteri di correttezza\nDisponibilità di tempo e limite al cumulo degli incarichi\nAutovalutazione dei singoli esponenti e verifica del CdA\nLe verifiche dei requisiti di idoneità da parte della BCE\nProf. Avv. Marco Ventoruzzo\nUniversità Bocconi di Milano\nPedersoliGattai \nFit & Proper Assessment: linee evolutive alla luce degli orientamenti delle Autorità di Vigilanza e delle visite ispettive\nLe linee Guida sul “Fit & Proper”: la view di BCE\, EBA e Banca d’Italia\nLesson Learned e Best Practice di mercato\nFocus dedicati a:\n• composizione e organizzazione del CdA: diversificazione di competenze\, genere e durata di permanenza in carica\, composizione ottimale ed effettiva del CdA\, successione delle cariche\n• funzionamento: organizzazione delle riunioni\, rapporti tra CdA e funzioni di controllo\, Comitato Rischi\, ruolo del Presidente\nDott. Luca Galli\nEY Advisory \nIl ruolo e le responsabilità del CdA nell’adozione della normativa sulla sostenibilità e nell’integrazione dei fattori ESG\nIl quadro normativo di riferimento in materia di sostenibilità\nI principi relativi ai rischi climatici e il ruolo del CdA\nIl rafforzamento delle competenze ESG nei componenti del CdA\nLa mappatura dei rischi ESG e gli strumenti per la loro gestione\nIl ruolo e le responsabilità del CdA nel procedimento di formazione del Report di Sostenibilità\nL’implementazione e la gestione dei flussi informativi\nProf. Avv. Paolo Valensise\nUniversità Roma Tre\nChiomenti \nI compiti e le responsabilità degli organi apicali nella governance dei rischi ICT (dal 40° Aggiornamento della Circolare Banca d’Italia n. 285/2013 al Regolamento DORA)\nLa definizione dell’assetto organizzativo\, metodologico e strutturale\nI rapporti con le funzioni aziendali\, con la nuova funzione di controllo rischi ICT e la gestione dei flussi di reporting\nLa definizione della strategia ICT\, dei piani di azione e delle relative misure da adottare\nI documenti aziendali e le procedure oggetto di approvazione\nL’esternalizzazione del sistema informativo e l’erogazione dei servizi ICT da terze parti\nLa definizione dei piani di continuità operativa\nProf. Marco Giorgino\nPolitecnico di Milano\nPresidente Comitato Rischi Mediobanca \nIl ruolo e le responsabilità del CdA in ambito AML e gli adempimenti a carico degli intermediari\nLa designazione di un membro del CdA con funzione di referente per l’attuazione della normativa AML\nIl quadro di governance e di controllo interno adeguato ed efficace per garantire il rispetto degli obblighi AML\nLa vigilanza sull’attuazione delle politiche e delle procedure AML\nI rapporti con il Compliance Officer AML\nLa valutazione dell’effettivo funzionamento della funzione AML\nL’implementazione e la gestione dei flussi informativi\nAvv. Francesco Martiniello\nillimity Bank \nIl ruolo e le responsabilità del CdA e del Comitato Remunerazioni in tema di politiche e prassi di remunerazione e incentivazione\nL’identificazione del personale “più rilevante”\nLa neutralità delle politiche di remunerazione rispetto al genere\nIl ruolo del Comitato Remunerazioni\nL’integrazione dei parametri di sostenibilità nelle politiche di remunerazione\nIl bilanciamento tra componente fissa e variabile nella strutturazione dei piani\nI compensi dei consiglieri non esecutivi\, dei componenti dell’organo di controllo e dei componenti delle funzioni aziendali di controllo\nProf. Avv. Paola Lucantoni\nUniversità Tor Vergata di Roma \nBanca Monte dei Paschi di Siena \nABI \n\n\n		\n	\nDocenti\n	\n		\n			Dott. Luca Galli\nPartner\nItaly Business Consulting Leader\nEY Advisory \nProf. Marco Giorgino\nOrdinario di Istituzioni e Mercati Finanziari\nPolitecnico di Milano\nPresidente Comitato Rischi\nMediobanca\nPresidente Comitato Controllo Rischi e Sostenibilità\nTerna \nProf. Avv. Paola Lucantoni\nAssociato di Diritto dei Mercati Finanziari\nUniversità Tor Vergata di Roma\nAmministratore Indipendente\nBanca Monte dei Paschi di Siena\nConsigliere di Amministrazione\nABI \nAvv. Francesco Martiniello\nChief Compliance & AFC Officer\nillimity Bank \nProf. Avv. Paolo Valensise\nOrdinario di Diritto Commerciale\nUniversità Roma Tre\nPartner\nChiomenti \nProf. Avv. Marco Ventoruzzo\nOrdinario di Diritto Commerciale\nUniversità Bocconi di Milano\nPartner\nPedersoliGattai \n\n\n		\n	\nBrochure\n	\n		\n			 Scarica la brochure\n\n		\n	\nIscrizioni e Condizioni\n	\n		\n			Quota di partecipazione \nLa quota di partecipazione in aula virtuale (diretta streaming) include la fruizione in diretta delle docenze\, nonché l’invio\, in formato elettronico\, del materiale didattico che i relatori riterranno di mettere a disposizione. È inoltre prevista la possibilità di presentare in diretta domande e quesiti di specifico interesse a mezzo chat\, nonché di sottoporli in via preventiva\, inviando una email a info@paradigma.it entro il giorno antecedente l’evento. \nIn caso di videoconferenza con accessi multipli è necessario contattare la Segreteria organizzativa per un preventivo personalizzato. \nModalità di funzionamento della videoconferenza \nE’ possibile accedere all’aula virtuale da qualsiasi luogo\, utilizzando il proprio PC o tablet con una semplice connessione a Internet. La piattaforma informatica utilizzata da Paradigma (Adobe Connect) non necessita di requisiti tecnici particolari. \nNei giorni antecedenti l’evento il partecipante riceverà per posta elettronica le credenziali e le istruzioni di accesso. Il giorno dell’evento sarà sufficiente selezionare il link che troverà nella mail e inserire le credenziali per accedere all’aula virtuale. \nDurante gli interventi\, oltre a vedere e sentire i docenti\, è possibile consultare simultaneamente la documentazione predisposta dal relatore. Ogni utente collegato potrà porre domande sulle tematiche affrontate a mezzo chat\, alle quali il docente risponderà nel corso dell’intervento. \nModalità di iscrizione \nL’iscrizione si perfeziona al momento del ricevimento del modulo di registrazione\, da inviare via e-mail all’indirizzo info@paradigma.it\, integralmente compilato. Il numero dei collegamenti disponibili è limitato e la priorità d’iscrizione è determinata dalla data di ricezione del modulo di registrazione. Si consiglia pertanto di effettuare una preiscrizione telefonica. \nModalità di pagamento \nLa quota di partecipazione deve essere versata all’atto della presentazione della richiesta di iscrizione e\, in ogni caso\, prima dell’effettuazione dell’evento formativo\, tramite bonifico bancario intestato a: \nParadigma Srl – Corso Vittorio Emanuele II\, 68 – 10121 Torino\nc/o Banco BPM Spa\nIBAN IT 14 V 05034 01017 000000002530 \nFormazione finanziata \nLa quota di partecipazione può essere completamente rimborsata tramite voucher promossi dai Fondi Paritetici Interprofessionali. Paradigma offre la completa e gratuita gestione delle spese di progettazione\, monitoraggio e rendicontazione. La possibilità di accedere alla formazione finanziata con partecipazione mediante videoconferenza può variare a seconda dell’Ente erogante. \nAttestato di frequenza \nL’attestato di partecipazione nominativo sarà inviato al termine dell’evento formativo ai partecipanti che si sono regolarmente collegati all’aula virtuale. \nDiritto di recesso e modalità di disdetta \nÈ attribuita ai partecipanti la facoltà di recedere ai sensi dell’art. 1373 c.c. Il recesso dovrà essere comunicato in forma scritta almeno sette giorni prima della data di inizio dell’evento formativo (escluso il sabato e la domenica). Qualora la disdetta pervenga oltre tale termine o si verifichi di fatto con il mancato collegamento alla videoconferenza\, la quota di partecipazione sarà addebitata per intero e sarà inviato al partecipante il materiale didattico. In qualunque momento l’azienda o lo studio potranno comunque sostituire il partecipante\, comunicando il nuovo nominativo alla nostra Segreteria organizzativa. \nVariazioni di programma \nParadigma\, per ragioni eccezionali e imprevedibili\, si riserva di annullare o modificare la data dell’evento formativo\, dandone comunicazione agli interessati entro tre giorni dalla data di inizio prevista. In tali casi le quote di partecipazione pervenute verranno rimborsate\, con esclusione di qualsivoglia onere o obbligo a carico di Paradigma. Paradigma si riserva inoltre\, per ragioni sopravvenute e per cause di forza maggiore\, di modificare l’articolazione del programma e di sostituire i docenti previsti con altri docenti di pari livello professionale. \nPer ulteriori informazioni è possibile contattare la Segreteria organizzativa al numero 011.538686 o all’indirizzo e-mail info@paradigma.it. \n\n\n		\n	\n\n\n	\n		\n			Quota di partecipazione\n	\n		\n			€ 1.100 + Iva\n\n		\n	\n\n	\n		\n			In caso di videoconferenza con accessi multipli è necessario contattare la Segreteria organizzativa per un preventivo personalizzato. \n\n		\n	\n\n\n		\n	\n\n	\n		\n			\n\n\n\n\n\n\n	\n		\n			Early booking -20%\nInviando il modulo di iscrizione entro il 3 settembre si avrà diritto a una riduzione del 20% sulla quota di partecipazione. \n\n		\n	\n\n\n\n		\n	\n\n	\n		\n			\n\n		\n	\n\n	\n		\n			\n\n		\n	\n\n	\n		\n			\n\n\n\n\n\n\n	\n		\n			Progetto Giovani Eccellenze -50%\nL’adesione all’evento formativo permette di iscrivere una seconda risorsa\, che non abbia compiuto il 30° anno di età e proveniente dalla stessa organizzazione\, con una riduzione del 50% sulla seconda quota di partecipazione. L’agevolazione è calcolata sulla quota ordinaria. \n\n		\n	\n\n\n\n		\n	\n\n	\n		\n			\n\n\n\n\n\n\n	\n		\n			Formazione finanziata\nLa quota di partecipazione all’iniziativa può essere completamente rimborsata tramite voucher promossi dai Fondi Paritetici Interprofessionali. Paradigma offre la completa e gratuita gestione delle spese di progettazione\, monitoraggio e rendiconto. \n\n		\n	\n\n\n\n		\n	\n\n	\n		\n			\n\n\n\n\n\n\n	\n		\n			Mercati elettronici della PA\nParadigma opera sul MePA e sui principali mercati elettronici di soggetti aggregatori e centrali di committenza. \n\n		\n	\n\n\n\n		\n	\n\n	\n		\n			\n	\n\n\n	I campi con (*) sono obbligatori\n	\n		\n		Dati relativi all'evento\n		\n		\n			Partecipazione in aula\n			Partecipazione in videoconferenza\n		\n		\n\n		Dati relativi al richiedente\n		\n		\n		\n		\n		\n		\n		\n		\n\n	\n\n	\n\n		Dati per eventuale partecipante under 30\n		\n		\n		\n\n	\n\n	\n\n		Dati per la fatturazione elettronica\n		\n		\n		\n		\n		\n		\n				\n		\n		\n		  Split Payment:\n          \n            \n              \n              Si \n            No\n          \n        \n		\n		\n		\n		\n	\n\n	\n\n		Per informazioni contattare\n		\n		\n		\n		\n		\n	\n	L'iscrizione all'evento formativo si intende perfezionata al momento del ricevimento\, da parte di Paradigma Srl\, del presente modulo di registrazione compilato in ogni sua parte\, stampato\, firmato e inviato via e-mail all'indirizzo info@paradigma.it. Riceverete via email conferma dell'avvenuta iscrizione. \n\n\n		\n	     Acconsento all'invio di comunicazioni sui servizi Paradigma Srl - Consenso finalizzato\, anche con modalità automatizzate\, all'invio di comunicazioni relative a prodotti e servizi di Paradigma Srl e al fine di ricevere materiale informativo o promozionale.\n	\n	     Acconsento alla personalizzazione delle offerte - Consenso finalizzato\, mediante modalità automatizzate\, a personalizzare i servizi forniti e meglio indirizzare le proposte promozionali grazie ad attività di profilazione.\n	\n	Inviando i dati autorizzi Paradigma Srl a utilizzare i tuoi dati personali per evadere la richiesta di partecipazione all’evento formativo e svolgere le attività a ciò connesse. I dati potranno essere trattati\, per conto di Paradigma Srl\, da dipendenti e collaboratori incaricati di svolgere specifici servizi necessari all’esecuzione delle tue richieste. Il conferimento dei tuoi dati\, pur essendo facoltativo\, si rende necessario per l’esecuzione del servizio richiesto.	\n\n\n\n\n		\n\n\n\n\n\n		\n	\n[/vc_column][/vc_row]
URL:https://paradigma.it/iniziativa/levoluzione-della-governance-nel-sistema-bancario-e-finanziario-2/
CATEGORIES:Governance e Diritto Societario
ORGANIZER;CN="Angela%20Siniscalchi":MAILTO:asiniscalchi@paradigma.it
END:VEVENT
END:VCALENDAR