BEGIN:VCALENDAR
VERSION:2.0
PRODID:-//Paradigma srl - ECPv5.2.1//NONSGML v1.0//EN
CALSCALE:GREGORIAN
METHOD:PUBLISH
X-WR-CALNAME:Paradigma srl
X-ORIGINAL-URL:https://paradigma.it
X-WR-CALDESC:Eventi per Paradigma srl
BEGIN:VTIMEZONE
TZID:Europe/Rome
BEGIN:DAYLIGHT
TZOFFSETFROM:+0100
TZOFFSETTO:+0200
TZNAME:CEST
DTSTART:20250330T010000
END:DAYLIGHT
BEGIN:STANDARD
TZOFFSETFROM:+0200
TZOFFSETTO:+0100
TZNAME:CET
DTSTART:20251026T010000
END:STANDARD
END:VTIMEZONE
BEGIN:VEVENT
DTSTART;TZID=Europe/Rome:20251114T093000
DTEND;TZID=Europe/Rome:20251114T133000
DTSTAMP:20260419T172612
CREATED:20251006T154024Z
LAST-MODIFIED:20251112T133354Z
UID:25130-1763112600-1763127000@paradigma.it
SUMMARY:Le segnalazioni whistleblowing nel settore pubblico alla luce delle Linee Guida ANAC sui canali interni
DESCRIPTION:[vc_row][vc_column]\n	\n		\n			\n		\n	\n\n	\n		\n			La redazione della procedura e delle informative\nGli adempimenti del RPCT\nL’iter della segnalazione\nLa gestione dell’istruttoria\nLa trasmissione della segnalazione\nI raccordi con altri organi interni \n \n\n		\n	\n\n	\n		\n			09.30 – 13.30 \n\n		\n	\n\n	\n		\n			Evento in diretta streaming \n\n		\n	\n\n	\n		\n			 \n\n		\n	\n\n	\n		\n			\n\n		\n	\nPresentazioneProgrammaDocentiBrochureIscrizioni e CondizioniPresentazione\n	\n		\n			Contenuti dell’evento \nNel corso del workshop\, con approccio fortemente laboratoriale\, saranno analizzate le buone prassi per la gestione delle segnalazioni whistleblowing per i soggetti del settore pubblico\, nel quadro del D. Lgs. n. 24/2023 delle Linee Guida ANAC (Delibera n. 311/2023 e canali interni)\, con particolare riferimento agli accorgimenti organizzativi e procedurali. \nL’approccio del workshop vuole essere immediatamente operativo\, nell’ottica di fornire ai discenti un tracciato di punti di attenzione e un valido strumento per la gestione delle segnalazioni di violazioni. \nDestinatari dell’evento \nIl convegno si rivolge ai Responsabili della Prevenzione della Corruzione e della Trasparenza (RPCT)\, alle relative strutture di supporto nonché ai dirigenti e ai funzionari tenuti all’adempimento degli obblighi anticorruzione e trasparenza\, accesso civico di pp.aa.\, società pubbliche ed enti di diritto privato soggetti alla Legge n. 190/2012\, ma anche ai responsabili di Organismi di diritto pubblico e concessionari di servizi. \nL’approccio didattico adottato e il numero limitato delle connessioni consentirà ai partecipanti di raccogliere importanti indicazioni su: \n– le ultime novità di normative in materia di whistleblowing per i soggetti del settore pubblico;\n– gli adempimenti correlati\, soprattutto in termini di organizzazione;\n– i punti di attenzione in relazione alle opportunità e criticità che potrebbero prospettarsi. \nObiettivi dell’evento \nObiettivo del seminario è supportare operativamente anzitutto gli RPCT\, ma anche i referenti di enti non soggetti alla nomina del RPCT\, fornendo ai partecipanti una rappresentazione articolata di strumenti operativi e soluzioni pratiche in tema di whistleblowing\, nell’ottica di un pieno adeguamento alla vigente normativa\, giurisprudenza e prassi di riferimento\, attraverso simulazioni in aula e l’analisi di best practice\, casi concreti e criticità applicative. \n\n\n		\n	\nProgramma\n	\n		\n			Venerdì 14 novembre 2025 \n  \nIl quadro normativo e di prassi: dalla Direttiva UE 1937/2019 alle Linee Guida ANAC (Delibera ANAC n. 311/2023 e LLGG ANAC sui canali interni) \nLa disciplina dei soggetti del settore pubblico: in particolare\, gli Organismi di diritto pubblico\, i concessionari di servizi\, le società quotate a controllo pubblico \nLa redazione della procedura e delle informative \nLe singole fasi dell’iter della segnalazione \nLa valutazione preliminare: la segnalazione inammissibile \nL’istruttoria del RPCT \nLa trasmissione della segnalazione \nI raccordi con altri organi interni: Organismo Indipendente di Valutazione\, Organismo di Vigilanza\, Organi di controllo \nIl segreto e gli adempimenti data protection \nLa conservazione delle segnalazioni \nLa registrazione delle segnalazioni (whistleblowing e anonime) \n  \nAvv. Alessio Ubaldi\nUB LEGAL Studio Legale Ubaldi \n\n\n		\n	\nDocenti\n	\n		\n			Avv. Alessio Ubaldi \nFondatore di UB LEGAL Studio Legale Ubaldi. \nDocente a contratto della Scuola Nazionale dell’Amministrazione (SNA) in Anticorruzione\, Trasparenza e Contrattualistica pubblica. \nComponente di vari Organismi Indipendenti di Valutazione. \nAssiste primarie PP.AA.\, società pubbliche ed enti di diritto privato a rilevanza pubblicistica. \nAutore di manuali e numerosissime pubblicazioni in materia di diritto amministrativo e penale\, con particolare riferimento alla contrattualistica pubblica\, alla prevenzione della corruzione e alla trasparenza amministrativa. \n\n\n		\n	\nBrochure\n	\n		\n			 Scarica la brochure\n\n		\n	\nIscrizioni e Condizioni\n	\n		\n			Quota di partecipazione \nLa quota di partecipazione in diretta streaming include la fruizione degli interventi\, nonché la possibilità di scaricare\, in formato elettronico\, il materiale didattico che i relatori riterranno di mettere a disposizione. \nÈ inoltre prevista la possibilità di rivolgere contestualmente domande ai docenti (attivando il proprio microfono o tramite chat)\, oppure sottoporle in via preventiva\, inviando una e-mail a info@paradigma.it entro il giorno antecedente l’evento. \nIn caso di diretta streaming con accessi multipli è necessario contattare la Segreteria Organizzativa per un preventivo personalizzato. \nModalità di funzionamento della diretta streaming \nLe iniziative formative sono fruibili in diretta streaming attraverso un semplice collegamento alla piattaforma dedicata. La piattaforma è strutturata per garantire un ottimo livello di fruizione e interazione e non necessita di particolari requisiti tecnici. \nAlcuni giorni prima dell’evento il partecipante riceve le istruzioni di accesso e sarà sufficiente selezionare il link ricevuto per accedere all’aula virtuale. \nGli interventi in diretta streaming sono supportati dalle slide predisposte dal docente. Ogni utente collegato potrà intervenire formulando domande o richieste di approfondimento attivando il proprio microfono o utilizzando la chat dedicata. \nModalità di iscrizione \nL’iscrizione si perfeziona al momento del ricevimento del modulo di registrazione\, da inviare via e-mail all’indirizzo info@paradigma.it\, integralmente compilato e sottoscritto. Il numero dei collegamenti disponibili è limitato e la priorità d’iscrizione è determinata dalla data di ricezione del modulo di registrazione. Si consiglia pertanto di effettuare una preiscrizione telefonica. \nModalità di pagamento \nLa quota di partecipazione deve essere versata all’atto della presentazione della richiesta di iscrizione e\, in ogni caso\, prima dell’effettuazione dell’evento formativo\, tramite bonifico bancario intestato a: \nParadigma Srl – Corso Vittorio Emanuele II\, 68 – 10121 Torino\nc/o Banco BPM Spa\nIBAN IT 14 V 05034 01017 000000002530 \nFormazione finanziata \nLa quota di partecipazione può essere completamente rimborsata tramite voucher promossi dai Fondi Paritetici Interprofessionali. Paradigma offre la completa e gratuita gestione delle spese di progettazione\, monitoraggio e rendicontazione. La possibilità di accedere alla formazione finanziata con partecipazione mediante diretta streaming può variare a seconda dell’Ente erogante. \nAttestato di frequenza \nL’attestato di partecipazione nominativo sarà inviato al termine dell’evento formativo ai partecipanti che si sono regolarmente collegati all’aula virtuale. \nDiritto di recesso e modalità di disdetta \nÈ attribuita ai partecipanti la facoltà di recedere ai sensi dell’art. 1373 c.c. Il recesso dovrà essere comunicato in forma scritta almeno sette giorni prima della data di inizio dell’evento formativo (escluso il sabato e la domenica). Qualora la disdetta pervenga oltre tale termine o si verifichi di fatto con il mancato collegamento alla diretta streaming\, la quota di partecipazione sarà addebitata per intero e sarà inviato al partecipante il materiale didattico e\, se disponibile e per un periodo limitato\, la registrazione dell’evento. In qualunque momento l’azienda o lo studio potranno comunque sostituire il partecipante\, comunicando il nuovo nominativo alla nostra Segreteria Organizzativa. \nVariazioni di programma \nParadigma\, per ragioni eccezionali e imprevedibili\, si riserva di annullare o modificare la data dell’evento formativo\, dandone comunicazione agli interessati entro tre giorni dalla data di inizio prevista. In tali casi le quote di partecipazione pervenute verranno rimborsate\, con esclusione di qualsivoglia onere o obbligo a carico di Paradigma. Paradigma si riserva inoltre\, per ragioni sopravvenute e per cause di forza maggiore\, di modificare l’articolazione del programma e di sostituire i docenti previsti con altri docenti di pari livello professionale. \nPer ulteriori informazioni è possibile contattare la Segreteria Organizzativa al numero 011.538686 o all’indirizzo e-mail info@paradigma.it. \n\n\n		\n	\n\n\n	\n		\n			Quota di partecipazione\n	\n		\n			€ 650 + Iva\n\n		\n	\n\n	\n		\n			In caso di videoconferenza con accessi multipli è necessario contattare la Segreteria organizzativa per un preventivo personalizzato. \n\n		\n	\n\n\n		\n	\n\n	\n		\n			\n\n\n\n\n\n\n	\n		\n			Early booking -20%\nInviando il modulo di iscrizione entro il 24 ottobre si avrà diritto a una riduzione del 20% sulla quota di partecipazione. \n\n		\n	\n\n\n\n		\n	\n\n	\n		\n			\n\n\n\n\n\n\n	\n		\n			Quota corporate\nIscrivi all’evento 5 o più risorse provenienti dalla stessa organizzazione con una riduzione del 50%. \n\n		\n	\n\n\n\n		\n	\n\n	\n		\n			\n\n		\n	\n\n	\n		\n			\n\n\n\n\n\n\n	\n		\n			Progetto Giovani Eccellenze -50%\nL’adesione all’evento formativo permette di iscrivere una seconda risorsa\, che non abbia compiuto il 30° anno di età e proveniente dalla stessa organizzazione\, con una riduzione del 50% sulla seconda quota di partecipazione. L’agevolazione è calcolata sulla quota ordinaria. \n\n		\n	\n\n\n\n		\n	\n\n	\n		\n			\n\n\n\n\n\n\n	\n		\n			Formazione finanziata\nLa quota di partecipazione all’iniziativa può essere completamente rimborsata tramite voucher promossi dai Fondi Paritetici Interprofessionali. Paradigma offre la completa e gratuita gestione delle spese di progettazione\, monitoraggio e rendiconto. \n\n		\n	\n\n\n\n		\n	\n\n	\n		\n			\n\n\n\n\n\n\n	\n		\n			Mercati elettronici della PA\nParadigma opera sul MePA e sui principali mercati elettronici di soggetti aggregatori e centrali di committenza. \n\n		\n	\n\n\n\n		\n	\n\n	\n		\n			\n	\n\n\n	I campi con (*) sono obbligatori\n	\n		\n		Dati relativi all'evento\n		\n		\n			Partecipazione in aula\n			Partecipazione in videoconferenza\n		\n		\n\n		Dati relativi al richiedente\n		\n		\n		\n		\n		\n		\n		\n		\n\n	\n\n	\n\n		Dati per eventuale partecipante under 30\n		\n		\n		\n\n	\n\n	\n\n		Dati per la fatturazione elettronica\n		\n		\n		\n		\n		\n		\n				\n		\n		\n		  Split Payment:\n          \n            \n              \n              Si \n            No\n          \n        \n		\n		\n		\n		\n	\n\n	\n\n		Per informazioni contattare\n		\n		\n		\n		\n		\n	\n	L'iscrizione all'evento formativo si intende perfezionata al momento del ricevimento\, da parte di Paradigma Srl\, del presente modulo di registrazione compilato in ogni sua parte\, stampato\, firmato e inviato via e-mail all'indirizzo info@paradigma.it. Riceverete via email conferma dell'avvenuta iscrizione. \n\n\n		\n	     Acconsento all'invio di comunicazioni sui servizi Paradigma Srl - Consenso finalizzato\, anche con modalità automatizzate\, all'invio di comunicazioni relative a prodotti e servizi di Paradigma Srl e al fine di ricevere materiale informativo o promozionale.\n	\n	     Acconsento alla personalizzazione delle offerte - Consenso finalizzato\, mediante modalità automatizzate\, a personalizzare i servizi forniti e meglio indirizzare le proposte promozionali grazie ad attività di profilazione.\n	\n	Inviando i dati autorizzi Paradigma Srl a utilizzare i tuoi dati personali per evadere la richiesta di partecipazione all’evento formativo e svolgere le attività a ciò connesse. I dati potranno essere trattati\, per conto di Paradigma Srl\, da dipendenti e collaboratori incaricati di svolgere specifici servizi necessari all’esecuzione delle tue richieste. Il conferimento dei tuoi dati\, pur essendo facoltativo\, si rende necessario per l’esecuzione del servizio richiesto.	\n\n\n\n\n		\n\n\n\n\n\n		\n	\n[/vc_column][/vc_row]
URL:https://paradigma.it/iniziativa/le-segnalazioni-whistleblowing-nel-settore-pubblico-alla-luce-delle-linee-guida-anac-sui-canali-interni-2/
CATEGORIES:Anticorruzione e Trasparenza PA
ORGANIZER;CN="Veronica%20Spiez":MAILTO:vspiez@paradigma.it
END:VEVENT
END:VCALENDAR