BEGIN:VCALENDAR
VERSION:2.0
PRODID:-//Paradigma srl - ECPv5.2.1//NONSGML v1.0//EN
CALSCALE:GREGORIAN
METHOD:PUBLISH
X-WR-CALNAME:Paradigma srl
X-ORIGINAL-URL:https://paradigma.it
X-WR-CALDESC:Eventi per Paradigma srl
BEGIN:VTIMEZONE
TZID:Europe/Rome
BEGIN:DAYLIGHT
TZOFFSETFROM:+0100
TZOFFSETTO:+0200
TZNAME:CEST
DTSTART:20250330T010000
END:DAYLIGHT
BEGIN:STANDARD
TZOFFSETFROM:+0200
TZOFFSETTO:+0100
TZNAME:CET
DTSTART:20251026T010000
END:STANDARD
END:VTIMEZONE
BEGIN:VEVENT
DTSTART;TZID=Europe/Rome:20251007T093000
DTEND;TZID=Europe/Rome:20251007T180000
DTSTAMP:20260421T150252
CREATED:20250904T090926Z
LAST-MODIFIED:20251003T131713Z
UID:24492-1759829400-1759860000@paradigma.it
SUMMARY:Le responsabilità dei vertici  delle società pubbliche  e degli Enti soci
DESCRIPTION:[vc_row][vc_column]\n	\n		\n			\n		\n	\n\n	\n		\n			 \n\n		\n	\n\n	\n		\n			09.30 - 13.30  14.30 - 18.00 \n\n		\n	\n\n	\n		\n			Evento in diretta streaming \n\n		\n	\n\n	\n		\n			 \n\n		\n	\n\n	\n		\n			\n\n		\n	\nPresentazioneProgrammaDocentiBrochureIscrizioni e CondizioniPresentazione\n	\n		\n			Contenuti dell’evento \nIn un contesto istituzionale sempre più esposto ai riflettori dell’efficienza\, dell’etica e della trasparenza\, diventa fondamentale interrogarsi sul ruolo e sulle responsabilità dei vertici delle società a partecipazione pubblica e degli Enti soci. \nNel corso dell’evento formativo sarà presentato un quadro giuridico aggiornato e una riflessione critica sulla materia\, ponendo al centro tre ambiti chiave: \n– responsabilità amministrativa\, civile e penale: i componenti degli organi societari – Amministratori e organi di controllo – rispondono delle proprie azioni secondo le norme ordinarie delle società di capitali\, \n– governance e modelli organizzativi: la definizione di un modello di corporate governance è essenziale per chiarire ruoli\, responsabilità e dinamiche interne\, \n– responsabilità degli Enti soci: è cruciale interrogarsi sull’applicabilità agli Enti pubblici della disciplina sulla responsabilità da attività di direzione e coordinamento (artt. 2497 e ss. c.c.). \nIn sintesi\, l’evento si propone come un momento di confronto multidisciplinare\, mirato a favorire una cultura della responsabilità e della governance consapevole nelle società pubbliche e nelle relazioni con gli enti soci. \nDestinatari dell’evento \nL’evento è destinato ai componenti degli organi di amministrazione e di controllo\, Dirigenti e funzionari di tutte le società pubbliche (sia partecipate che controllate) in qualunque assetto societario (spa\, srl\, in house\, miste\, ecc.). \nL’evento è destinato inoltre agli Amministratori\, ai Direttori Generali\, ai Dirigenti e funzionari di tutte le Pubbliche Amministrazioni (centrali e locali) che detengono partecipazioni societarie. \nAnche i professionisti del diritto d’impresa\, societario e del diritto amministrativo che si occupano di queste materie potranno trovare nel convegno sicuri spunti di interesse e occasioni di incontro e conoscenza. \nObiettivi dell’evento \nL’obiettivo dell’evento è presentare un’analisi sistemica delle responsabilità giuridiche connesse alla gestione delle società pubbliche\, attraverso il confronto tra rappresentanti istituzionali ed esperti su prassi\, casi concreti e soluzioni operative in ambito di governance\, prevenzione e responsabilità. \n\n\n		\n	\nProgramma\n	\n		\n			Martedì 7 ottobre 2025 \nIl sistema delle responsabilità erariali di amministratori\, dipendenti ed Enti soci nelle società pubbliche\nPres. Tommaso Miele\nCorte dei Conti \nTra responsabilità e controlli. Tra TUSP e decreto di riordino\nProf. Stefano Pozzoli\nUniversità di Napoli Parthenope \nIl controllo societario e l’attività di direzione e coordinamento degli Enti pubblici locali\nProf. Avv. Paolo Valensise\nUniversità Roma Tre\nChiomenti \nLe responsabilità degli Amministratori nel reclutamento e nella disciplina del personale\nAvv. Pasquale Monea\nCamera di Commercio di Chieti-Pescara \nLe verifiche ispettive della RGS e gli effetti potenziali sugli Amministratori di società\nDott. Pietro Coluzzi\nRagioneria Generale dello Stato – MEF \nIl ruolo della procura penale e le responsabilità degli Amministratori di società\nProf. Avv. Francesco D’Alessandro \nUniversità Cattolica del Sacro Cuore di Milano \nChiomenti \n\n\n		\n	\nDocenti\n	\n		\n			Dott. Pietro Coluzzi\nDirigente Ufficio I\nSESD Servizio Studi Dipartimentale\nRagioneria Generale dello Stato\nMinistero dell’Economia e delle Finanze \nProf. Avv. Francesco D’Alessandro\nOrdinario di Diritto Penale Commerciale\nUniversità Cattolica del Sacro Cuore di Milano\nPartner\nResponsabile Team White Collar Crime\nChiomenti \nPres. Tommaso Miele\nPresidente Aggiunto\nCorte dei Conti \nAvv. Pasquale Monea\nSegretario Comunale Generale Metropolitano\nSegretario Generale\nCamera di Commercio di Chieti e Pescara \nProf. Stefano Pozzoli\nOrdinario di Economia Aziendale\nUniversità di Napoli Parthenope \nProf. Avv. Paolo Valensise\nOrdinario di Diritto Commerciale\nUniversità Roma Tre\nPartner\nChiomenti \n\n\n		\n	\nBrochure\n	\n		\n			 Scarica la brochure\n\n		\n	\nIscrizioni e Condizioni\n	\n		\n			Quota di partecipazione \nLa quota di partecipazione in diretta streaming include la fruizione degli interventi\, nonché la possibilità di scaricare\, in formato elettronico\, il materiale didattico che i relatori riterranno di mettere a disposizione. \nÈ inoltre prevista la possibilità di rivolgere contestualmente domande ai docenti (attivando il proprio microfono o tramite chat)\, oppure sottoporle in via preventiva\, inviando una e-mail a info@paradigma.it entro il giorno antecedente l’evento. \nIn caso di diretta streaming con accessi multipli è necessario contattare la Segreteria Organizzativa per un preventivo personalizzato. \nModalità di funzionamento della diretta streaming \nLe iniziative formative sono fruibili in diretta streaming attraverso un semplice collegamento alla piattaforma dedicata. La piattaforma è strutturata per garantire un ottimo livello di fruizione e interazione e non necessita di particolari requisiti tecnici. \nAlcuni giorni prima dell’evento il partecipante riceve le istruzioni di accesso e sarà sufficiente selezionare il link ricevuto per accedere all’aula virtuale. \nGli interventi in diretta streaming sono supportati dalle slide predisposte dal docente. Ogni utente collegato potrà intervenire formulando domande o richieste di approfondimento attivando il proprio microfono o utilizzando la chat dedicata. \nModalità di iscrizione \nL’iscrizione si perfeziona al momento del ricevimento del modulo di registrazione\, da inviare via e-mail all’indirizzo info@paradigma.it\, integralmente compilato e sottoscritto. Il numero dei collegamenti disponibili è limitato e la priorità d’iscrizione è determinata dalla data di ricezione del modulo di registrazione. Si consiglia pertanto di effettuare una preiscrizione telefonica. \nModalità di pagamento \nLa quota di partecipazione deve essere versata all’atto della presentazione della richiesta di iscrizione e\, in ogni caso\, prima dell’effettuazione dell’evento formativo\, tramite bonifico bancario intestato a: \nParadigma Srl – Corso Vittorio Emanuele II\, 68 – 10121 Torino\nc/o Banco BPM Spa\nIBAN IT 14 V 05034 01017 000000002530 \nFormazione finanziata \nLa quota di partecipazione può essere completamente rimborsata tramite voucher promossi dai Fondi Paritetici Interprofessionali. Paradigma offre la completa e gratuita gestione delle spese di progettazione\, monitoraggio e rendicontazione. La possibilità di accedere alla formazione finanziata con partecipazione mediante diretta streaming può variare a seconda dell’Ente erogante. \nAttestato di frequenza \nL’attestato di partecipazione nominativo sarà inviato al termine dell’evento formativo ai partecipanti che si sono regolarmente collegati all’aula virtuale. \nDiritto di recesso e modalità di disdetta \nÈ attribuita ai partecipanti la facoltà di recedere ai sensi dell’art. 1373 c.c. Il recesso dovrà essere comunicato in forma scritta almeno sette giorni prima della data di inizio dell’evento formativo (escluso il sabato e la domenica). Qualora la disdetta pervenga oltre tale termine o si verifichi di fatto con il mancato collegamento alla diretta streaming\, la quota di partecipazione sarà addebitata per intero e sarà inviato al partecipante il materiale didattico e\, se disponibile e per un periodo limitato\, la registrazione dell’evento. In qualunque momento l’azienda o lo studio potranno comunque sostituire il partecipante\, comunicando il nuovo nominativo alla nostra Segreteria Organizzativa. \nVariazioni di programma \nParadigma\, per ragioni eccezionali e imprevedibili\, si riserva di annullare o modificare la data dell’evento formativo\, dandone comunicazione agli interessati entro tre giorni dalla data di inizio prevista. In tali casi le quote di partecipazione pervenute verranno rimborsate\, con esclusione di qualsivoglia onere o obbligo a carico di Paradigma. Paradigma si riserva inoltre\, per ragioni sopravvenute e per cause di forza maggiore\, di modificare l’articolazione del programma e di sostituire i docenti previsti con altri docenti di pari livello professionale. \nPer ulteriori informazioni è possibile contattare la Segreteria Organizzativa al numero 011.538686 o all’indirizzo e-mail info@paradigma.it. \n\n\n		\n	\n\n\n	\n		\n			Quota di partecipazione\n	\n		\n			€ 1.100 + Iva\n\n		\n	\n\n	\n		\n			In caso di videoconferenza con accessi multipli è necessario contattare la Segreteria organizzativa per un preventivo personalizzato. \n\n		\n	\n\n\n		\n	\n\n	\n		\n			\n\n\n\n\n\n\n	\n		\n			Early booking -20%\nInviando il modulo di iscrizione entro il 16 settembre si avrà diritto a una riduzione del 20% sulla quota di partecipazione. \n\n		\n	\n\n\n\n		\n	\n\n	\n		\n			\n\n\n\n\n\n\n	\n		\n			Quota corporate\nIscrivi all’evento 5 o più risorse provenienti dalla stessa organizzazione con una riduzione del 50%. \n\n		\n	\n\n\n\n		\n	\n\n	\n		\n			\n\n		\n	\n\n	\n		\n			\n\n\n\n\n\n\n	\n		\n			Progetto Giovani Eccellenze -50%\nL’adesione all’evento formativo permette di iscrivere una seconda risorsa\, che non abbia compiuto il 30° anno di età e proveniente dalla stessa organizzazione\, con una riduzione del 50% sulla seconda quota di partecipazione. L’agevolazione è calcolata sulla quota ordinaria. \n\n		\n	\n\n\n\n		\n	\n\n	\n		\n			\n\n\n\n\n\n\n	\n		\n			Formazione finanziata\nLa quota di partecipazione all’iniziativa può essere completamente rimborsata tramite voucher promossi dai Fondi Paritetici Interprofessionali. Paradigma offre la completa e gratuita gestione delle spese di progettazione\, monitoraggio e rendiconto. \n\n		\n	\n\n\n\n		\n	\n\n	\n		\n			\n\n\n\n\n\n\n	\n		\n			Mercati elettronici della PA\nParadigma opera sul MePA e sui principali mercati elettronici di soggetti aggregatori e centrali di committenza. \n\n		\n	\n\n\n\n		\n	\n\n	\n		\n			\n	\n\n\n	I campi con (*) sono obbligatori\n	\n		\n		Dati relativi all'evento\n		\n		\n			Partecipazione in aula\n			Partecipazione in videoconferenza\n		\n		\n\n		Dati relativi al richiedente\n		\n		\n		\n		\n		\n		\n		\n		\n\n	\n\n	\n\n		Dati per eventuale partecipante under 30\n		\n		\n		\n\n	\n\n	\n\n		Dati per la fatturazione elettronica\n		\n		\n		\n		\n		\n		\n				\n		\n		\n		  Split Payment:\n          \n            \n              \n              Si \n            No\n          \n        \n		\n		\n		\n		\n	\n\n	\n\n		Per informazioni contattare\n		\n		\n		\n		\n		\n	\n	L'iscrizione all'evento formativo si intende perfezionata al momento del ricevimento\, da parte di Paradigma Srl\, del presente modulo di registrazione compilato in ogni sua parte\, stampato\, firmato e inviato via e-mail all'indirizzo info@paradigma.it. Riceverete via email conferma dell'avvenuta iscrizione. \n\n\n		\n	     Acconsento all'invio di comunicazioni sui servizi Paradigma Srl - Consenso finalizzato\, anche con modalità automatizzate\, all'invio di comunicazioni relative a prodotti e servizi di Paradigma Srl e al fine di ricevere materiale informativo o promozionale.\n	\n	     Acconsento alla personalizzazione delle offerte - Consenso finalizzato\, mediante modalità automatizzate\, a personalizzare i servizi forniti e meglio indirizzare le proposte promozionali grazie ad attività di profilazione.\n	\n	Inviando i dati autorizzi Paradigma Srl a utilizzare i tuoi dati personali per evadere la richiesta di partecipazione all’evento formativo e svolgere le attività a ciò connesse. I dati potranno essere trattati\, per conto di Paradigma Srl\, da dipendenti e collaboratori incaricati di svolgere specifici servizi necessari all’esecuzione delle tue richieste. Il conferimento dei tuoi dati\, pur essendo facoltativo\, si rende necessario per l’esecuzione del servizio richiesto.	\n\n\n\n\n		\n\n\n\n\n\n		\n	\n[/vc_column][/vc_row]
URL:https://paradigma.it/iniziativa/le-responsabilita-dei-vertici-delle-societa-pubbliche-e-degli-enti-soci/
CATEGORIES:SPL e Società Partecipate
ORGANIZER;CN="Veronica%20Spiez":MAILTO:vspiez@paradigma.it
END:VEVENT
END:VCALENDAR