BEGIN:VCALENDAR
VERSION:2.0
PRODID:-//Paradigma srl - ECPv5.2.1//NONSGML v1.0//EN
CALSCALE:GREGORIAN
METHOD:PUBLISH
X-WR-CALNAME:Paradigma srl
X-ORIGINAL-URL:https://paradigma.it
X-WR-CALDESC:Eventi per Paradigma srl
BEGIN:VTIMEZONE
TZID:Europe/Rome
BEGIN:DAYLIGHT
TZOFFSETFROM:+0100
TZOFFSETTO:+0200
TZNAME:CEST
DTSTART:20230326T010000
END:DAYLIGHT
BEGIN:STANDARD
TZOFFSETFROM:+0200
TZOFFSETTO:+0100
TZNAME:CET
DTSTART:20231029T010000
END:STANDARD
END:VTIMEZONE
BEGIN:VEVENT
DTSTART;TZID=Europe/Rome:20230524T093000
DTEND;TZID=Europe/Rome:20230524T180000
DTSTAMP:20260421T130619
CREATED:20230320T170117Z
LAST-MODIFIED:20230522T152832Z
UID:17589-1684920600-1684951200@paradigma.it
SUMMARY:Le polizze assicurative abbinate a finanziamenti
DESCRIPTION:[vc_row][vc_column]\n	\n		\n			\n		\n	\n\n	\n		\n			\nVerifica sul contenuto dei contratti e sulle procedure organizzative\nAdempimenti nei confronti di Banca d’Italia e Ivass\nVerifiche e presidi di medio e lungo termine\n\nI docenti\, nel corso dell’evento formativo\, risponderanno alle domande e alle richieste di chiarimenti formulate dai partecipanti. Eventuali quesiti potranno essere anticipati inviando una email all’indirizzo asorba@paradigma.it \n \n\n		\n	\n\n	\n		\n			Evento in videoconferenza \n\n		\n	\n\n	\n		\n			24 maggio 2023 \n\n		\n	\n\n	\n		\n			 \n\n		\n	\n\n	\n		\n			\n\n		\n	\nPresentazioneProgrammaDocentiBrochureIscrizioni e CondizioniPresentazione\n	\n		\n			Contenuti dell’evento \nNel corso dell’evento saranno presentate le modalità operative di adeguamento al nuovo quadro normativo e di prassi in tema di polizze abbinate a finanziamenti. \nSarà analizzato l’impatto del quadro normativo sulla strutturazione e distribuzione dei prodotti e tali approfondimenti costituiranno utili spunti per verificare l’efficacia delle azioni intraprese relativamente alla revisione dei contratti e alla definizione delle procedure di controllo sull’attività distributiva. \nSarà dato adeguato rilievo tanto ai profili di interesse per il mondo bancario e finanziario quanto a quelli rilevanti per il settore assicurativo. \nDestinatari dell’evento \nL’evento formativo è rivolto ai Responsabili degli Affari Legali\, ai Responsabili della Compliance e ai Responsabili delle Aree Commerciale e Internal Audit dei principali gruppi bancari\, finanziari e assicurativi. \nObiettivi dell’evento \nObiettivo dell’incontro è fornire ai partecipanti strumenti utili per la corretta strutturazione e pianificazione dell’attività contrattuale\, di distribuzione e di monitoraggio e controllo di polizze abbinate a finanziamenti\, anche in un’ottica di prevenzione e gestione di rilievi ed eventuali sanzioni dei regolatori e del relativo contenzioso. \n\n\n		\n	\nProgramma\n	\n		\n			Mercoledì 24 maggio 2023 \nIl quadro normativo dell’offerta di prodotti “abbinati” a finanziamenti \nLa ricostruzione del quadro normativo di riferimento\nLe previsioni dettate in tema di PPI dal quadro normativo in materia di concorrenza e crescita\nGli interventi in materia da parte di Ivass e Banca d’Italia.\nGli interventi delle Autorità di Vigilanza (IVASS\, Banca d’Italia e AGCM): la Lettera al mercato del 17 marzo 2020\nGli interventi dell’Autorità di vigilanza europea (EIOPA) in materia di polizze abbinate ai mutui e ai finanziamenti (CPI/PPI)\nProf. Avv. Pierpaolo Marano\nUniversità Cattolica del Sacro Cuore di Milano\nComponente dello IRSG EIOPA\nTLS Studio Legale e Commerciale \nGli obblighi relativi alla redazione dei contratti connessi ai mutui e ai finanziamenti\nGli obblighi di trasparenza e di informativa precontrattuale nel Regolamento Ivass n. 41/2018\nI criteri per la redazione e i contenuti dei DIP relativi ai contratti connessi ai mutui e ai finanziamenti\nLe condizioni generali di assicurazione alla luce della Lettera al Mercato Ivass del 14 marzo 2018\nLa lettera al mercato Ivass del 18 dicembre 2018: le modalità di calcolo del rimborso del premio non goduto e le indicazioni in tema di rimborso della frazione del premio annuale non goduto\nProf. Avv. Fabio Maniori\nUniversità Cattolica del Sacro Cuore di Milano\nStudio Maniori \nGli obblighi in tema di distribuzione di prodotti assicurativi abbinati a mutui e finanziamenti\nLa distribuzione delle polizze abbinate ai finanziamenti\nIl target market del produttore e del distributore nelle polizze abbinate ai finanziamenti\nIl value for money nei prodotti CPI/PPI anche alla luce delle indicazioni delle vigilanze europea e nazionale\nLe valutazioni delle esigenze e dei bisogni del cliente nell’ambito del “pacchetto” offerto: modalità dell’offerta ed esclusioni\nLe disposizioni regolamentari in materia di consulenza del “pacchetto” offerto\nGli obblighi di disclosure in capo all’impresa e all’intermediario: trasparenza su costi e remunerazioni\, alla luce del Provvedimento IVASS n. 97/2020\nI presidi di trasparenza a tutela del consumatore e la gestione e la mitigazione dei conflitti di interesse\nLe specifiche attività di controllo reti e i flussi informativi tra compagnie e distributori nell’ambito dei prodotti CPI\, PPI e Income Protection\nAvv. Andrea Polizzi\nD’Argenio Polizzi e Associati Studio Legale \nLe aree di attenzione nell’offerta di prodotti abbinati ai finanziamenti\nLa qualificazione della polizza come obbligatoria o facoltativa e la distribuzione di polizze “decorrelate”\nIl controllo delle reti distributive e monitoraggio sul possibile mis-selling\nLe richieste di estinzione anticipata e di trasferimento del finanziamento o del mutuo\nIl ruolo delle funzioni di controllo interno degli intermediari finanziari e bancari nel contesto della verifica della corretta distribuzione di polizze PPI\nL’attuazione del processo di Product Oversight and Governance relativo a prodotti PPI: la fase di testing\, la verifica dei conflitti di interessi la valutazione dei costi e del value for money\, la determinazione della strategia distributiva per i prodotti PPI.\nDott. Giuseppe Piano Mortari\nAssofin \nIl contenzioso in materia di prodotti assicurativi connessi a mutui e finanziamenti\nIl contenzioso in materia di polizze abbinate a finanziamenti: le pronunce della giurisprudenza\nLa posizione della giurisprudenza in relazione all’obbligo di restituzione della parte di premio non goduta anche alla luce della nuova regolamentazione Ivass\nPossibili contestazioni riferite al produttore e distributore e possibili approcci per la mitigazione dei rischi di complaints e di gestione del contenzioso\nOrientamenti dell’ABF in materia di polizze e TAEG: evoluzione nel tempo e possibili prospettive future\nAvv. Matteo D’Argenio\nD’Argenio Polizzi e Associati Studio Legale \n\n\n		\n	\nDocenti\n	\n		\n			Avv. Matteo D’Argenio\nFounding Partner\nD’Argenio Polizzi e Associati Studio Legale \nProf. Avv. Fabio Maniori\nDocente a contratto nel Master Digital Innovation & FinTech\nUniversità Cattolica del Sacro Cuore di Milano\nFounding Partner\nStudio Maniori \nProf. Avv. Pierpaolo Marano\nAssociato di Diritto delle Assicurazioni\nUniversità Cattolica del Sacro Cuore di Milano\nComponente dello IRSG EIOPA\nOf Counsel – TLS Studio Legale e Commerciale \nDott. Giuseppe Piano Mortari\nDirettore Operativo\nAssofin \nAvv. Andrea Polizzi\nFounding Partner\nD’Argenio Polizzi e Associati Studio Legale \n\n\n		\n	\nBrochure\n	\n		\n			 Scarica la brochure\n\n		\n	\nIscrizioni e Condizioni\n	\n		\n			Quota di partecipazione \nLa quota di partecipazione in aula virtuale (diretta streaming) include l’invio del materiale didattico in formato elettronico e la possibilità di sottoporre ai relatori quesiti di specifico interesse a mezzo chat. È altresì possibile anticipare domande e richieste di approfondimento inviando una e-mail a info@paradigma.it entro il giorno antecedente l’evento. \nIn caso di videoconferenza con accessi multipli è necessario contattare la Segreteria organizzativa per un preventivo personalizzato. \nModalità di funzionamento della videoconferenza \nE’ possibile accedere all’aula virtuale da qualsiasi luogo\, utilizzando il proprio PC o tablet con una semplice connessione a Internet. La piattaforma informatica utilizzata da Paradigma (Adobe Connect) non necessita di requisiti tecnici particolari. \nNei giorni antecedenti l’evento il partecipante riceverà per posta elettronica le credenziali e le istruzioni di accesso. Il giorno dell’evento sarà sufficiente selezionare il link che troverà nella mail e inserire le credenziali per accedere all’aula virtuale. \nDurante gli interventi\, oltre a vedere e sentire i docenti\, è possibile consultare simultaneamente la documentazione predisposta dal relatore. Ogni utente collegato potrà porre domande sulle tematiche affrontate a mezzo chat\, alle quali il docente risponderà nel corso dell’intervento. \nModalità di iscrizione \nL’iscrizione si perfeziona al momento del ricevimento del modulo di registrazione\, da inviare via e-mail all’indirizzo info@paradigma.it\, integralmente compilato. Il numero dei collegamenti disponibili è limitato e la priorità d’iscrizione è determinata dalla data di ricezione del modulo di registrazione. Si consiglia pertanto di effettuare una preiscrizione telefonica. \nModalità di pagamento \nLa quota di partecipazione deve essere versata all’atto della presentazione della richiesta di iscrizione e\, in ogni caso\, prima dell’effettuazione dell’evento formativo\, tramite bonifico bancario intestato a: \nParadigma Srl – Corso Vittorio Emanuele II\, 68 – 10121 Torino\nc/o Banco BPM Spa\nIBAN IT 14 V 05034 01017 000000002530 \nFormazione finanziata \nLa quota di partecipazione può essere completamente rimborsata tramite voucher promossi dai Fondi Paritetici Interprofessionali. Paradigma offre la completa e gratuita gestione delle spese di progettazione\, monitoraggio e rendicontazione. La possibilità di accedere alla formazione finanziata con partecipazione mediante videoconferenza può variare a seconda dell’Ente erogante. \nAttestato di frequenza \nL’attestato di partecipazione nominativo sarà inviato al termine dell’evento formativo ai partecipanti che si sono regolarmente collegati all’aula virtuale. \nDiritto di recesso e modalità di disdetta \nÈ attribuita ai partecipanti la facoltà di recedere ai sensi dell’art. 1373 c.c. Il recesso dovrà essere comunicato in forma scritta almeno sette giorni prima della data di inizio dell’evento formativo (escluso il sabato e la domenica). Qualora la disdetta pervenga oltre tale termine o si verifichi di fatto con il mancato collegamento alla videoconferenza\, la quota di partecipazione sarà addebitata per intero e sarà inviato al partecipante il materiale didattico. In qualunque momento l’azienda o lo studio potranno comunque sostituire il partecipante\, comunicando il nuovo nominativo alla nostra Segreteria organizzativa. \nVariazioni di programma \nParadigma\, per ragioni eccezionali e imprevedibili\, si riserva di annullare o modificare la data dell’evento formativo\, dandone comunicazione agli interessati entro tre giorni dalla data di inizio prevista. In tali casi le quote di partecipazione pervenute verranno rimborsate\, con esclusione di qualsivoglia onere o obbligo a carico di Paradigma. Paradigma si riserva inoltre\, per ragioni sopravvenute e per cause di forza maggiore\, di modificare l’articolazione del programma e di sostituire i docenti previsti con altri docenti di pari livello professionale. \nPer ulteriori informazioni è possibile contattare la Segreteria organizzativa al numero 011.538686 o all’indirizzo e-mail info@paradigma.it. \n\n\n		\n	\n\n\n	\n		\n			Quota di partecipazione\n	\n		\n			€ 1.100 + Iva\n\n		\n	\n\n	\n		\n			In caso di videoconferenza con accessi multipli è necessario contattare la Segreteria organizzativa per un preventivo personalizzato. \n\n		\n	\n\n\n		\n	\n\n	\n		\n			\n\n\n\n\n\n\n	\n		\n			Early booking -20%\nInviando il modulo di iscrizione entro il 3 maggio si avrà diritto a una riduzione del 20% sulla quota di partecipazione. \n\n		\n	\n\n\n\n		\n	\n\n	\n		\n			\n\n		\n	\n\n	\n		\n			\n\n		\n	\n\n	\n		\n			\n\n\n\n\n\n\n	\n		\n			Progetto Giovani Eccellenze -50%\nL’adesione all’evento formativo permette di iscrivere una seconda risorsa\, che non abbia compiuto il 30° anno di età e proveniente dalla stessa organizzazione\, con una riduzione del 50% sulla seconda quota di partecipazione. L’agevolazione è calcolata sulla quota ordinaria. \n\n		\n	\n\n\n\n		\n	\n\n	\n		\n			\n\n\n\n\n\n\n	\n		\n			Formazione finanziata\nLa quota di partecipazione all’iniziativa può essere completamente rimborsata tramite voucher promossi dai Fondi Paritetici Interprofessionali. Paradigma offre la completa e gratuita gestione delle spese di progettazione\, monitoraggio e rendiconto. \n\n		\n	\n\n\n\n		\n	\n\n	\n		\n			\n\n\n\n\n\n\n	\n		\n			Mercati elettronici della PA\nParadigma opera sul MePA e sui principali mercati elettronici di soggetti aggregatori e centrali di committenza. \n\n		\n	\n\n\n\n		\n	\n\n	\n		\n			\n	\n\n\n	I campi con (*) sono obbligatori\n	\n		\n		Dati relativi all'evento\n		\n		\n			Partecipazione in aula\n			Partecipazione in videoconferenza\n		\n		\n\n		Dati relativi al richiedente\n		\n		\n		\n		\n		\n		\n		\n		\n\n	\n\n	\n\n		Dati per eventuale partecipante under 30\n		\n		\n		\n\n	\n\n	\n\n		Dati per la fatturazione elettronica\n		\n		\n		\n		\n		\n		\n				\n		\n		\n		  Split Payment:\n          \n            \n              \n              Si \n            No\n          \n        \n		\n		\n		\n		\n	\n\n	\n\n		Per informazioni contattare\n		\n		\n		\n		\n		\n	\n	L'iscrizione all'evento formativo si intende perfezionata al momento del ricevimento\, da parte di Paradigma Srl\, del presente modulo di registrazione compilato in ogni sua parte\, stampato\, firmato e inviato via e-mail all'indirizzo info@paradigma.it. Riceverete via email conferma dell'avvenuta iscrizione. \n\n\n		\n	     Acconsento all'invio di comunicazioni sui servizi Paradigma Srl - Consenso finalizzato\, anche con modalità automatizzate\, all'invio di comunicazioni relative a prodotti e servizi di Paradigma Srl e al fine di ricevere materiale informativo o promozionale.\n	\n	     Acconsento alla personalizzazione delle offerte - Consenso finalizzato\, mediante modalità automatizzate\, a personalizzare i servizi forniti e meglio indirizzare le proposte promozionali grazie ad attività di profilazione.\n	\n	Inviando i dati autorizzi Paradigma Srl a utilizzare i tuoi dati personali per evadere la richiesta di partecipazione all’evento formativo e svolgere le attività a ciò connesse. I dati potranno essere trattati\, per conto di Paradigma Srl\, da dipendenti e collaboratori incaricati di svolgere specifici servizi necessari all’esecuzione delle tue richieste. Il conferimento dei tuoi dati\, pur essendo facoltativo\, si rende necessario per l’esecuzione del servizio richiesto.	\n\n\n\n\n		\n\n\n\n\n\n		\n	\n[/vc_column][/vc_row]
URL:https://paradigma.it/iniziativa/le-polizze-assicurative-abbinate-a-finanziamenti-6/
CATEGORIES:Assicurazioni
ORGANIZER;CN="Angela%20Siniscalchi":MAILTO:asiniscalchi@paradigma.it
END:VEVENT
END:VCALENDAR