BEGIN:VCALENDAR
VERSION:2.0
PRODID:-//Paradigma srl - ECPv5.2.1//NONSGML v1.0//EN
CALSCALE:GREGORIAN
METHOD:PUBLISH
X-WR-CALNAME:Paradigma srl
X-ORIGINAL-URL:https://paradigma.it
X-WR-CALDESC:Eventi per Paradigma srl
BEGIN:VTIMEZONE
TZID:Europe/Rome
BEGIN:DAYLIGHT
TZOFFSETFROM:+0100
TZOFFSETTO:+0200
TZNAME:CEST
DTSTART:20250330T010000
END:DAYLIGHT
BEGIN:STANDARD
TZOFFSETFROM:+0200
TZOFFSETTO:+0100
TZNAME:CET
DTSTART:20251026T010000
END:STANDARD
END:VTIMEZONE
BEGIN:VEVENT
DTSTART;TZID=Europe/Rome:20251007T093000
DTEND;TZID=Europe/Rome:20251008T170000
DTSTAMP:20260421T125938
CREATED:20250801T105310Z
LAST-MODIFIED:20251003T133742Z
UID:24161-1759829400-1759942800@paradigma.it
SUMMARY:Le pensioni per i lavoratori del settore privato - Corso base
DESCRIPTION:[vc_row][vc_column]\n	\n		\n			\n		\n	\n\n	\n		\n			 \n\n		\n	\n\n	\n		\n			09.30 - 13.30   14.30 - 17.00 \n\n		\n	\n\n	\n		\n			Evento in diretta streaming \n\n		\n	\n\n	\n		\n			 \n\n		\n	\n\n	\n		\n			\n\n		\n	\nPresentazioneProgrammaDocentiBrochureIscrizioni e CondizioniPresentazione\n	\n		\n			Contenuti dell’evento \nIl corso intende proporre ai partecipanti una panoramica sulla normativa in materia pensionistica. \nLa finalità delle due giornate formative è illustrare i principali e molteplici aspetti del sistema pensionistico e in particolare quali sono i requisiti richiesti per maturare un diritto a pensione\, i diversi sistemi di calcolo pensionistico nonché le modalità di valorizzazione della contribuzione versata presso diverse gestioni pensionistiche. \nLa frequenza consentirà ai partecipanti di analizzare gli argomenti trattati sotto l’aspetto normativo\, così da acquisire le conoscenze necessarie per gestire al meglio le situazioni che quotidianamente gli addetti ai lavori devono affrontare. \nGli argomenti trattati e il grado di approfondimento proposto presuppongono una conoscenza di base in materia pensionistica. \nDestinatari dell’evento \nL’evento formativo è rivolto ai Direttori del Personale\, ai Responsabili delle Relazioni Sindacali\, ai Responsabili della Gestione e dello Sviluppo del Personale\, Avvocati\, Consulenti del Lavoro e consulenti in materia lavoristica e previdenziale. \nObiettivi dell’evento \nObiettivo dell’incontro è fornire ai partecipanti un quadro normativo completo e sistematico in materia pensionistica anche alla luce della stratificazione delle disposizioni legislative intervenute nel corso degli ultimi anni. \n\n\n		\n	\nProgramma\n	\n		\n			Prima giornata\nMartedì 7 ottobre 2025 \n  \nIndividuazione del regime pensionistico di appartenenza: retributivo o contributivo \nLa facoltà di opzione al contributivo \nLe diverse tipologie di pensioni \nRequisiti ordinari della riforma Monti-Fornero\nPensione di vecchiaia e nuovi requisiti per la vecchiaia contributiva\nPensione anticipata e le novità per la pensione anticipata contributiva \nRequisiti derogatori\nI nuovi requisiti per l’anno 2025\nLa nuova pensione anticipata flessibile (62 anni di età e 41 anni di contribuzione nel 2025)\, calcolo contributivo e tetto pensionistico\nIncentivo al posticipo del pensionamento\nPensione quota 102 e quota 100\nOpzione donna: nuovi requisiti e condizioni soggettive\nApe sociale\nPensioni ai precoci e lavori usuranti \nLa speranza di vita: quando si applica\, le deroghe e la disapplicazione \n  \nSeconda giornata\nMercoledì 8 ottobre 2025 \n  \nI sistemi di calcolo: anzianità contributiva al 1995\nRetributivo/misto\nContributivo \nLe modalità di calcolo nei diversi sistemi\nQuote retributive\nQuota contributiva\nIl doppio calcolo delle pensioni \nCumulo dei periodi assicurativi \nGli altri istituti che indirettamente agiscono sulla flessibilità in uscita\nRicongiunzione dei periodi contributivi\nTotalizzazione italiana\nComputo \nLe nuove tipologie di riscatto\nRiscatto laurea ordinario e agevolato\nRiscatto per i periodi non coperti da contribuzione \n  \nDott.ssa Rita Ruotolo\nArea Normativa Gestione Esclusiva\nAnalisi Coordinamento delle Normative Previdenziali \nDirezione Centrale Pensioni\nINPS \n\n\n		\n	\nDocenti\n	\n		\n			Dott.ssa Rita Ruotolo * \nResponsabile del team Normativa Gestione Esclusiva\, Analisi Coordinamento delle Normative Previdenziali presso la Direzione Centrale Pensioni di INPS. \nSi occupa di ricerca\, studio e analisi della normativa in materia pensionistica e predispone Circolari interpretative con riferimento alle disposizioni legislative in materia. \nNel 2005 ha fatto parte della Commissione per la redazione di un Testo Unico delle disposizioni legislative in materia previdenziale di cui al DM 2 marzo 2005 e 13 ottobre 2005. \nHa svolto docenze in numerosi progetti formativi in materia pensionistica. \n  \n* La relazione è presentata a titolo personale e non impegna l’Ente di appartenenza. In attesa di autorizzazione. \n\n\n		\n	\nBrochure\n	\n		\n			 Scarica la brochure\n\n		\n	\nIscrizioni e Condizioni\n	\n		\n			Quota di partecipazione \nLa quota di partecipazione in diretta streaming include la fruizione degli interventi\, nonché la possibilità di scaricare\, in formato elettronico\, il materiale didattico che i relatori riterranno di mettere a disposizione. \nÈ inoltre prevista la possibilità di rivolgere contestualmente domande ai docenti (attivando il proprio microfono o tramite chat)\, oppure sottoporle in via preventiva\, inviando una e-mail a info@optime.it entro il giorno antecedente l’evento. \nIn caso di videoconferenza con accessi multipli è necessario contattare la Segreteria Organizzativa per un preventivo personalizzato. \nModalità di funzionamento della videoconferenza \nE’ possibile accedere all’aula virtuale da qualsiasi luogo\, utilizzando il proprio PC o tablet con una semplice connessione a Internet. La piattaforma informatica utilizzata da Optime non necessita di requisiti tecnici particolari. \nNei giorni antecedenti l’evento il partecipante riceverà per posta elettronica le credenziali e le istruzioni di accesso. Il giorno dell’evento sarà sufficiente selezionare il link che troverà nella mail e inserire le credenziali per accedere all’aula virtuale. \nDurante gli interventi\, oltre a vedere e sentire i docenti\, è possibile consultare simultaneamente la documentazione predisposta dal relatore. Ogni utente collegato potrà porre domande sulle tematiche affrontate (attivando il proprio microfono o tramite chat)\, alle quali il docente risponderà nel corso dell’intervento. \nModalità di iscrizione \nL’iscrizione si perfeziona al momento del ricevimento del modulo di registrazione\, da inviare via e-mail all’indirizzo info@optime.it\, integralmente compilato e sottoscritto. Il numero dei collegamenti disponibili è limitato e la priorità d’iscrizione è determinata dalla data di ricezione del modulo di registrazione. Si consiglia pertanto di effettuare una preiscrizione telefonica. \nModalità di pagamento \nLa quota di partecipazione deve essere versata all’atto della presentazione della richiesta di iscrizione e\, in ogni caso\, prima dell’effettuazione dell’evento formativo\, tramite bonifico bancario intestato a:\nParadigma Srl – Corso Vittorio Emanuele II\, 68 – 10121 Torino\nc/o Banco BPM Spa\nIBAN IT 14 V 05034 01017 000000002530 \nFormazione finanziata \nLa quota di partecipazione può essere completamente rimborsata tramite voucher promossi dai Fondi Paritetici Interprofessionali. Optime offre la completa e gratuita gestione delle spese di progettazione\, monitoraggio e rendicontazione. La possibilità di accedere alla formazione finanziata con partecipazione mediante videoconferenza può variare a seconda dell’Ente erogante. \nAttestato di frequenza \nL’attestato di partecipazione nominativo sarà inviato al termine dell’evento formativo ai partecipanti che si sono regolarmente collegati all’aula virtuale. \nDiritto di recesso e modalità di disdetta \nÈ attribuita ai partecipanti la facoltà di recedere ai sensi dell’art. 1373 c.c. Il recesso dovrà essere comunicato in forma scritta almeno sette giorni prima della data di inizio dell’evento formativo (escluso il sabato e la domenica). Qualora la disdetta pervenga oltre tale termine o si verifichi di fatto con il mancato collegamento alla videoconferenza\, la quota di partecipazione sarà addebitata per intero e sarà inviato al partecipante il materiale didattico e\, se disponibile e per un periodo limitato\, la registrazione dell’evento. In qualunque momento l’azienda o lo studio potranno comunque sostituire il partecipante\, comunicando il nuovo nominativo alla nostra Segreteria Oorganizzativa. \nVariazioni di programma \nParadigma\, per ragioni eccezionali e imprevedibili\, si riserva di annullare o modificare la data dell’evento formativo\, dandone comunicazione agli interessati entro tre giorni dalla data di inizio prevista. In tali casi le quote di partecipazione pervenute verranno rimborsate\, con esclusione di qualsivoglia onere o obbligo a carico di Paradigma. Paradigma si riserva inoltre\, per ragioni sopravvenute e per cause di forza maggiore\, di modificare l’articolazione del programma e di sostituire i docenti previsti con altri docenti di pari livello professionale. \nPer ulteriori informazioni è possibile contattare la Segreteria Organizzativa al numero 011.538686 o all’indirizzo e-mail info@optime.it. \n\n\n		\n	\n\n\n	\n		\n			Quota di partecipazione\n	\n		\n			€ 1.100 + Iva una giornata€ 2.050 + Iva due giornate\n\n		\n	\n\n	\n		\n			In caso di videoconferenza con accessi multipli è necessario contattare la Segreteria organizzativa per un preventivo personalizzato. \n\n		\n	\n\n\n		\n	\n\n	\n		\n			\n\n\n\n\n\n\n	\n		\n			Early booking -20%\nInviando il modulo di iscrizione entro il 16 settembre si avrà diritto a una riduzione del 20% sulla quota di partecipazione. \n\n		\n	\n\n\n\n		\n	\n\n	\n		\n			\n\n\n\n\n\n\n	\n		\n			Quota corporate\nIscrivi all’evento 5 o più risorse provenienti dalla stessa organizzazione con una riduzione del 50%. \n\n		\n	\n\n\n\n		\n	\n\n	\n		\n			\n\n		\n	\n\n	\n		\n			\n\n\n\n\n\n\n	\n		\n			Progetto Giovani Eccellenze -50%\nL’adesione all’evento formativo permette di iscrivere una seconda risorsa\, che non abbia compiuto il 30° anno di età e proveniente dalla stessa organizzazione\, con una riduzione del 50% sulla seconda quota di partecipazione. L’agevolazione è calcolata sulla quota ordinaria. \n\n		\n	\n\n\n\n		\n	\n\n	\n		\n			\n\n\n\n\n\n\n	\n		\n			Formazione finanziata\nLa quota di partecipazione all’iniziativa può essere completamente rimborsata tramite voucher promossi dai Fondi Paritetici Interprofessionali. Paradigma offre la completa e gratuita gestione delle spese di progettazione\, monitoraggio e rendiconto. \n\n		\n	\n\n\n\n		\n	\n\n	\n		\n			\n\n\n\n\n\n\n	\n		\n			Mercati elettronici della PA\nParadigma opera sul MePA e sui principali mercati elettronici di soggetti aggregatori e centrali di committenza. \n\n		\n	\n\n\n\n		\n	\n\n	\n		\n			\n	\n\n\n	I campi con (*) sono obbligatori\n	\n		\n		Dati relativi all'evento\n		\n		\n			Partecipazione in aula\n			Partecipazione in videoconferenza\n		\n		\n\n		Dati relativi al richiedente\n		\n		\n		\n		\n		\n		\n		\n		\n\n	\n\n	\n\n		Dati per eventuale partecipante under 30\n		\n		\n		\n\n	\n\n	\n\n		Dati per la fatturazione elettronica\n		\n		\n		\n		\n		\n		\n				\n		\n		\n		  Split Payment:\n          \n            \n              \n              Si \n            No\n          \n        \n		\n		\n		\n		\n	\n\n	\n\n		Per informazioni contattare\n		\n		\n		\n		\n		\n	\n	L'iscrizione all'evento formativo si intende perfezionata al momento del ricevimento\, da parte di Paradigma Srl\, del presente modulo di registrazione compilato in ogni sua parte\, stampato\, firmato e inviato via e-mail all'indirizzo info@paradigma.it. Riceverete via email conferma dell'avvenuta iscrizione. \n\n\n		\n	     Acconsento all'invio di comunicazioni sui servizi Paradigma Srl - Consenso finalizzato\, anche con modalità automatizzate\, all'invio di comunicazioni relative a prodotti e servizi di Paradigma Srl e al fine di ricevere materiale informativo o promozionale.\n	\n	     Acconsento alla personalizzazione delle offerte - Consenso finalizzato\, mediante modalità automatizzate\, a personalizzare i servizi forniti e meglio indirizzare le proposte promozionali grazie ad attività di profilazione.\n	\n	Inviando i dati autorizzi Paradigma Srl a utilizzare i tuoi dati personali per evadere la richiesta di partecipazione all’evento formativo e svolgere le attività a ciò connesse. I dati potranno essere trattati\, per conto di Paradigma Srl\, da dipendenti e collaboratori incaricati di svolgere specifici servizi necessari all’esecuzione delle tue richieste. Il conferimento dei tuoi dati\, pur essendo facoltativo\, si rende necessario per l’esecuzione del servizio richiesto.	\n\n\n\n\n		\n\n\n\n\n\n		\n	\n[/vc_column][/vc_row]
URL:https://paradigma.it/iniziativa/le-pensioni-per-i-lavoratori-del-settore-privato-corso-base-2/
CATEGORIES:Lavoro e Previdenza
ORGANIZER;CN="Veronica%20Spiez":MAILTO:vspiez@paradigma.it
END:VEVENT
END:VCALENDAR