BEGIN:VCALENDAR
VERSION:2.0
PRODID:-//Paradigma srl - ECPv5.2.1//NONSGML v1.0//EN
CALSCALE:GREGORIAN
METHOD:PUBLISH
X-WR-CALNAME:Paradigma srl
X-ORIGINAL-URL:https://paradigma.it
X-WR-CALDESC:Eventi per Paradigma srl
BEGIN:VTIMEZONE
TZID:Europe/Rome
BEGIN:DAYLIGHT
TZOFFSETFROM:+0100
TZOFFSETTO:+0200
TZNAME:CEST
DTSTART:20250330T010000
END:DAYLIGHT
BEGIN:STANDARD
TZOFFSETFROM:+0200
TZOFFSETTO:+0100
TZNAME:CET
DTSTART:20251026T010000
END:STANDARD
END:VTIMEZONE
BEGIN:VEVENT
DTSTART;TZID=Europe/Rome:20250513T093000
DTEND;TZID=Europe/Rome:20250513T180000
DTSTAMP:20260421T145821
CREATED:20250325T133716Z
LAST-MODIFIED:20250508T141245Z
UID:22839-1747128600-1747159200@paradigma.it
SUMMARY:Le operazioni  con parti correlate
DESCRIPTION:[vc_row][vc_column]\n	\n		\n			\n		\n	\n\n	\n		\n			\nMappatura dei soggetti\nLa vigilanza Consob e il procedimento sanzionatorio\nImplementazione delle “adeguate procedure”\nRapporti con la disciplina delle remunerazioni\nAttività di verifica e responsabilità\nCasi pratici e fattispecie dubbie\n\nI docenti\, nel corso dell’evento formativo\, risponderanno alle domande e alle richieste di chiarimenti formulate dai partecipanti. Eventuali quesiti potranno essere anticipati inviando una email all’indirizzo asorba@paradigma.it \n \n\n		\n	\n\n	\n		\n			Evento in videoconferenza \n\n		\n	\n\n	\n		\n			13 maggio 2025 \n\n		\n	\n\n	\n		\n			 \n\n		\n	\n\n	\n		\n			\n\n		\n	\nPresentazioneProgrammaDocentiBrochureIscrizioni e CondizioniPresentazione\n	\n		\n			Contenuti dell’evento \nNel corso della giornata di studi saranno analizzate le principali problematiche nell’implementazione della disciplina delle operazioni con parti correlate\, alla luce delle novità regolamentari e della più recente e diffusa prassi operativa. \nIn particolare\, saranno esaminate le difficoltà connesse alla definizione dell’ambito di applicazione della disciplina\, le modalità di implementazione delle “adeguate procedure”\, il regime delle esenzioni e le criticità connesse all’attività di direzione e coordinamento. \nSaranno presentati i profili di interesse nell’attività di vigilanza Consob e la disciplina del procedimento sanzionatorio\, nonché le criticità connesse all’attività di verifica da parte degli organi di controllo e le relative responsabilità. \nDestinatari dell’evento \nL’evento formativo è rivolto ai Responsabili della Segreteria Societaria\, ai Responsabili degli Affari Legali e Societari\, ai General Counsel\, ai componenti dei Board\, ai Sindaci\, ai componenti dei Comitati di tutte le società quotate\, nonchè ai professionisti esterni che operano nel settore societario e supportano le aziende nelle decisioni strategiche. \nObiettivi dell’evento \nObiettivo dell’incontro è fornire ai partecipanti un quadro dettagliato e completo delle principali problematiche nell’implementazione della disciplina delle operazioni con parti correlate\, attraverso l’analisi di casi concreti e la presentazione di soluzioni a problematiche operative. \n\n\n		\n	\nProgramma\n	\n		\n			Martedì 13 maggio 2025 \nAmbito di applicazione e definizioni: mappatura dei soggetti\, obblighi e applicazione estensiva\nAmbito di applicazione europeo e nazionale\nLe definizioni negli IAS/IFRS e nei Regolamenti Consob e Banca d’Italia\nL’area obbligatoria e quella facoltativa\nProf. Avv. Salvatore Providenti\nCarbonetti e Associati Studio Legale \nLe “adeguate procedure” alla luce della recente prassi operativa\nLe principali aree di interesse: considerazioni preliminari\nLa determinazione delle soglie di esiguità e l’eventuale individuazione di ulteriori criteri\nL’esenzione relativa alle operazioni ordinarie concluse a condizioni di mercato o standard di maggiore rilevanza\nArticolazione dell’iter istruttorio e deliberativo\nIl coinvolgimento del Comitato OPC nella possibile revisione delle procedure\nLa vigilanza del Collegio Sindacale\nProf. Avv. Paolo Valensise\nUniversità Roma Tre\nChiomenti \nIl regime delle esenzioni\nEsenzioni di default ed esenzioni facoltative\nLe remunerazioni degli esponenti aziendali e gli spazi di discrezionalità: art. 13\nIl Regolamento Consob dopo la Shareholders Rights Directive\nGli altri casi di esenzione\nLe OPC di valore esiguo\nLe OPC ordinarie a condizioni di mercato\nLe OPC urgenti\nLe OPC con le società controllate\nAvv. Emilia Pucci\nChiesi Farmaceutici \nDoveri di astensione\, interessi degli amministratori e attività di direzione e coordinamento\nLa disciplina degli interessi degli amministratori\nLa nozione di conflitto di interessi\nL’esercizio dell’attività di direzione e coordinamento e il comportamento degli amministratori dell’emittente soggetto a eterodirezione\nL’obbligo di astensione ed il calcolo dei quorum\nProf. Avv. Andrea Zoppini\nUniversità Roma Tre\nStudio del Prof. Avv. Andrea Zoppini e degli Avvocati Associati\nProf. Avv. Giovanni Strampelli\nUniversità Luigi Bocconi di Milano \nL’attività di verifica sulle operazioni e sulle procedure da parte degli organi di controllo e le relative responsabilità\nL’attività di vigilanza dell’organo di controllo: tra legittimità e adeguatezza degli assetti\nGli adeguati flussi informativi pre operazione e la verifica sul corretto inquadramento delle OPC\nL’attività di controllo sulle operazioni con parti correlate alla luce della prassi\nObblighi conseguenti all’attività di vigilanza: in particolare\, la segnalazione di irregolarità alla Consob ex art. 149 TUF\nAvv. Aldo Sacchi\nGalbiati\, Sacchi\, Lamandini e Associati Studio Legale \nCasi pratici e fattispecie dubbie\nLa rilevanza e la ratio della disciplina delle operazioni con parti correlate\nLa comunicazione interpretativa Consob del 2010\nLa definizione di operazione\nL’esercizio del controllo e dell’influenza notevole\nIl calcolo della soglia di maggiore rilevanza\nAvv. Rocco Santarelli\nCarbonetti e Associati Studio Legale \n\n\n		\n	\nDocenti\n	\n		\n			Prof. Avv. Salvatore Providenti\nPartner\nCarbonetti e Associati Studio Legale \nAvv. Emilia Pucci\nVice President Group Corporate Secretary\nChiesi Farmaceutici \nAvv. Aldo Sacchi\nSenior Partner\nGalbiati\, Sacchi\, Lamandini e Associati Studio Legale \nAvv. Rocco Santarelli\nPartner\nCarbonetti e Associati Studio Legale \nProf. Avv. Giovanni Strampelli\nOrdinario di Diritto Commerciale\nUniversità Luigi Bocconi di Milano \nProf. Avv. Paolo Valensise\nOrdinario di Diritto Commerciale\nUniversità Roma Tre\nPartner\nChiomenti \nProf. Avv. Andrea Zoppini\nOrdinario di Diritto Civile\nUniversità Roma Tre\nStudio del Prof. Avv. Andrea Zoppini e degli Avvocati Associati \n\n\n		\n	\nBrochure\n	\n		\n			 Scarica la brochure\n\n		\n	\nIscrizioni e Condizioni\n	\n		\n			Quota di partecipazione \nLa quota di partecipazione in aula virtuale (diretta streaming) include la fruizione in diretta delle docenze\, nonché l’invio\, in formato elettronico\, del materiale didattico che i relatori riterranno di mettere a disposizione. È inoltre prevista la possibilità di presentare in diretta domande e quesiti di specifico interesse a mezzo chat\, nonché di sottoporli in via preventiva\, inviando una email a info@paradigma.it entro il giorno antecedente l’evento. \nIn caso di videoconferenza con accessi multipli è necessario contattare la Segreteria organizzativa per un preventivo personalizzato. \nModalità di funzionamento della videoconferenza \nE’ possibile accedere all’aula virtuale da qualsiasi luogo\, utilizzando il proprio PC o tablet con una semplice connessione a Internet. La piattaforma informatica utilizzata da Paradigma (Adobe Connect) non necessita di requisiti tecnici particolari. \nNei giorni antecedenti l’evento il partecipante riceverà per posta elettronica le credenziali e le istruzioni di accesso. Il giorno dell’evento sarà sufficiente selezionare il link che troverà nella mail e inserire le credenziali per accedere all’aula virtuale. \nDurante gli interventi\, oltre a vedere e sentire i docenti\, è possibile consultare simultaneamente la documentazione predisposta dal relatore. Ogni utente collegato potrà porre domande sulle tematiche affrontate a mezzo chat\, alle quali il docente risponderà nel corso dell’intervento. \nModalità di iscrizione \nL’iscrizione si perfeziona al momento del ricevimento del modulo di registrazione\, da inviare via e-mail all’indirizzo info@paradigma.it\, integralmente compilato. Il numero dei collegamenti disponibili è limitato e la priorità d’iscrizione è determinata dalla data di ricezione del modulo di registrazione. Si consiglia pertanto di effettuare una preiscrizione telefonica. \nModalità di pagamento \nLa quota di partecipazione deve essere versata all’atto della presentazione della richiesta di iscrizione e\, in ogni caso\, prima dell’effettuazione dell’evento formativo\, tramite bonifico bancario intestato a: \nParadigma Srl – Corso Vittorio Emanuele II\, 68 – 10121 Torino\nc/o Banco BPM Spa\nIBAN IT 14 V 05034 01017 000000002530 \nFormazione finanziata \nLa quota di partecipazione può essere completamente rimborsata tramite voucher promossi dai Fondi Paritetici Interprofessionali. Paradigma offre la completa e gratuita gestione delle spese di progettazione\, monitoraggio e rendicontazione. La possibilità di accedere alla formazione finanziata con partecipazione mediante videoconferenza può variare a seconda dell’Ente erogante. \nAttestato di frequenza \nL’attestato di partecipazione nominativo sarà inviato al termine dell’evento formativo ai partecipanti che si sono regolarmente collegati all’aula virtuale. \nDiritto di recesso e modalità di disdetta \nÈ attribuita ai partecipanti la facoltà di recedere ai sensi dell’art. 1373 c.c. Il recesso dovrà essere comunicato in forma scritta almeno sette giorni prima della data di inizio dell’evento formativo (escluso il sabato e la domenica). Qualora la disdetta pervenga oltre tale termine o si verifichi di fatto con il mancato collegamento alla videoconferenza\, la quota di partecipazione sarà addebitata per intero e sarà inviato al partecipante il materiale didattico. In qualunque momento l’azienda o lo studio potranno comunque sostituire il partecipante\, comunicando il nuovo nominativo alla nostra Segreteria organizzativa. \nVariazioni di programma \nParadigma\, per ragioni eccezionali e imprevedibili\, si riserva di annullare o modificare la data dell’evento formativo\, dandone comunicazione agli interessati entro tre giorni dalla data di inizio prevista. In tali casi le quote di partecipazione pervenute verranno rimborsate\, con esclusione di qualsivoglia onere o obbligo a carico di Paradigma. Paradigma si riserva inoltre\, per ragioni sopravvenute e per cause di forza maggiore\, di modificare l’articolazione del programma e di sostituire i docenti previsti con altri docenti di pari livello professionale. \nPer ulteriori informazioni è possibile contattare la Segreteria organizzativa al numero 011.538686 o all’indirizzo e-mail info@paradigma.it. \n\n\n		\n	\n\n\n	\n		\n			Quota di partecipazione\n	\n		\n			€ 1.100 + Iva\n\n		\n	\n\n	\n		\n			In caso di videoconferenza con accessi multipli è necessario contattare la Segreteria organizzativa per un preventivo personalizzato. \n\n		\n	\n\n\n		\n	\n\n	\n		\n			\n\n\n\n\n\n\n	\n		\n			Early booking -20%\nInviando il modulo di iscrizione entro il 22 aprile si avrà diritto a una riduzione del 20% sulla quota di partecipazione. \n\n		\n	\n\n\n\n		\n	\n\n	\n		\n			\n\n		\n	\n\n	\n		\n			\n\n		\n	\n\n	\n		\n			\n\n\n\n\n\n\n	\n		\n			Progetto Giovani Eccellenze -50%\nL’adesione all’evento formativo permette di iscrivere una seconda risorsa\, che non abbia compiuto il 30° anno di età e proveniente dalla stessa organizzazione\, con una riduzione del 50% sulla seconda quota di partecipazione. L’agevolazione è calcolata sulla quota ordinaria. \n\n		\n	\n\n\n\n		\n	\n\n	\n		\n			\n\n\n\n\n\n\n	\n		\n			Formazione finanziata\nLa quota di partecipazione all’iniziativa può essere completamente rimborsata tramite voucher promossi dai Fondi Paritetici Interprofessionali. Paradigma offre la completa e gratuita gestione delle spese di progettazione\, monitoraggio e rendiconto. \n\n		\n	\n\n\n\n		\n	\n\n	\n		\n			\n\n\n\n\n\n\n	\n		\n			Mercati elettronici della PA\nParadigma opera sul MePA e sui principali mercati elettronici di soggetti aggregatori e centrali di committenza. \n\n		\n	\n\n\n\n		\n	\n\n	\n		\n			\n	\n\n\n	I campi con (*) sono obbligatori\n	\n		\n		Dati relativi all'evento\n		\n		\n			Partecipazione in aula\n			Partecipazione in videoconferenza\n		\n		\n\n		Dati relativi al richiedente\n		\n		\n		\n		\n		\n		\n		\n		\n\n	\n\n	\n\n		Dati per eventuale partecipante under 30\n		\n		\n		\n\n	\n\n	\n\n		Dati per la fatturazione elettronica\n		\n		\n		\n		\n		\n		\n				\n		\n		\n		  Split Payment:\n          \n            \n              \n              Si \n            No\n          \n        \n		\n		\n		\n		\n	\n\n	\n\n		Per informazioni contattare\n		\n		\n		\n		\n		\n	\n	L'iscrizione all'evento formativo si intende perfezionata al momento del ricevimento\, da parte di Paradigma Srl\, del presente modulo di registrazione compilato in ogni sua parte\, stampato\, firmato e inviato via e-mail all'indirizzo info@paradigma.it. Riceverete via email conferma dell'avvenuta iscrizione. \n\n\n		\n	     Acconsento all'invio di comunicazioni sui servizi Paradigma Srl - Consenso finalizzato\, anche con modalità automatizzate\, all'invio di comunicazioni relative a prodotti e servizi di Paradigma Srl e al fine di ricevere materiale informativo o promozionale.\n	\n	     Acconsento alla personalizzazione delle offerte - Consenso finalizzato\, mediante modalità automatizzate\, a personalizzare i servizi forniti e meglio indirizzare le proposte promozionali grazie ad attività di profilazione.\n	\n	Inviando i dati autorizzi Paradigma Srl a utilizzare i tuoi dati personali per evadere la richiesta di partecipazione all’evento formativo e svolgere le attività a ciò connesse. I dati potranno essere trattati\, per conto di Paradigma Srl\, da dipendenti e collaboratori incaricati di svolgere specifici servizi necessari all’esecuzione delle tue richieste. Il conferimento dei tuoi dati\, pur essendo facoltativo\, si rende necessario per l’esecuzione del servizio richiesto.	\n\n\n\n\n		\n\n\n\n\n\n		\n	\n[/vc_column][/vc_row]
URL:https://paradigma.it/iniziativa/le-operazioni-con-parti-correlate-4/
CATEGORIES:Governance e Diritto Societario
ORGANIZER;CN="Veronica%20Spiez":MAILTO:vspiez@paradigma.it
END:VEVENT
END:VCALENDAR