BEGIN:VCALENDAR
VERSION:2.0
PRODID:-//Paradigma srl - ECPv5.2.1//NONSGML v1.0//EN
CALSCALE:GREGORIAN
METHOD:PUBLISH
X-WR-CALNAME:Paradigma srl
X-ORIGINAL-URL:https://paradigma.it
X-WR-CALDESC:Eventi per Paradigma srl
BEGIN:VTIMEZONE
TZID:Europe/Rome
BEGIN:DAYLIGHT
TZOFFSETFROM:+0100
TZOFFSETTO:+0200
TZNAME:CEST
DTSTART:20250330T010000
END:DAYLIGHT
BEGIN:STANDARD
TZOFFSETFROM:+0200
TZOFFSETTO:+0100
TZNAME:CET
DTSTART:20251026T010000
END:STANDARD
END:VTIMEZONE
BEGIN:VEVENT
DTSTART;TZID=Europe/Rome:20250716T093000
DTEND;TZID=Europe/Rome:20250716T163000
DTSTAMP:20260421T165902
CREATED:20250618T105914Z
LAST-MODIFIED:20250715T094826Z
UID:23477-1752658200-1752683400@paradigma.it
SUMMARY:L’Arbitro Assicurativo
DESCRIPTION:[vc_row][vc_column]\n	\n		\n			\n		\n	\n\n	\n		\n			Decreto del Ministro delle Imprese e del Made in Italy n. 215/2024 \nDisposizioni IVASS del 23 maggio 2025  \n Disciplina e profili procedimentali\nRapporto con il reclamo IVASS\nRiparto delle competenze con ABF e ACF\nImpatto sulla gestione dei ricorsi \n \n\n		\n	\n\n	\n		\n			09.30 - 13.30  14.30 - 16.30 \n\n		\n	\n\n	\n		\n			Evento in diretta streaming \n\n		\n	\n\n	\n		\n			 \n\n		\n	\n\n	\n		\n			\n\n		\n	\nPresentazioneProgrammaDocentiBrochureIscrizioni e CondizioniPresentazione\n	\n		\n			Contenuti dell’evento \nDopo anni di attesa\, con il Decreto 6 novembre 2024\, n. 215 il Ministero delle Imprese e del Made in Italy\, di concerto con il Ministero della Giustizia\, ha istituito presso l’IVASS l’Arbitro Assicurativo. \nÈ stato così completato il quadro nel sistema\, che già prevede l’Arbitro Bancario e Finanziario in ambito Banca d’Italia e l’Arbitro per le Controversie Finanziarie in ambito Consob\, offrendo così la possibilità di risoluzione alternativa delle controversie anche agli utenti del mercato assicurativo. \nIl nuovo Arbitro Assicurativo avrà così una cognizione complementare agli Arbitri delle Autorità di Vigilanza citate e avrà un ambito di applicazione rivolto agli intermediari assicurativi per quanto riguarda le controversie derivanti da un contratto di assicurazione e aventi a oggetto l’accertamento di diritti\, anche risarcitori\, obblighi e facoltà relativi alle prestazioni e ai servizi assicurativi o l’inosservanza delle regole di comportamento previste dal codice delle assicurazioni inerenti all’esercizio dell’attività di distribuzione assicurativa. \nSecondo il citato Regolamento\, l’IVASS doveva adottare\, entro quattro mesi dall’entrata in vigore dello stesso\, le disposizioni tecniche ed attuative con le quali regolare alcuni aspetti pratici di dettaglio quali le modalità di adesione\, gli adempimenti per la presentazione del ricorso\, la procedura di nomina dei componenti del collegio arbitrale\, etc. \nCiò è avvenuto con l’emanazione dello Schema delle disposizioni tecniche e attuative del 6 marzo 2025 e con la pubblicazione della versione definitiva delle stesse lo scorso 23 maggio. \nL’Arbitro Assicurativo diventerà poi operativo in seguito al provvedimento dell’IVASS che dovrà essere pubblicato entro i cinque mesi successivi dalla pubblicazione delle disposizioni tecniche. \nNel corso del workshop saranno analizzati i principali contenuti del Decreto del Ministro delle Imprese e del Made in Italy n. 215/2024 e delle Disposizioni tecniche e attuative Ivass del 23 maggio 2025. \nVerranno\, inoltre\, esaminati il rapporto con il reclamo all’IVASS e il riparto delle competenze tra ABF\, ACF e Arbitro Assicurativo. \nDestinatari dell’evento \nL’evento formativo è rivolto ai Responsabili del Servizio Reclami\, ai Responsabili del Servizio Legale\, ai Responsabili della Compliance e dell’Internal Audit di assicurazioni e intermediari assicurativi\, agli Avvocati e consulenti che svolgono attività professionale nell’ambito assicurativo. È rivolto altresì ai Responsabili dell’Ufficio Prodotti e/o a dipendenti di impresa coinvolti nella costruzione di un prodotto assicurativo. \nObiettivi dell’evento \nL’approccio didattico adottato\, di tipo pratico – operativo\, consentirà ai partecipanti di raccogliere importanti indicazioni sul complesso quadro normativo e regolamentare che disciplina l’attività dell’Arbitro Assicurativo\, sulle controversie rimesse alla sua cognizione e sullo svolgimento del relativo procedimento. \nConsentirà\, inoltre\, di comprendere i rapporti con il reclamo all’IVASS e il riparto delle competenze tra ABF\, ACF e Arbitro Assicurativo. \n\n\n		\n	\nProgramma\n	\n		\n			Mercoledì 16 luglio 2025 \nL’istituzione dell’Arbitro assicurativo: analisi del quadro normativo di riferimento \nLe previsioni dell’art. 187 del Codice delle Assicurazioni private\, dell’art. 143 del Codice del consumo e dell’art. 15 della Direttiva UE n. 2016/97 (c.d. IDD)\nIl Decreto del Ministro delle Imprese e del Made in Italy n. 215/2024\nLe disposizioni tecniche e attuative IVASS del 23 maggio 2025\nProf. Avv. Pierpaolo Marano\nUniversità Cattolica del Sacro Cuore\nIRSG EIOPA\nTLS Studio Legale e Commerciale \nLa composizione dell’Arbitro assicurativo e le controversie rimesse alla sua cognizione\nLe modalità di adesione (o non adesione)\nLa composizione e il funzionamento dei Collegi\nIl ruolo del presidente del Collegio\nI compiti della Segreteria tecnica\nLe controversie rimesse alla cognizione dell’Arbitro Assicurativo\nProf. Avv. Albina Candian\nUniversità Statale di Milano\nStudio Legale Candian \nI profili procedimentali: la fase introduttiva del ricorso e le ipotesi di inammissibilità\nI criteri di svolgimento delle procedure di risoluzione delle controversie\nIl ricorso all’Arbitro Assicurativo come condizione di procedibilità dell’azione giudiziaria in alternativa agli altri strumenti ADR già in funzione\nL’avvio del procedimento e la necessaria previa presentazione di un reclamo all’impresa o all’intermediario\nLe ipotesi di inammissibilità del ricorso\nAvv. Fabio Maniori\nUniversità Cattolica del Sacro Cuore di Milano\nStudio Maniori \nI profili procedimentali: lo svolgimento della procedura di risoluzione delle controversie e le disposizioni finali\nLo svolgimento del procedimento\nLe parti del ricorso\nLa fase decisoria\nL’esecuzione della decisione e la pubblicità dell’inadempimento\nLe disposizioni finali\nProf. Avv. Diana Cerini\nUniversità di Milano Bicocca \nL’impatto dell’istituzione dell’Arbitro assicurativo sulla gestione dei ricorsi \nIl rapporto con il reclamo a IVASS\nIl riparto di competenze tra ABF\, ACF e Arbitro Assicurativo\nGestione interna o outsourcing del ricorso\nAvv. Matteo D’Argenio\nStudio Legale D’Argenio Polizzi e Associati \n\n\n		\n	\nDocenti\n	\n		\n			Prof. Avv. Albina Candian\nOrdinario di Diritto Privato Comparato\nUniversità Statale di Milano\nStudio Legale Candian \nProf. Avv. Diana Cerini\nOrdinario di Diritto Privato Comparato\nUniversità di Milano Bicocca \nAvv. Matteo D’Argenio\nFounding Partner\nStudio Legale D’Argenio Polizzi e Associati \nAvv. Fabio Maniori\nDocente a contratto nel Master Digital Innovation & FinTech\nUniversità Cattolica del Sacro Cuore di Milano\nFounding Partner\nStudio Maniori \nProf. Avv. Pierpaolo Marano\nAssociato di Diritto delle Assicurazioni\nUniversità Cattolica del Sacro Cuore di Milano\nComponente IRSG EIOPA\nOf Counsel – TLS Studio Legale e Commerciale \n\n\n		\n	\nBrochure\n	\n		\n			 Scarica la brochure\n\n		\n	\nIscrizioni e Condizioni\n	\n		\n			Quota di partecipazione \nLa quota di partecipazione in diretta streaming include la fruizione degli interventi\, nonché la possibilità di scaricare\, in formato elettronico\, il materiale didattico che i relatori riterranno di mettere a disposizione. \nÈ inoltre prevista la possibilità di rivolgere contestualmente domande ai docenti (attivando il proprio microfono o tramite chat)\, oppure sottoporle in via preventiva\, inviando una e-mail a info@paradigma.it entro il giorno antecedente l’evento. \nIn caso di videoconferenza con accessi multipli è necessario contattare la Segreteria Organizzativa per un preventivo personalizzato. \nModalità di funzionamento della videoconferenza \nE’ possibile accedere all’aula virtuale da qualsiasi luogo\, utilizzando il proprio PC o tablet con una semplice connessione a Internet. La piattaforma informatica utilizzata da Paradigma non necessita di requisiti tecnici particolari. \nNei giorni antecedenti l’evento il partecipante riceverà per posta elettronica le credenziali e le istruzioni di accesso. Il giorno dell’evento sarà sufficiente selezionare il link che troverà nella mail e inserire le credenziali per accedere all’aula virtuale. \nDurante gli interventi\, oltre a vedere e sentire i docenti\, è possibile consultare simultaneamente la documentazione predisposta dal relatore. Ogni utente collegato potrà porre domande sulle tematiche affrontate (attivando il proprio microfono o tramite chat)\, alle quali il docente risponderà nel corso dell’intervento. \nModalità di iscrizione \nL’iscrizione si perfeziona al momento del ricevimento del modulo di registrazione\, da inviare via e-mail all’indirizzo info@paradigma.it\, integralmente compilato e sottoscritto. Il numero dei collegamenti disponibili è limitato e la priorità d’iscrizione è determinata dalla data di ricezione del modulo di registrazione. Si consiglia pertanto di effettuare una preiscrizione telefonica. \nModalità di pagamento \nLa quota di partecipazione deve essere versata all’atto della presentazione della richiesta di iscrizione e\, in ogni caso\, prima dell’effettuazione dell’evento formativo\, tramite bonifico bancario intestato a:\nParadigma Srl – Corso Vittorio Emanuele II\, 68 – 10121 Torino\nc/o Banco BPM Spa\nIBAN IT 14 V 05034 01017 000000002530 \nFormazione finanziata \nLa quota di partecipazione può essere completamente rimborsata tramite voucher promossi dai Fondi Paritetici Interprofessionali. Paradigma offre la completa e gratuita gestione delle spese di progettazione\, monitoraggio e rendicontazione. La possibilità di accedere alla formazione finanziata con partecipazione mediante videoconferenza può variare a seconda dell’Ente erogante. \nAttestato di frequenza \nL’attestato di partecipazione nominativo sarà inviato al termine dell’evento formativo ai partecipanti che si sono regolarmente collegati all’aula virtuale. \nDiritto di recesso e modalità di disdetta \nÈ attribuita ai partecipanti la facoltà di recedere ai sensi dell’art. 1373 c.c. Il recesso dovrà essere comunicato in forma scritta almeno sette giorni prima della data di inizio dell’evento formativo (escluso il sabato e la domenica). Qualora la disdetta pervenga oltre tale termine o si verifichi di fatto con il mancato collegamento alla videoconferenza\, la quota di partecipazione sarà addebitata per intero e sarà inviato al partecipante il materiale didattico e\, se disponibile e per un periodo limitato\, la registrazione dell’evento. In qualunque momento l’azienda o lo studio potranno comunque sostituire il partecipante\, comunicando il nuovo nominativo alla nostra Segreteria Oorganizzativa. \nVariazioni di programma \nParadigma\, per ragioni eccezionali e imprevedibili\, si riserva di annullare o modificare la data dell’evento formativo\, dandone comunicazione agli interessati entro tre giorni dalla data di inizio prevista. In tali casi le quote di partecipazione pervenute verranno rimborsate\, con esclusione di qualsivoglia onere o obbligo a carico di Paradigma. Paradigma si riserva inoltre\, per ragioni sopravvenute e per cause di forza maggiore\, di modificare l’articolazione del programma e di sostituire i docenti previsti con altri docenti di pari livello professionale. \nPer ulteriori informazioni è possibile contattare la Segreteria Organizzativa al numero 011.538686 o all’indirizzo e-mail info@paradigma.it. \n\n\n		\n	\n\n\n	\n		\n			Quota di partecipazione\n	\n		\n			€ 1.100 + Iva\n\n		\n	\n\n	\n		\n			In caso di videoconferenza con accessi multipli è necessario contattare la Segreteria organizzativa per un preventivo personalizzato. \n\n		\n	\n\n\n		\n	\n\n	\n		\n			\n\n\n\n\n\n\n	\n		\n			Early booking -20%\nInviando il modulo di iscrizione entro il 25 giugno si avrà diritto a una riduzione del 20% sulla quota di partecipazione. \n\n		\n	\n\n\n\n		\n	\n\n	\n		\n			\n\n		\n	\n\n	\n		\n			\n\n		\n	\n\n	\n		\n			\n\n\n\n\n\n\n	\n		\n			Progetto Giovani Eccellenze -50%\nL’adesione all’evento formativo permette di iscrivere una seconda risorsa\, che non abbia compiuto il 30° anno di età e proveniente dalla stessa organizzazione\, con una riduzione del 50% sulla seconda quota di partecipazione. L’agevolazione è calcolata sulla quota ordinaria. \n\n		\n	\n\n\n\n		\n	\n\n	\n		\n			\n\n\n\n\n\n\n	\n		\n			Formazione finanziata\nLa quota di partecipazione all’iniziativa può essere completamente rimborsata tramite voucher promossi dai Fondi Paritetici Interprofessionali. Paradigma offre la completa e gratuita gestione delle spese di progettazione\, monitoraggio e rendiconto. \n\n		\n	\n\n\n\n		\n	\n\n	\n		\n			\n\n\n\n\n\n\n	\n		\n			Mercati elettronici della PA\nParadigma opera sul MePA e sui principali mercati elettronici di soggetti aggregatori e centrali di committenza. \n\n		\n	\n\n\n\n		\n	\n\n	\n		\n			\n	\n\n\n	I campi con (*) sono obbligatori\n	\n		\n		Dati relativi all'evento\n		\n		\n			Partecipazione in aula\n			Partecipazione in videoconferenza\n		\n		\n\n		Dati relativi al richiedente\n		\n		\n		\n		\n		\n		\n		\n		\n\n	\n\n	\n\n		Dati per eventuale partecipante under 30\n		\n		\n		\n\n	\n\n	\n\n		Dati per la fatturazione elettronica\n		\n		\n		\n		\n		\n		\n				\n		\n		\n		  Split Payment:\n          \n            \n              \n              Si \n            No\n          \n        \n		\n		\n		\n		\n	\n\n	\n\n		Per informazioni contattare\n		\n		\n		\n		\n		\n	\n	L'iscrizione all'evento formativo si intende perfezionata al momento del ricevimento\, da parte di Paradigma Srl\, del presente modulo di registrazione compilato in ogni sua parte\, stampato\, firmato e inviato via e-mail all'indirizzo info@paradigma.it. Riceverete via email conferma dell'avvenuta iscrizione. \n\n\n		\n	     Acconsento all'invio di comunicazioni sui servizi Paradigma Srl - Consenso finalizzato\, anche con modalità automatizzate\, all'invio di comunicazioni relative a prodotti e servizi di Paradigma Srl e al fine di ricevere materiale informativo o promozionale.\n	\n	     Acconsento alla personalizzazione delle offerte - Consenso finalizzato\, mediante modalità automatizzate\, a personalizzare i servizi forniti e meglio indirizzare le proposte promozionali grazie ad attività di profilazione.\n	\n	Inviando i dati autorizzi Paradigma Srl a utilizzare i tuoi dati personali per evadere la richiesta di partecipazione all’evento formativo e svolgere le attività a ciò connesse. I dati potranno essere trattati\, per conto di Paradigma Srl\, da dipendenti e collaboratori incaricati di svolgere specifici servizi necessari all’esecuzione delle tue richieste. Il conferimento dei tuoi dati\, pur essendo facoltativo\, si rende necessario per l’esecuzione del servizio richiesto.	\n\n\n\n\n		\n\n\n\n\n\n		\n	\n[/vc_column][/vc_row]
URL:https://paradigma.it/iniziativa/larbitro-assicurativo/
CATEGORIES:Assicurazioni
ORGANIZER;CN="Veronica%20Spiez":MAILTO:vspiez@paradigma.it
END:VEVENT
END:VCALENDAR