BEGIN:VCALENDAR
VERSION:2.0
PRODID:-//Paradigma srl - ECPv5.2.1//NONSGML v1.0//EN
CALSCALE:GREGORIAN
METHOD:PUBLISH
X-WR-CALNAME:Paradigma srl
X-ORIGINAL-URL:https://paradigma.it
X-WR-CALDESC:Eventi per Paradigma srl
BEGIN:VTIMEZONE
TZID:Europe/Rome
BEGIN:DAYLIGHT
TZOFFSETFROM:+0100
TZOFFSETTO:+0200
TZNAME:CEST
DTSTART:20250330T010000
END:DAYLIGHT
BEGIN:STANDARD
TZOFFSETFROM:+0200
TZOFFSETTO:+0100
TZNAME:CET
DTSTART:20251026T010000
END:STANDARD
END:VTIMEZONE
BEGIN:VEVENT
DTSTART;TZID=Europe/Rome:20251015T093000
DTEND;TZID=Europe/Rome:20251016T170000
DTSTAMP:20260421T145839
CREATED:20250801T100539Z
LAST-MODIFIED:20251013T091038Z
UID:23859-1760520600-1760634000@paradigma.it
SUMMARY:L’adozione e l’implementazione di soluzioni basate  sull’Intelligenza Artificiale  nel settore pubblico
DESCRIPTION:[vc_row][vc_column]\n	\n		\n			\n		\n	\n\n	\n		\n			L’adeguamento all’AI Act\nLe Linee Guida AGID\nOpportunità e sfide \n \n\n		\n	\n\n	\n		\n			09.30 – 13.30  14.30 – 16.30 prima giornata 09.30 – 13.00  14.30 – 17.00seconda giornata \n\n		\n	\n\n	\n		\n			Evento in diretta streaming \n\n		\n	\n\n	\n		\n			 \n\n		\n	\n\n	\n		\n			\n\n		\n	\nPresentazioneProgrammaDocentiBrochureIscrizioni e CondizioniPresentazione\n	\n		\n			Contenuti dell’evento \nL’Intelligenza Artificiale sta pervadendo sempre più le attività quotidiane e la sua implementazione in tutte le organizzazioni è un passaggio ormai ineludibile\, per aumentare produttività e qualità del lavoro e per non scontare ritardi competitivi. Il settore pubblico non fa eccezione. \nSia le Pubbliche Amministrazioni che le loro società strumentali\, nonché le società di gestione dei servizi pubblici da loro controllate o partecipate\, hanno già effettuato delle scelte\, o stanno per farlo\, con riguardo agli ambiti operativi sui cui concentrare l’applicazione di soluzioni basate sull’Intelligenza Artificiale\, previa ricognizione dei trattamenti che possono effettuare sulla base della normativa vigente. \nScelte non meno rilevanti avranno ad oggetto la scelta dei fornitori e l’adozione di garanzie sul fronte cyber e data protection adeguate ai trattamenti che verranno effettuati tramite AI e al loro livello di rischio. Le Linee Guida elaborate AGID\, poste in consultazione nei mesi scorsi e di prossima adozione definitiva\, costituiranno per tutte queste attività un importante\, anzi imprescindibile riferimento. \nIl corso Paradigma costituirà una preziosa occasione di approfondimento della tematica in questione e delle sue immediate implicazioni operative- \nDestinatari dell’evento \nL’evento formativo è rivolto alle seguenti figure operanti negli organigrammi degli enti pubblici e delle società pubbliche: Direttori Generali\, Responsabili di Area\, Responsabili IT\, CIO\, CISO\, Data Protection Officer e Incaricati Privacy. E’ inoltre destinato ai consulenti che collaborano con il settore pubblico\, nonché alle software house realizzatrici di soluzioni IA based. \nObiettivi dell’evento \nObiettivo dell’incontro è fornire ai partecipanti una ricostruzione complessiva\, proveniente da soggetti particolarmente qualificati\, del quadro normativo\, dei profili organizzativi e delle principali implicazioni pratiche relativi all’introduzione dell’Intelligenza Artificiale nel settore pubblico\, nonché costituire una preziosa occasione di confronto e di discussione su scelte strategiche e aspetti operativi. \n\n\n		\n	\nProgramma\n	\n		\n			Prima giornata\nMercoledì 15 ottobre 2025 \nPROFILI GENERALI E DI INQUADRAMENTO DELLA MATERIA \nL’AI Act e la Pubblica Amministrazione\nFondamenti e quadro normativo\nL’AI Act e la Pubblica Amministrazione\nLa Strategia Italiana per l’Intelligenza Artificiale 2024-2026\nLe Linee Guida per l’adozione di IA nella Pubblica Amministrazione\, la relazione con il Piano Triennale dell’Informatica 2024-2026 e le azioni strategiche della Strategia Italiana per l’IA\nIng. Antonio Maria Tambato\nAGID \nI MODELLI DI VALUTAZIONE \nL’esercizio di autovalutazione da parte di un’organizzazione ai fini dell’adozione dell’IA\nIndicazione preliminare di metodo: l’utilizzo di KPI\nLa determinazione del livello di maturità\nIl rischio: valutazione\, testing\, monitoraggio\nValutazione d’impatto\nDefinizione di un codice etico e di comportamento relativo all’applicazione dei sistemi di IA\nIng. Fabio Massimi\nAGID \nESAME DI SPECIFICI PROFILI OGGETTO DELLE LINEE GUIDA AGID PER L’IMPLEMENTAZIONE DELL’INTELLIGENZA ARTIFICIALE NELLA PUBBLICA AMMINISTRAZIONE \nLa governance dei progetti di AI: ruoli\, fasi e soggetti coinvolti\nCiclo di vita\nI ruoli nella catena del valore dell’IA\nL’identificazione e la valutazione dei rischi associati ai sistemi di AI\nAudit e monitoraggio: prassi e procedure per garantire la compliance\nClassificazione dei sistemi di IA sulla base del rischio\nPrincipi per l’adozione dell’IA nella Pubblica Amministrazione\nCons. Brunella Bruno\nConsiglio di Stato \nModello di adozione dell’IA\nStrategia per l’IA\nAnalisi del contesto e delle caratteristiche della PA\nObiettivi e ambiti prioritari di applicazione\nCons. Brunella Bruno\nConsiglio di Stato \nGestione e qualità dei dati\nTipologie e caratteristiche dei dati\nProcessi e governance dei dati\nCons. Brunella Bruno\nConsiglio di Stato \n  \nSeconda giornata\nGiovedì 16 ottobre 2025 \nAI E PROCUREMENT \nL’approvvigionamento di soluzioni basate su IA\nCaratteristiche del prodotto AI based (AI Act\, Linee Guida AGID)\nCybersicurezza negli acquisti ICT (D. Lgs. n. 36/2023)\nDPCM 30 aprile 2025: categorie tecnologiche e cybersicurezza\nMisure di sorveglianza\, auditing\, conservazione documenti\nAvv. Domenico Ielo\nIelo e Associati \nULTERIORI PROFILI ATTENZIONATI DELLE LINEE GUIDA AGID \nSicurezza cibernetica\nTassonomie di attacco\n– Evasion attacks\n– Poisoning attacks\n– Privacy attacks\nGestione del rischio cibernetico\nAsset: tracciamento e sorveglianza di dati\, modelli\, infrastrutture e processi operativi\, lungo tutte le fasi del ciclo di vita del sistema\nMinacce\, obbiettivi e gestione integrata della sicurezza\nDott. Edoardo Limone\nEsperto in Sicurezza Informatica \nL’Intelligenza Artificiale e la sua capacità di incidere sulla costruzione di un processo decisionale e sulle modalità di erogazione di un servizio\nBuon andamento dell’azione amministrativa e AI\nDiritto all’erogazione efficiente di servizi pubblici e bilanciamento con il diritto alla protezione dei dati\nL’AI e il processo decisionale\nPotenzialità dell’AI per decisori pubblici\nCriticità: tracciabilità\, big data\, bias cognitivi\nDott.ssa Chiara Giacomantonio\nAGID \nProtezione dei dati personali\nL’accountability della PA titolare del trattamento\nLa verifica della conformità normativa del sistema di IA e del suo impatto sui diritti degli interessati\nLa verifica della necessità di adeguamenti del proprio modello organizzativo e delle misure tecniche e organizzative di sicurezza\nIl “vademecum” di cui al paragrafo 10 delle Linee Guida AGID e il rimando al Parere EDPB n. 28/2024\nLe misure di trasparenza e l’obbligo di informativa\nAvv. Giovanni Guerra\nStudio Legale Guerra-Ricchiuto \nSIMULAZIONE OPERATIVA \nEsempi di possibili applicazioni dell’IA alle attività dell’Amministrazione\nDott. Andrea Tironi\nConsorzio Informatica Territorio \n\n\n		\n	\nDocenti\n	\n		\n			Cons. Brunella Bruno\nConsigliere\nVII Sez. Giurisdizionale\nConsiglio di Stato\nResponsabile Servizio per l’Informatica della Giustizia Amministrativa \nDott.ssa Chiara Giacomantonio *\nDirigente\nDirettore Direzione Amministrazione\, Funzionamento e Vigilanza\nAGID \nAvv. Giovanni Guerra\nPartner\nStudio Legale Guerra-Ricchiuto \nAvv. Domenico Ielo\nFounding Partner\nIelo e Associati \nDott. Edoardo Limone\nEsperto in Sicurezza Informatica \nIng. Fabio Massimi *\nPolicy Officer\nDirezione Generale\nAGID – Agenzia per l’Italia Digitale \nIng. Antonio Maria Tambato *\nDirigente\nDirettore Direzione Innovazione e Transizione Digitale\nAGID \nDott. Andrea Tironi\nCoordinatore Area Digitale\nConsorzio Informatica Territorio \n  \n* In attesa di conferma \n\n\n		\n	\nBrochure\n	\n		\n			 Scarica la brochure\n\n		\n	\nIscrizioni e Condizioni\n	\n		\n			Quota di partecipazione \nLa quota di partecipazione in diretta streaming include la fruizione degli interventi\, nonché la possibilità di scaricare\, in formato elettronico\, il materiale didattico che i relatori riterranno di mettere a disposizione. \nÈ inoltre prevista la possibilità di rivolgere contestualmente domande ai docenti (attivando il proprio microfono o tramite chat)\, oppure sottoporle in via preventiva\, inviando una e-mail a info@paradigma.it entro il giorno antecedente l’evento. \nIn caso di videoconferenza con accessi multipli è necessario contattare la Segreteria Organizzativa per un preventivo personalizzato. \nModalità di funzionamento della videoconferenza \nE’ possibile accedere all’aula virtuale da qualsiasi luogo\, utilizzando il proprio PC o tablet con una semplice connessione a Internet. La piattaforma informatica utilizzata da Paradigma non necessita di requisiti tecnici particolari. \nNei giorni antecedenti l’evento il partecipante riceverà per posta elettronica le credenziali e le istruzioni di accesso. Il giorno dell’evento sarà sufficiente selezionare il link che troverà nella mail e inserire le credenziali per accedere all’aula virtuale. \nDurante gli interventi\, oltre a vedere e sentire i docenti\, è possibile consultare simultaneamente la documentazione predisposta dal relatore. Ogni utente collegato potrà porre domande sulle tematiche affrontate (attivando il proprio microfono o tramite chat)\, alle quali il docente risponderà nel corso dell’intervento. \nModalità di iscrizione \nL’iscrizione si perfeziona al momento del ricevimento del modulo di registrazione\, da inviare via e-mail all’indirizzo info@paradigma.it\, integralmente compilato e sottoscritto. Il numero dei collegamenti disponibili è limitato e la priorità d’iscrizione è determinata dalla data di ricezione del modulo di registrazione. Si consiglia pertanto di effettuare una preiscrizione telefonica. \nModalità di pagamento \nLa quota di partecipazione deve essere versata all’atto della presentazione della richiesta di iscrizione e\, in ogni caso\, prima dell’effettuazione dell’evento formativo\, tramite bonifico bancario intestato a:\nParadigma Srl – Corso Vittorio Emanuele II\, 68 – 10121 Torino\nc/o Banco BPM Spa\nIBAN IT 14 V 05034 01017 000000002530 \nFormazione finanziata \nLa quota di partecipazione può essere completamente rimborsata tramite voucher promossi dai Fondi Paritetici Interprofessionali. Paradigma offre la completa e gratuita gestione delle spese di progettazione\, monitoraggio e rendicontazione. La possibilità di accedere alla formazione finanziata con partecipazione mediante videoconferenza può variare a seconda dell’Ente erogante. \nAttestato di frequenza \nL’attestato di partecipazione nominativo sarà inviato al termine dell’evento formativo ai partecipanti che si sono regolarmente collegati all’aula virtuale. \nDiritto di recesso e modalità di disdetta \nÈ attribuita ai partecipanti la facoltà di recedere ai sensi dell’art. 1373 c.c. Il recesso dovrà essere comunicato in forma scritta almeno sette giorni prima della data di inizio dell’evento formativo (escluso il sabato e la domenica). Qualora la disdetta pervenga oltre tale termine o si verifichi di fatto con il mancato collegamento alla videoconferenza\, la quota di partecipazione sarà addebitata per intero e sarà inviato al partecipante il materiale didattico e\, se disponibile e per un periodo limitato\, la registrazione dell’evento. In qualunque momento l’azienda o lo studio potranno comunque sostituire il partecipante\, comunicando il nuovo nominativo alla nostra Segreteria Oorganizzativa. \nVariazioni di programma \nParadigma\, per ragioni eccezionali e imprevedibili\, si riserva di annullare o modificare la data dell’evento formativo\, dandone comunicazione agli interessati entro tre giorni dalla data di inizio prevista. In tali casi le quote di partecipazione pervenute verranno rimborsate\, con esclusione di qualsivoglia onere o obbligo a carico di Paradigma. Paradigma si riserva inoltre\, per ragioni sopravvenute e per cause di forza maggiore\, di modificare l’articolazione del programma e di sostituire i docenti previsti con altri docenti di pari livello professionale. \nPer ulteriori informazioni è possibile contattare la Segreteria Organizzativa al numero 011.538686 o all’indirizzo e-mail info@paradigma.it. \n\n\n		\n	\n\n\n	\n		\n			Quota di partecipazione\n	\n		\n			€ 1.100 + Iva una giornata€ 2.050 + Iva due giornate\n\n		\n	\n\n	\n		\n			In caso di videoconferenza con accessi multipli è necessario contattare la Segreteria organizzativa per un preventivo personalizzato. \n\n		\n	\n\n\n		\n	\n\n	\n		\n			\n\n\n\n\n\n\n	\n		\n			Early booking -20%\nInviando il modulo di iscrizione entro il 24 settembre si avrà diritto a una riduzione del 20% sulla quota di partecipazione. \n\n		\n	\n\n\n\n		\n	\n\n	\n		\n			\n\n\n\n\n\n\n	\n		\n			Quota corporate\nIscrivi all’evento 5 o più risorse provenienti dalla stessa organizzazione con una riduzione del 50%. \n\n		\n	\n\n\n\n		\n	\n\n	\n		\n			\n\n		\n	\n\n	\n		\n			\n\n\n\n\n\n\n	\n		\n			Progetto Giovani Eccellenze -50%\nL’adesione all’evento formativo permette di iscrivere una seconda risorsa\, che non abbia compiuto il 30° anno di età e proveniente dalla stessa organizzazione\, con una riduzione del 50% sulla seconda quota di partecipazione. L’agevolazione è calcolata sulla quota ordinaria. \n\n		\n	\n\n\n\n		\n	\n\n	\n		\n			\n\n\n\n\n\n\n	\n		\n			Formazione finanziata\nLa quota di partecipazione all’iniziativa può essere completamente rimborsata tramite voucher promossi dai Fondi Paritetici Interprofessionali. Paradigma offre la completa e gratuita gestione delle spese di progettazione\, monitoraggio e rendiconto. \n\n		\n	\n\n\n\n		\n	\n\n	\n		\n			\n\n\n\n\n\n\n	\n		\n			Mercati elettronici della PA\nParadigma opera sul MePA e sui principali mercati elettronici di soggetti aggregatori e centrali di committenza. \n\n		\n	\n\n\n\n		\n	\n\n	\n		\n			\n	\n\n\n	I campi con (*) sono obbligatori\n	\n		\n		Dati relativi all'evento\n		\n		\n			Partecipazione in aula\n			Partecipazione in videoconferenza\n		\n		\n\n		Dati relativi al richiedente\n		\n		\n		\n		\n		\n		\n		\n		\n\n	\n\n	\n\n		Dati per eventuale partecipante under 30\n		\n		\n		\n\n	\n\n	\n\n		Dati per la fatturazione elettronica\n		\n		\n		\n		\n		\n		\n				\n		\n		\n		  Split Payment:\n          \n            \n              \n              Si \n            No\n          \n        \n		\n		\n		\n		\n	\n\n	\n\n		Per informazioni contattare\n		\n		\n		\n		\n		\n	\n	L'iscrizione all'evento formativo si intende perfezionata al momento del ricevimento\, da parte di Paradigma Srl\, del presente modulo di registrazione compilato in ogni sua parte\, stampato\, firmato e inviato via e-mail all'indirizzo info@paradigma.it. Riceverete via email conferma dell'avvenuta iscrizione. \n\n\n		\n	     Acconsento all'invio di comunicazioni sui servizi Paradigma Srl - Consenso finalizzato\, anche con modalità automatizzate\, all'invio di comunicazioni relative a prodotti e servizi di Paradigma Srl e al fine di ricevere materiale informativo o promozionale.\n	\n	     Acconsento alla personalizzazione delle offerte - Consenso finalizzato\, mediante modalità automatizzate\, a personalizzare i servizi forniti e meglio indirizzare le proposte promozionali grazie ad attività di profilazione.\n	\n	Inviando i dati autorizzi Paradigma Srl a utilizzare i tuoi dati personali per evadere la richiesta di partecipazione all’evento formativo e svolgere le attività a ciò connesse. I dati potranno essere trattati\, per conto di Paradigma Srl\, da dipendenti e collaboratori incaricati di svolgere specifici servizi necessari all’esecuzione delle tue richieste. Il conferimento dei tuoi dati\, pur essendo facoltativo\, si rende necessario per l’esecuzione del servizio richiesto.	\n\n\n\n\n		\n\n\n\n\n\n		\n	\n[/vc_column][/vc_row]
URL:https://paradigma.it/iniziativa/ladozione-e-limplementazione-di-soluzioni-basate-sullintelligenza-artificiale-nel-settore-pubblico-2/
CATEGORIES:Pubblica Amministrazione
ORGANIZER;CN="Veronica%20Spiez":MAILTO:vspiez@paradigma.it
END:VEVENT
END:VCALENDAR