BEGIN:VCALENDAR
VERSION:2.0
PRODID:-//Paradigma srl - ECPv5.2.1//NONSGML v1.0//EN
CALSCALE:GREGORIAN
METHOD:PUBLISH
X-WR-CALNAME:Paradigma srl
X-ORIGINAL-URL:https://paradigma.it
X-WR-CALDESC:Eventi per Paradigma srl
BEGIN:VTIMEZONE
TZID:Europe/Rome
BEGIN:DAYLIGHT
TZOFFSETFROM:+0100
TZOFFSETTO:+0200
TZNAME:CEST
DTSTART:20220327T010000
END:DAYLIGHT
BEGIN:STANDARD
TZOFFSETFROM:+0200
TZOFFSETTO:+0100
TZNAME:CET
DTSTART:20221030T010000
END:STANDARD
END:VTIMEZONE
BEGIN:VEVENT
DTSTART;TZID=Europe/Rome:20221006T093000
DTEND;TZID=Europe/Rome:20221006T180000
DTSTAMP:20260421T151742
CREATED:20220906T104216Z
LAST-MODIFIED:20221004T110658Z
UID:15994-1665048600-1665079200@paradigma.it
SUMMARY:L’adozione dei fattori  di sostenibilità nell’ambito  della Direzione AFC
DESCRIPTION:[vc_row][vc_column]\n	\n		\n			\n		\n	\n\n	\n		\n			\nI fattori di sostenibilità nella Direzione AFC\nLe metriche per guidare gli investimenti\nEsperienze a confronto di aziende leader\nLa gestione fiscale sostenibile e trasparente\n\nI docenti\, nel corso dell’evento formativo\, risponderanno alle domande e alle richieste di chiarimenti formulate dai partecipanti. Eventuali quesiti potranno essere anticipati inviando una email all’indirizzo asorba@paradigma.it \n \n\n		\n	\n\n	\n		\n			Evento in videoconferenza \n\n		\n	\n\n	\n		\n			6 ottobre 2022 \n\n		\n	\n\n	\n		\n			 \n\n		\n	\n\n	\n		\n			\n\n		\n	\nPresentazioneProgrammaDocentiBrochureIscrizioni e CondizioniPresentazione\n	\n		\n			Contenuti dell’evento \nL’Unione Europea\, in qualità di standard-setter a livello mondiale in materia di sostenibilità\, sta delineando un quadro normativo sempre più omnicomprensivo che considera i tanti ambiti caratteristici della sostenibilità. La sostenibilità coinvolge tutti gli aspetti e le funzioni aziendali\, essendo il cosiddetto triangolo dello sviluppo sostenibile composto da aspetti sociali\, ambientali e finanziari. \nPertanto\, anche la funzione AFC\, che gestisce tipicamente ambiti amministrativi e finanziari\, deve occuparsi della tematiche ESG\, considerando gli impatti che l’ambito finanziario ha su quello non finanziario e viceversa; per questo motivo\, le skill richieste alle figure coinvolte sono sempre più ampie ed integrate. \nNel corso della giornata di studio saranno trattati i principali cambiamenti normativi a livello europeo che interessano la sostenibilità e la sua gestione in azienda\, declinandone gli aspetti operativi e i requisiti\, anche attraverso esperienze e casi pratici. Si tratteranno anche temi legati alla fiscalità sostenibile\, tra cui contributi e incentivi per nuovi investimenti in ambito di sostenibilità ambientale. \nDestinatari dell’evento \nL’evento formativo è rivolto ai CFO\, ai Direttori Amministrativi\, ai Responsabili della Sostenibilità (es. Sustainability Manager\, HR Manager\, HSE Manager)\, ai Responsabili della Funzione Fiscale\, facenti parte dei principali gruppi finanziari\, industriali e commerciali italiani. \nObiettivi dell’evento \nObiettivo dell’incontro è fornire ai partecipanti un quadro delle novità normative sulla sostenibilità che impattano la Direzione AFC e le altre aree aziendali responsabili della sostenibilità al fine di rispondere adeguatamente e nei tempi previsti ai requisiti normativi e alle richieste degli stakeholders. \n\n\n		\n	\nProgramma\n	\n		\n			Giovedì 6 ottobre 2022 \nEvoluzione della relazione sulla gestione in ottica ESG\nESG: nuovo paradigma\nCosa cambia tra CSRD e NFRD\nFocus sui processi e sui controlli\nGli standard europei\nIng. Monica Palumbo\nDeloitte Sustainability Audit & Assurance \nLe definizioni europee delle attività sostenibili\nObiettivi della Tassonomia europea\nAnalisi delle attività eco-sostenibili\nI criteri di screening tecnico\nI punti di contatto tra la Tassonomia\, CSRD\, TCFD e altri framework/norma internazionali\nEvoluzione della Tassonomia europea\nIng. Francesco Rosti\nDeloitte Sustainability Audit & Assurance \nCome cambia l’attenzione ai controlli sull’informativa finanziaria e l’evoluzione in termini di maturità\nEvoluzione del sistema di controllo in ottica ESG\nScoping e prioritizzazione\nProcessi\, sistemi e controlli\nDott.ssa Verdiana de’ Leoni\nDeloitte Sustainability Audit & Assurance \nDigitale e sostenibilità: un equilibrio tra innovazione\, etica e obiettivi ESG\nLa digitalizzazione dei processi AFC e gli effetti sull’impatto ambientale\nLa conservazione digitale vs. archiviazione cartacea: un obiettivo irrinunciabile per un’impresa sostenibile\nIl digitale quale stimolo alla diffusione dei valori di fiducia e inclusività\nDott. Rosario Farina\nPolitecnico di Milano \nCome raggiungere una gestione fiscale sostenibile e trasparente in linea con i criteri ESG? Benchmark e spunti operativi\nEvoluzione nel contesto internazionale delle misure di trasparenza e sostenibilità fiscale\nBenchmark di principi e misure richiesti da certificazioni e standard di sostenibilità internazionali\nI requisiti dei Tax Best Performer 2021 e correlazione con il rating ESG: riflessioni sull’analisi delle DNF 2021\nDott.ssa Elena Barbiani\nStudio Tributario e Societario Deloitte \nContributi e incentivi per nuovi investimenti in ambito di sostenibilità ambientale\nProgrammi europei per progetti innovativi nell’ambito della sostenibilità ambientale\nBandi PNRR per la transizione ecologica\nL’evoluzione del credito d’imposta per transizione ecologica\nPresente e futuro della riqualificazione degli immobili produttivi\nIng. Silvia Cesarini\nDott. Daniele Cazzulani\nStudio Tributario e Societario Deloitte \nIl rating e la rendicontazione dei fattori ESG\nIl rating ESG: cenni\nLe analisi ESG in azienda: criterio ambientale\, sociale e governance nella prospettiva fiscale\nProposta di Direttiva sulla due diligence delle imprese in materia di sostenibilità\nI fattori ESG e l’Enterprise Risk Management (ERM) nella gestione del rischio fiscale\nDott. Giuseppe Nicosia\nSnam\n \n\n\n		\n	\nDocenti\n	\n		\n			Dott.ssa Elena Barbiani\nDottore Commercialista e Revisore Legale\nDirector – Tax Management Consulting\nStudio Tributario e Societario Deloitte \nDott. Daniele Cazzulani\nGlobal Investment and Innovation Incentive Director\nStudio Tributario e Societario Deloitte \nIng. Silvia Cesarini\nGlobal Investment and Innovation Incentive Manager\nStudio Tributario e Societario Deloitte \nDott.ssa Verdiana de’ Leoni\nSenior Manager\nDeloitte Sustainability Audit & Assurance \nDott. Rosario Farina\nComitato Scientifico\nAnorc Professioni\nComponente Advisory Board\nOsservatorio Fatturazione Elettronica & Ecommerce B2B\nPolitecnico di Milano \nDott. Giuseppe Nicosia\nHead of Tax\nSnam \nIng. Monica Palumbo\nPartner\nDeloitte Sustainability Audit & Assurance \nIng. Francesco Rosti\nSenior Manager\nDeloitte Sustainability Audit & Assurance \n\n\n		\n	\nBrochure\n	\n		\n			 Scarica la brochure\n\n		\n	\nIscrizioni e Condizioni\n	\n		\n			Quota di partecipazione \nLa quota di partecipazione in aula virtuale (diretta streaming) include l’invio del materiale didattico in formato elettronico e la possibilità di sottoporre ai relatori quesiti di specifico interesse a mezzo chat. È altresì possibile anticipare domande e richieste di approfondimento inviando una e-mail a info@paradigma.it entro il giorno antecedente l’evento. \nIn caso di videoconferenza con accessi multipli è necessario contattare la Segreteria organizzativa per un preventivo personalizzato. \nModalità di funzionamento della videoconferenza \nE’ possibile accedere all’aula virtuale da qualsiasi luogo\, utilizzando il proprio PC o tablet con una semplice connessione a Internet. La piattaforma informatica utilizzata da Paradigma (Adobe Connect) non necessita di requisiti tecnici particolari. \nNei giorni antecedenti l’evento il partecipante riceverà per posta elettronica le credenziali e le istruzioni di accesso. Il giorno dell’evento sarà sufficiente selezionare il link che troverà nella mail e inserire le credenziali per accedere all’aula virtuale. \nDurante gli interventi\, oltre a vedere e sentire i docenti\, è possibile consultare simultaneamente la documentazione predisposta dal relatore. Ogni utente collegato potrà porre domande sulle tematiche affrontate a mezzo chat\, alle quali il docente risponderà nel corso dell’intervento. \nModalità di iscrizione \nL’iscrizione si perfeziona al momento del ricevimento del modulo di registrazione\, da inviare via e-mail all’indirizzo info@paradigma.it\, integralmente compilato. Il numero dei collegamenti disponibili è limitato e la priorità d’iscrizione è determinata dalla data di ricezione del modulo di registrazione. Si consiglia pertanto di effettuare una preiscrizione telefonica. \nModalità di pagamento \nLa quota di partecipazione deve essere versata all’atto della presentazione della richiesta di iscrizione e\, in ogni caso\, prima dell’effettuazione dell’intervento formativo\, tramite bonifico bancario intestato a: \nParadigma Srl – Corso Vittorio Emanuele II\, 68 – 10121 Torino\nc/o Banco BPM Spa\nIBAN IT 14 V 05034 01017 000000002530 \nFormazione finanziata \nLa quota di partecipazione può essere completamente rimborsata tramite voucher promossi dai Fondi Paritetici Interprofessionali. Paradigma offre la completa e gratuita gestione delle spese di progettazione\, monitoraggio e rendicontazione. La possibilità di accedere alla formazione finanziata con partecipazione mediante videoconferenza può variare a seconda dell’Ente erogante. \nAttestato di frequenza \nL’attestato di partecipazione nominativo sarà inviato al termine dell’intervento formativo ai partecipanti che si sono regolarmente collegati all’aula virtuale. \nDiritto di recesso e modalità di disdetta \nÈ attribuita ai partecipanti la facoltà di recedere ai sensi dell’art. 1373 c.c. Il recesso dovrà essere comunicato in forma scritta almeno sette giorni prima della data di inizio dell’evento formativo (escluso il sabato e la domenica). Qualora la disdetta pervenga oltre tale termine o si verifichi di fatto con il mancato collegamento alla videoconferenza\, la quota di partecipazione sarà addebitata per intero e sarà inviato al partecipante il materiale didattico. In qualunque momento l’azienda o lo studio potranno comunque sostituire il partecipante\, comunicando il nuovo nominativo alla nostra Segreteria organizzativa. \nVariazioni di programma \nParadigma\, per ragioni eccezionali e imprevedibili\, si riserva di annullare o modificare la data dell’evento formativo\, dandone comunicazione agli interessati entro tre giorni dalla data di inizio prevista. In tali casi le quote di partecipazione pervenute verranno rimborsate\, con esclusione di qualsivoglia onere o obbligo a carico di Paradigma. Paradigma si riserva inoltre\, per ragioni sopravvenute e per cause di forza maggiore\, di modificare l’articolazione del programma e di sostituire i docenti previsti con altri docenti di pari livello professionale. \nPer ulteriori informazioni è possibile contattare la Segreteria organizzativa al numero 011.538686 o all’indirizzo e-mail info@paradigma.it. \n\n\n		\n	\n\n\n	\n		\n			Quota di partecipazione\n	\n		\n			€ 1.100 + Iva\n\n		\n	\n\n	\n		\n			In caso di videoconferenza con accessi multipli è necessario contattare la Segreteria organizzativa per un preventivo personalizzato. \n\n		\n	\n\n\n		\n	\n\n	\n		\n			\n\n\n\n\n\n\n	\n		\n			Early booking -20%\nInviando il modulo di iscrizione entro il 15 settembre si avrà diritto a una riduzione del 20% sulla quota di partecipazione.\n \n\n		\n	\n\n\n\n		\n	\n\n	\n		\n			\n\n		\n	\n\n	\n		\n			\n\n		\n	\n\n	\n		\n			\n\n\n\n\n\n\n	\n		\n			Progetto Giovani Eccellenze -50%\nL’adesione all’evento formativo permette di iscrivere una seconda risorsa\, che non abbia compiuto il 30° anno di età e proveniente dalla stessa organizzazione\, con una riduzione del 50% sulla seconda quota di partecipazione. L’agevolazione è calcolata sulla quota ordinaria. \n\n		\n	\n\n\n\n		\n	\n\n	\n		\n			\n\n\n\n\n\n\n	\n		\n			Formazione finanziata\nLa quota di partecipazione all’iniziativa può essere completamente rimborsata tramite voucher promossi dai Fondi Paritetici Interprofessionali. Paradigma offre la completa e gratuita gestione delle spese di progettazione\, monitoraggio e rendiconto. \n\n		\n	\n\n\n\n		\n	\n\n	\n		\n			\n\n\n\n\n\n\n	\n		\n			Mercati elettronici della PA\nParadigma opera sul MePA e sui principali mercati elettronici di soggetti aggregatori e centrali di committenza. \n\n		\n	\n\n\n\n		\n	\n\n	\n		\n			\n	\n\n\n	I campi con (*) sono obbligatori\n	\n		\n		Dati relativi all'evento\n		\n		\n			Partecipazione in aula\n			Partecipazione in videoconferenza\n		\n		\n\n		Dati relativi al richiedente\n		\n		\n		\n		\n		\n		\n		\n		\n\n	\n\n	\n\n		Dati per eventuale partecipante under 30\n		\n		\n		\n\n	\n\n	\n\n		Dati per la fatturazione elettronica\n		\n		\n		\n		\n		\n		\n				\n		\n		\n		  Split Payment:\n          \n            \n              \n              Si \n            No\n          \n        \n		\n		\n		\n		\n	\n\n	\n\n		Per informazioni contattare\n		\n		\n		\n		\n		\n	\n	L'iscrizione all'evento formativo si intende perfezionata al momento del ricevimento\, da parte di Paradigma Srl\, del presente modulo di registrazione compilato in ogni sua parte\, stampato\, firmato e inviato via e-mail all'indirizzo info@paradigma.it. Riceverete via email conferma dell'avvenuta iscrizione. \n\n\n		\n	     Acconsento all'invio di comunicazioni sui servizi Paradigma Srl - Consenso finalizzato\, anche con modalità automatizzate\, all'invio di comunicazioni relative a prodotti e servizi di Paradigma Srl e al fine di ricevere materiale informativo o promozionale.\n	\n	     Acconsento alla personalizzazione delle offerte - Consenso finalizzato\, mediante modalità automatizzate\, a personalizzare i servizi forniti e meglio indirizzare le proposte promozionali grazie ad attività di profilazione.\n	\n	Inviando i dati autorizzi Paradigma Srl a utilizzare i tuoi dati personali per evadere la richiesta di partecipazione all’evento formativo e svolgere le attività a ciò connesse. I dati potranno essere trattati\, per conto di Paradigma Srl\, da dipendenti e collaboratori incaricati di svolgere specifici servizi necessari all’esecuzione delle tue richieste. Il conferimento dei tuoi dati\, pur essendo facoltativo\, si rende necessario per l’esecuzione del servizio richiesto.	\n\n\n\n\n		\n\n\n\n\n\n		\n	\n[/vc_column][/vc_row]
URL:https://paradigma.it/iniziativa/ladozione-dei-fattori-di-sostenibilita-nellambito-della-direzione-afc/
CATEGORIES:Compliance, controlli e internal audit
ORGANIZER;CN="Veronica%20Spiez":MAILTO:vspiez@paradigma.it
END:VEVENT
END:VCALENDAR