BEGIN:VCALENDAR
VERSION:2.0
PRODID:-//Paradigma srl - ECPv5.2.1//NONSGML v1.0//EN
CALSCALE:GREGORIAN
METHOD:PUBLISH
X-WR-CALNAME:Paradigma srl
X-ORIGINAL-URL:https://paradigma.it
X-WR-CALDESC:Eventi per Paradigma srl
BEGIN:VTIMEZONE
TZID:Europe/Rome
BEGIN:DAYLIGHT
TZOFFSETFROM:+0100
TZOFFSETTO:+0200
TZNAME:CEST
DTSTART:20220327T010000
END:DAYLIGHT
BEGIN:STANDARD
TZOFFSETFROM:+0200
TZOFFSETTO:+0100
TZNAME:CET
DTSTART:20221030T010000
END:STANDARD
END:VTIMEZONE
BEGIN:VEVENT
DTSTART;TZID=Europe/Rome:20220531T093000
DTEND;TZID=Europe/Rome:20220531T173000
DTSTAMP:20260421T170005
CREATED:20220302T153447Z
LAST-MODIFIED:20220527T103453Z
UID:14948-1653989400-1654018200@paradigma.it
SUMMARY:La tutela della  reputazione aziendale su web e social
DESCRIPTION:[vc_row][vc_column]\n	\n		\n			\n		\n	\n\n	\n		\n			Strumenti di prevenzione e gestione dei rischi \n\nCorporate Reputation Management\nSocial Media Policy\nDiffamazione on line\nProfili legali e strumenti processuali\nCodici etici e impatti 231\nProfili giuslavoristici\n\nI docenti\, nel corso dell’evento formativo\, risponderanno alle domande e alle richieste di chiarimenti formulate dai partecipanti. Eventuali quesiti potranno essere anticipati inviando una email all’indirizzo info@paradigma.it \n \n\n		\n	\n\n	\n		\n			Evento in videoconferenza \n\n		\n	\n\n	\n		\n			31 maggio 2022 \n\n		\n	\n\n	\n		\n			 \n\n		\n	\n\n	\n		\n			\n\n		\n	\nPresentazioneProgrammaDocentiBrochureIscrizioni e CondizioniPresentazione\n	\n		\n			Contenuti dell’evento \nIl webinar intende approfondire\, anche attraverso l’esame di best practice\, il tema della prevenzione e gestione dei rischi che impattano sulla reputazione aziendale on line\, secondo un approccio tecnico-operativo ricondotto alle più frequenti fattispecie di danno registrate negli ultimi anni. \nSaranno analizzati i temi della Corporate Reputation Management\, i profili legali e gli strumenti processuali nella gestione del rischio reputazionale sul web e sui social – anche alla luce della rivoluzione “GDPR” – sino al Social Media Crisis Management. \nParticolare attenzione sarà dedicata agli strumenti\, anche agli effetti del sistema 231\, a disposizione delle aziende per una corretta ed efficacie gestione del rischio reputazionale sul web e alla strategia integrata di valorizzazione e protezione del brand. \nNel corso dell’evento sarà altresì affrontato il problema della diffamazione on line con completezza\, approfondimento scientifico e orientamento alle soluzioni praticabili\, ponendo l’accento su: \nle modalità attraverso le quali viene praticata la lesione dell’immagine aziendale sul web;\nle soluzioni di monitoraggio e le tecnologiche utili a prevenire il fenomeno e\, soprattutto\, a contenere il danno reputazionale;\ngli orientamenti della giurisprudenza nazionale e comunitaria e le ultime novità normative. \nDestinatari dell’evento \nL´evento formativo è rivolto ai Responsabili del Servizio Legale\, ai Responsabili della Brand Protection\, ai Responsabili delle Pubbliche Relazioni\, ai membri di OdV\, ai Responsabili dei Sistemi Informativi di imprese\, banche e assicurazioni. \nL’iniziativa è altresì rivolta ai professionisti (avvocati e consulenti) che operano nelle materie oggetto di trattazione\, per i quali il convegno rappresenta una importante occasione di incontro e approfondimento. \nObiettivi dell’evento \nObiettivo dell´incontro è presentare un quadro dettagliato e completo della materia\, mettendo a disposizione dei partecipanti strumenti operativi e indicazioni pratiche per aggiornare le proprie competenze professionali. \n\n\n		\n	\nProgramma\n	\n		\n			Martedì 31 maggio 2022 \nCorporate Reputation Management tra creazione del valore e gestione del rischio reputazionale\nLa corporate reputation: una risorsa strategica people dependent\, time based e multidimensional\nLa valutazione e la quantificazione del rischio reputazionale\nLe implicazioni della corporate reputation sulle performance aziendali\nLa gestione del reputational risk: verso un modello multistadio e multistakeholder\nProteggere la reputazione aziendale: best practice\nDott. Mirko Bruni\nThe Fool \nImputazione ex D. Lgs. n. 231/2001 e rischio reputazionale\nDanno all’immagine da imputazione ex D. Lgs. n. 231/2001\nLa gestione degli effetti mediatici scaturenti dall’avvio del\nprocedimento ex D. Lgs. n. 231/2001\nI rapporti con istituzioni\, fornitori e stakeholder nelle more del procedimento\nLa mitigazione del rischio reputazionale nell’ambito del sistema di compliance integrata\nLa valutazione e l’adeguamento al D. Lgs. n. 231/2001 quale parte della corretta e diligente gestione di un ente: i conseguenti obblighi di vigilanza del Collegio Sindacale e le responsabilità degli amministratori\nAvv. Iole Anna Savini\nStudio Legale Savini \nI profili legali e gli strumenti processuali nella gestione del rischio reputazionale su web e social\nIl contesto normativo di riferimento\nLa privacy e il diritto all’oblio alla luce del GDPR\nGli ultimi provvedimenti del Garante privacy in materia di tutela della reputazione\nIl bilanciamento di interessi tra diffamazione online e libertà di espressione\nIl furto di identità e il danno all’immagine di un’impresa\nL’oscuramento di un sito web: dal sequestro preventivo al network blog\nLa gestione della Social Media Policy\nAvv. Giuseppe Vaciago\n42 Law Firm \nAnalisi della recente e più diffusa casistica in materia di danno reputazionale\nAvv. Marco Tullio Giordano\nLT42 \nGli strumenti a disposizione delle aziende nella gestione del rischio reputazionale su web e social\nSocial Media Monitoring e Social CRM\nGli strumenti tecnologici per prevenire il danno reputazionale\nComprendere e integrare il rischio reputazionale nel contesto aziendale\nL’implementazione di linee guida efficaci\nSocial Media Crisis Management: soggetti coinvolti e strumenti di prevenzione e gestione\nDott. Filippo Giotto\nBanca Mediolanum \nLa definizione di una strategia integrata di valorizzazione e protezione del brand: gestire l´interazione con gli utenti\, prevenire il danno di reputazione e immagine\, proteggere il brand in rete\nSocial media e Sentiment analysis\nL´analisi delle conversazioni online come cruscotto decisionale\nLa gestione dell´interazione sui social media\nUn approccio integrato all´enforcement dei diritti\nLa nuova frontiera della protezione del brand: i social media\nCase study di successo\nDott. Matteo G.P. Flora\nThe Fool \nLa gestione delle esternazioni dei dipendenti tra diritto di critica\, obbligo di fedeltà e diffamazione on line\nAvv. Marcello Buzzini\nLabLaw Studio Legale \n\n\n		\n	\nDocenti\n	\n		\n			Dott. Mirko Bruni\nDirettore Clienti\nPractice Leader Reputation&Risk\nThe Fool \nAvv. Marcello Buzzini\nPartner\nLabLaw Studio Legale \nDott. Matteo G. P. Flora\nCEO\nThe Fool \nAvv. Marco Tullio Giordano\nLT42 \nDott. Filippo Giotto\nHead of Social Media & Digital Adv.\nBanca Mediolanum \nAvv. Iole Anna Savini\nPartner\nStudio Legale Savini\nPresidente di Transparency International Italia \nAvv. Giuseppe Vaciago\nPartner\n42 Law Firm \n\n\n		\n	\nBrochure\n	\n		\n			 Scarica la brochure\n\n		\n	\nIscrizioni e Condizioni\n	\n		\n			Quota di partecipazione \nLa quota di partecipazione in aula virtuale (diretta streaming) include la consegna del materiale didattico in formato elettronico e la possibilità di sottoporre ai relatori quesiti di specifico interesse a mezzo chat. E’ altresì possibile anticipare domande e richieste di approfondimento inviando una email a info@paradigma.it entro il giorno antecedente l’evento. \nIn caso di videoconferenza con accessi multipli è necessario contattare la Segreteria organizzativa per un preventivo personalizzato. \nModalità di funzionamento della videoconferenza \nE’ possibile accedere all’aula virtuale da qualsiasi luogo\, utilizzando il proprio PC o tablet con una semplice connessione a Internet. La piattaforma informatica utilizzata da Paradigma (Adobe Connect) non necessita di requisiti tecnici particolari. \nNei giorni antecedenti l’evento il partecipante riceverà per posta elettronica le credenziali e le istruzioni di accesso. Il giorno dell’evento sarà sufficiente selezionare il link che troverà nella mail e inserire le credenziali per accedere all’aula virtuale. \nDurante gli interventi\, oltre a vedere e sentire i docenti\, è possibile consultare simultaneamente la documentazione predisposta dal relatore. Ogni utente collegato potrà porre domande sulle tematiche affrontate a mezzo chat\, alle quali il docente risponderà nel corso dell’intervento. \nModalità di iscrizione \nL’iscrizione si perfeziona al momento del ricevimento del modulo di registrazione\, da inviare via email all’indirizzo info@paradigma.it\, integralmente compilato. Il numero dei collegamenti disponibili è limitato e la priorità d’iscrizione è determinata dalla data di ricezione del modulo di registrazione. Si consiglia pertanto di effettuare una preiscrizione telefonica. \nModalità di pagamento \nLa quota di partecipazione deve essere versata all’atto della presentazione della richiesta di iscrizione e\, in ogni caso\, prima dell’effettuazione dell’intervento formativo\, tramite bonifico bancario intestato a: \nParadigma Srl – Corso Vittorio Emanuele II\, 68 – 10121 Torino\nc/o Banco BPM Spa\nIBAN IT 14 V 05034 01017 000000002530 \nFormazione finanziata \nLa quota di partecipazione può essere completamente rimborsata tramite voucher promossi dai Fondi Paritetici Interprofessionali. Paradigma offre la completa e gratuita gestione delle spese di progettazione\, monitoraggio e rendicontazione. La possibilità di accedere alla formazione finanziata con partecipazione mediante videoconferenza può variare a seconda dell’Ente erogante. \nAttestato di frequenza \nL’attestato di partecipazione nominativo sarà inviato al termine dell’intervento formativo ai partecipanti che si sono regolarmente collegati all’aula virtuale. \nDiritto di recesso e modalità di disdetta \nE´ attribuita ai partecipanti la facoltà di recedere ai sensi dell’art. 1373 c.c. Il recesso dovrà essere comunicato in forma scritta almeno sette giorni prima della data di inizio dell’evento formativo (escluso il sabato e la domenica). Qualora la disdetta pervenga oltre tale termine o si verifichi di fatto con il mancato collegamento alla videoconferenza\, la quota di partecipazione sarà addebitata per intero e sarà inviato al partecipante il materiale didattico. In qualunque momento l’azienda o lo studio potranno comunque sostituire il partecipante\, comunicando il nuovo nominativo alla nostra Segreteria organizzativa. \nVariazioni di programma \nParadigma\, per ragioni eccezionali e imprevedibili\, si riserva di annullare o modificare la data dell’intervento formativo\, dandone comunicazione agli interessati entro tre giorni dalla data di inizio prevista. In tali casi le quote di partecipazione pervenute verranno rimborsate\, con esclusione di qualsivoglia onere o obbligo a carico di Paradigma. Paradigma si riserva inoltre\, per ragioni sopravvenute e per cause di forza maggiore\, di modificare l’articolazione del programma e di sostituire i docenti previsti con altri docenti di pari livello professionale. \nPer ulteriori informazioni è possibile contattare la Segreteria organizzativa al numero 011.538686 o all’indirizzo email info@paradigma.it. \n\n\n		\n	\n\n\n	\n		\n			Quota di partecipazione\n	\n		\n			€ 1.100 + Iva\n\n		\n	\n\n	\n		\n			In caso di videoconferenza con accessi multipli è necessario contattare la Segreteria organizzativa per un preventivo personalizzato. \n\n		\n	\n\n\n		\n	\n\n	\n		\n			\n\n\n\n\n\n\n	\n		\n			Early booking -20%\nInviando il modulo di iscrizione entro il 10 maggio si avrà diritto a una riduzione del 20% sulla quota di partecipazione. \n\n		\n	\n\n\n\n		\n	\n\n	\n		\n			\n\n		\n	\n\n	\n		\n			\n\n		\n	\n\n	\n		\n			\n\n\n\n\n\n\n	\n		\n			Progetto Giovani Eccellenze -50%\nL’adesione all’evento formativo permette di iscrivere una seconda risorsa\, che non abbia compiuto il 30° anno di età e proveniente dalla stessa organizzazione\, con una riduzione del 50% sulla seconda quota di partecipazione. L’agevolazione è calcolata sulla quota ordinaria. \n\n		\n	\n\n\n\n		\n	\n\n	\n		\n			\n\n\n\n\n\n\n	\n		\n			Formazione finanziata\nLa quota di partecipazione all’iniziativa può essere completamente rimborsata tramite voucher promossi dai Fondi Paritetici Interprofessionali. Paradigma offre la completa e gratuita gestione delle spese di progettazione\, monitoraggio e rendiconto. \n\n		\n	\n\n\n\n		\n	\n\n	\n		\n			\n\n\n\n\n\n\n	\n		\n			Mercati elettronici della PA\nParadigma opera sul MePA e sui principali mercati elettronici di soggetti aggregatori e centrali di committenza. \n\n		\n	\n\n\n\n		\n	\n\n	\n		\n			\n	\n\n\n	I campi con (*) sono obbligatori\n	\n		\n		Dati relativi all'evento\n		\n		\n			Partecipazione in aula\n			Partecipazione in videoconferenza\n		\n		\n\n		Dati relativi al richiedente\n		\n		\n		\n		\n		\n		\n		\n		\n\n	\n\n	\n\n		Dati per eventuale partecipante under 30\n		\n		\n		\n\n	\n\n	\n\n		Dati per la fatturazione elettronica\n		\n		\n		\n		\n		\n		\n				\n		\n		\n		  Split Payment:\n          \n            \n              \n              Si \n            No\n          \n        \n		\n		\n		\n		\n	\n\n	\n\n		Per informazioni contattare\n		\n		\n		\n		\n		\n	\n	L'iscrizione all'evento formativo si intende perfezionata al momento del ricevimento\, da parte di Paradigma Srl\, del presente modulo di registrazione compilato in ogni sua parte\, stampato\, firmato e inviato via e-mail all'indirizzo info@paradigma.it. Riceverete via email conferma dell'avvenuta iscrizione. \n\n\n		\n	     Acconsento all'invio di comunicazioni sui servizi Paradigma Srl - Consenso finalizzato\, anche con modalità automatizzate\, all'invio di comunicazioni relative a prodotti e servizi di Paradigma Srl e al fine di ricevere materiale informativo o promozionale.\n	\n	     Acconsento alla personalizzazione delle offerte - Consenso finalizzato\, mediante modalità automatizzate\, a personalizzare i servizi forniti e meglio indirizzare le proposte promozionali grazie ad attività di profilazione.\n	\n	Inviando i dati autorizzi Paradigma Srl a utilizzare i tuoi dati personali per evadere la richiesta di partecipazione all’evento formativo e svolgere le attività a ciò connesse. I dati potranno essere trattati\, per conto di Paradigma Srl\, da dipendenti e collaboratori incaricati di svolgere specifici servizi necessari all’esecuzione delle tue richieste. Il conferimento dei tuoi dati\, pur essendo facoltativo\, si rende necessario per l’esecuzione del servizio richiesto.	\n\n\n\n\n		\n\n\n\n\n\n		\n	\n[/vc_column][/vc_row]
URL:https://paradigma.it/iniziativa/la-tutela-della-reputazione-aziendale-su-web-e-social-4/
CATEGORIES:Compliance, controlli e internal audit
ORGANIZER;CN="Veronica%20Spiez":MAILTO:vspiez@paradigma.it
END:VEVENT
END:VCALENDAR