BEGIN:VCALENDAR
VERSION:2.0
PRODID:-//Paradigma srl - ECPv5.2.1//NONSGML v1.0//EN
CALSCALE:GREGORIAN
METHOD:PUBLISH
X-WR-CALNAME:Paradigma srl
X-ORIGINAL-URL:https://paradigma.it
X-WR-CALDESC:Eventi per Paradigma srl
BEGIN:VTIMEZONE
TZID:Europe/Rome
BEGIN:DAYLIGHT
TZOFFSETFROM:+0100
TZOFFSETTO:+0200
TZNAME:CEST
DTSTART:20230326T010000
END:DAYLIGHT
BEGIN:STANDARD
TZOFFSETFROM:+0200
TZOFFSETTO:+0100
TZNAME:CET
DTSTART:20231029T010000
END:STANDARD
END:VTIMEZONE
BEGIN:VEVENT
DTSTART;TZID=Europe/Rome:20230124T093000
DTEND;TZID=Europe/Rome:20230125T170000
DTSTAMP:20260421T151510
CREATED:20221207T133531Z
LAST-MODIFIED:20230120T101243Z
UID:16862-1674552600-1674666000@paradigma.it
SUMMARY:La sostenibilità in ambito assicurativo
DESCRIPTION:[vc_row][vc_column]\n	\n		\n			\n		\n	\n\n	\n		\n			\nL’adozione dei fattori ESG/CSR\nGli impatti su strategie\, organizzazione e prodotti\n\nI docenti\, nel corso dell’evento formativo\, risponderanno alle domande e alle richieste di chiarimenti formulate dai partecipanti. Eventuali quesiti potranno essere anticipati inviando una email all’indirizzo asorba@paradigma.it \n \n\n		\n	\n\n	\n		\n			Evento in videoconferenza \n\n		\n	\n\n	\n		\n			24 e 25 gennaio 2023 \n\n		\n	\n\n	\n		\n			 \n\n		\n	\n\n	\n		\n			\n\n		\n	\nPresentazioneProgrammaDocentiBrochureIscrizioni e CondizioniPresentazione\n	\n		\n			Contenuti dell’evento \nNel corso delle giornate di studio saranno approfondite le principali tematiche connesse all’adozione del fattori di sostenibilità (ESG/CSR) in ambito assicurativo\, analizzando gli impatti su strategie\, organizzazione e prodotti. \nDestinatari dell’evento \nL’evento formativo è rivolto ai Sustainability and Social Responsability Manager\, ai Responsabili degli Affari Legali\, ai Responsabili della Compliance\, e ai Responsabili delle Aree Commerciale\, Gestione delle Reti e Sviluppo Prodotti dei principali gruppi assicurativi\, nonché alle realtà agenziali e di brokeraggio attive nella distribuzione di prodotti assicurativi. \nObiettivi dell’evento \nObiettivo dell’incontro è fornire ai partecipanti un quadro dettagliato e completo del processo di adozione dei fattori di sostenibilità (ESG/CSR) in ambito assicurativo\, attraverso l’analisi di casi concreti e problematiche operative. \n\n\n		\n	\nProgramma\n	\n		\n			Prima giornata\nMartedì 24 gennaio 2023 \nIl quadro normativo di riferimento ESG nel settore assicurativo\nLa normativa europea\nLe disposizioni interne di recepimento\nLe disposizioni SFDR\, il Regolamento tassonomia e gli impatti sulla disciplina assicurativa IDD\nProf. Avv. Albina Candian\nUniversità Statale di Milano \nIl rating della sostenibilità: metriche e strategie\nLe categorie e tipologie di rating\nIl rapporto dell’impresa con le rating agencies\nLe strategie aziendali in relazione ai rating ESG\nCome misurare i diversi fattori ESG relativi ai prodotti assicurativi\nAvv. Fabio Maniori\nUniversità Cattolica del Sacro Cuore \nL’implementazione del modello di governance della sostenibilità e gli impatti sulle segreterie societarie e sull’attività di compliance\nIl ruolo dell’organo amministrativo\nIl modello organizzativo\nIl ruolo delle funzioni fondamentali\nProf. Avv. Sara Landini\nUniversità di Firenze \nLe attività di reporting della sostenibilità nelle compagnie assicurative\nLe novità introdotte dalla Corporate Sustainability Reporting Directive\nGli European Sustainability Reporting Standards (ESRS) di EFRAG\nConsiderazioni sulla prima applicazione della Tassonomia Green (KPIs)\nDott.ssa Lisa Sparapan\nKPMG Italy \nL’adozione dei fattori di sostenibilità nella definizione dei modelli di gestione del rischio e gli impatti su Solvency II\nLa gestione del rischio e i fattori ESG\nLe attività di risk management a fronte delle sfide della sostenibilità\nProf. Marco Micocci\nUniversità di Cagliari \n  \nSeconda giornata\nMercoledì 25 gennaio 2023 \nIl percorso di transizione verso un’offerta assicurativa “green”: le prospettive del mercato assicurativo rispetto alle principali linee di offerta vita e danni\nAnalisi di mercato\, benchmark e prospettive\nFocus su prodotti distintivi per posizionamento sostenibile\nDott.ssa Federica Banfi\nReply \nL’adozione dei fattori di sostenibilità nella definizione del modello distributivo e di consulenza assicurativa alla luce dei processi POG\nIl contesto normativo della distribuzione ai sensi dei fattori di sostenibilità\nLa distribuzione assicurativa e la valutazione consulenziale delle preferenze ESG nei rapporti con la clientela: la profilazione del cliente alla luce dei fattori ESG\nI processi POG e le modifiche opportune alle strategie distributive\nL’evoluzione dei meccanismi di distribuzione rispetto alle tipologie di prodotto offerte\nFattori ESG e giudizio di equivalenza nei prodotti IBIPs\nAvv. Andrea Polizzi\nStudio Legale D’Argenio Polizzi e Associati \nL’integrazione dei criteri di sostenibilità nelle politiche di investimento e il loro impatto sulla costruzione dei prodotti del ramo vita \nDott. Giorgio Zanotto\nGenerali Italia \nGli obblighi di disclosure nei prodotti di investimento assicurativo: informativa precontrattuale e informativa in corso di contratto \nAvv. Fabio Maniori\nUniversità Cattolica del Sacro Cuore\n \nL’adozione dei fattori di sostenibilità nella costruzione dei prodotti del ramo danni: informativa e disclosure tra normativa attuale e prassi operativa\nAvv. Maurizio Hazan\nStudio Legale Associato THMR \n\n\n		\n	\nDocenti\n	\n		\n			Dott.ssa Federica Banfi\nManager\nInsurance Strategy\nReply \nProf. Avv. Albina Candian\nOrdinario di Diritto Privato Comparato\nUniversità Statale di Milano\nStudio Legale Candian \nAvv. Maurizio Hazan\nManaging Partner\nStudio Legale Associato THMR \nProf. Avv. Sara Landini\nOrdinario di Diritto dell’Economia\nUniversità di Firenze \nAvv. Fabio Maniori\nDocente a contratto nel Master Digital Innovation & FinTech\nUniversità Cattolica del Sacro Cuore\nFounding Partner\nStudio Maniori \nProf. Marco Micocci\nOrdinario di Matematica Finanziaria e Scienze Attuariali\nUniversità di Cagliari\nPartner Actuarial Services\nMazars \nAvv. Andrea Polizzi\nFounding Partner\nStudio Legale D’Argenio Polizzi e Associati \nDott.ssa Lisa Sparapan\nPrincipal\nAdvisory Services\nKPMG Italy \nDott. Giorgio Zanotto\nHead of Functional Governance & Program Management\nGeneral Counsel Area\nGenerali Italia \n\n\n		\n	\nBrochure\n	\n		\n			 Scarica la brochure\n\n		\n	\nIscrizioni e Condizioni\n	\n		\n			Quota di partecipazione \nLa quota di partecipazione in aula virtuale (diretta streaming) include l’invio del materiale didattico in formato elettronico e la possibilità di sottoporre ai relatori quesiti di specifico interesse a mezzo chat. È altresì possibile anticipare domande e richieste di approfondimento inviando una e-mail a info@paradigma.it entro il giorno antecedente l’evento. \nIn caso di videoconferenza con accessi multipli è necessario contattare la Segreteria organizzativa per un preventivo personalizzato. \nModalità di funzionamento della videoconferenza \nE’ possibile accedere all’aula virtuale da qualsiasi luogo\, utilizzando il proprio PC o tablet con una semplice connessione a Internet. La piattaforma informatica utilizzata da Paradigma (Adobe Connect) non necessita di requisiti tecnici particolari. \nNei giorni antecedenti l’evento il partecipante riceverà per posta elettronica le credenziali e le istruzioni di accesso. Il giorno dell’evento sarà sufficiente selezionare il link che troverà nella mail e inserire le credenziali per accedere all’aula virtuale. \nDurante gli interventi\, oltre a vedere e sentire i docenti\, è possibile consultare simultaneamente la documentazione predisposta dal relatore. Ogni utente collegato potrà porre domande sulle tematiche affrontate a mezzo chat\, alle quali il docente risponderà nel corso dell’intervento. \nModalità di iscrizione \nL’iscrizione si perfeziona al momento del ricevimento del modulo di registrazione\, da inviare via e-mail all’indirizzo info@paradigma.it\, integralmente compilato. Il numero dei collegamenti disponibili è limitato e la priorità d’iscrizione è determinata dalla data di ricezione del modulo di registrazione. Si consiglia pertanto di effettuare una preiscrizione telefonica. \nModalità di pagamento \nLa quota di partecipazione deve essere versata all’atto della presentazione della richiesta di iscrizione e\, in ogni caso\, prima dell’effettuazione dell’evento formativo\, tramite bonifico bancario intestato a: \nParadigma Srl – Corso Vittorio Emanuele II\, 68 – 10121 Torino\nc/o Banco BPM Spa\nIBAN IT 14 V 05034 01017 000000002530 \nFormazione finanziata \nLa quota di partecipazione può essere completamente rimborsata tramite voucher promossi dai Fondi Paritetici Interprofessionali. Paradigma offre la completa e gratuita gestione delle spese di progettazione\, monitoraggio e rendicontazione. La possibilità di accedere alla formazione finanziata con partecipazione mediante videoconferenza può variare a seconda dell’Ente erogante. \nAttestato di frequenza \nL’attestato di partecipazione nominativo sarà inviato al termine dell’evento formativo ai partecipanti che si sono regolarmente collegati all’aula virtuale. \nDiritto di recesso e modalità di disdetta \nÈ attribuita ai partecipanti la facoltà di recedere ai sensi dell’art. 1373 c.c. Il recesso dovrà essere comunicato in forma scritta almeno sette giorni prima della data di inizio dell’evento formativo (escluso il sabato e la domenica). Qualora la disdetta pervenga oltre tale termine o si verifichi di fatto con il mancato collegamento alla videoconferenza\, la quota di partecipazione sarà addebitata per intero e sarà inviato al partecipante il materiale didattico. In qualunque momento l’azienda o lo studio potranno comunque sostituire il partecipante\, comunicando il nuovo nominativo alla nostra Segreteria organizzativa. \nVariazioni di programma \nParadigma\, per ragioni eccezionali e imprevedibili\, si riserva di annullare o modificare la data dell’evento formativo\, dandone comunicazione agli interessati entro tre giorni dalla data di inizio prevista. In tali casi le quote di partecipazione pervenute verranno rimborsate\, con esclusione di qualsivoglia onere o obbligo a carico di Paradigma. Paradigma si riserva inoltre\, per ragioni sopravvenute e per cause di forza maggiore\, di modificare l’articolazione del programma e di sostituire i docenti previsti con altri docenti di pari livello professionale. \nPer ulteriori informazioni è possibile contattare la Segreteria organizzativa al numero 011.538686 o all’indirizzo e-mail info@paradigma.it. \n\n\n		\n	\n\n\n	\n		\n			Quota di partecipazione\n	\n		\n			€ 1.100 + Iva una giornata€ 2.050 + Iva due giornate\n\n		\n	\n\n	\n		\n			In caso di videoconferenza con accessi multipli è necessario contattare la Segreteria organizzativa per un preventivo personalizzato. \n\n		\n	\n\n\n		\n	\n\n	\n		\n			\n\n\n\n\n\n\n	\n		\n			Early booking -20%\nInviando il modulo di iscrizione entro il 3 gennaio si avrà diritto a una riduzione del 20% sulla quota di partecipazione. \n\n		\n	\n\n\n\n		\n	\n\n	\n		\n			\n\n		\n	\n\n	\n		\n			\n\n		\n	\n\n	\n		\n			\n\n\n\n\n\n\n	\n		\n			Progetto Giovani Eccellenze -50%\nL’adesione all’evento formativo permette di iscrivere una seconda risorsa\, che non abbia compiuto il 30° anno di età e proveniente dalla stessa organizzazione\, con una riduzione del 50% sulla seconda quota di partecipazione. L’agevolazione è calcolata sulla quota ordinaria. \n\n		\n	\n\n\n\n		\n	\n\n	\n		\n			\n\n\n\n\n\n\n	\n		\n			Formazione finanziata\nLa quota di partecipazione all’iniziativa può essere completamente rimborsata tramite voucher promossi dai Fondi Paritetici Interprofessionali. Paradigma offre la completa e gratuita gestione delle spese di progettazione\, monitoraggio e rendiconto. \n\n		\n	\n\n\n\n		\n	\n\n	\n		\n			\n\n\n\n\n\n\n	\n		\n			Mercati elettronici della PA\nParadigma opera sul MePA e sui principali mercati elettronici di soggetti aggregatori e centrali di committenza. \n\n		\n	\n\n\n\n		\n	\n\n	\n		\n			\n	\n\n\n	I campi con (*) sono obbligatori\n	\n		\n		Dati relativi all'evento\n		\n		\n			Partecipazione in aula\n			Partecipazione in videoconferenza\n		\n		\n\n		Dati relativi al richiedente\n		\n		\n		\n		\n		\n		\n		\n		\n\n	\n\n	\n\n		Dati per eventuale partecipante under 30\n		\n		\n		\n\n	\n\n	\n\n		Dati per la fatturazione elettronica\n		\n		\n		\n		\n		\n		\n				\n		\n		\n		  Split Payment:\n          \n            \n              \n              Si \n            No\n          \n        \n		\n		\n		\n		\n	\n\n	\n\n		Per informazioni contattare\n		\n		\n		\n		\n		\n	\n	L'iscrizione all'evento formativo si intende perfezionata al momento del ricevimento\, da parte di Paradigma Srl\, del presente modulo di registrazione compilato in ogni sua parte\, stampato\, firmato e inviato via e-mail all'indirizzo info@paradigma.it. Riceverete via email conferma dell'avvenuta iscrizione. \n\n\n		\n	     Acconsento all'invio di comunicazioni sui servizi Paradigma Srl - Consenso finalizzato\, anche con modalità automatizzate\, all'invio di comunicazioni relative a prodotti e servizi di Paradigma Srl e al fine di ricevere materiale informativo o promozionale.\n	\n	     Acconsento alla personalizzazione delle offerte - Consenso finalizzato\, mediante modalità automatizzate\, a personalizzare i servizi forniti e meglio indirizzare le proposte promozionali grazie ad attività di profilazione.\n	\n	Inviando i dati autorizzi Paradigma Srl a utilizzare i tuoi dati personali per evadere la richiesta di partecipazione all’evento formativo e svolgere le attività a ciò connesse. I dati potranno essere trattati\, per conto di Paradigma Srl\, da dipendenti e collaboratori incaricati di svolgere specifici servizi necessari all’esecuzione delle tue richieste. Il conferimento dei tuoi dati\, pur essendo facoltativo\, si rende necessario per l’esecuzione del servizio richiesto.	\n\n\n\n\n		\n\n\n\n\n\n		\n	\n[/vc_column][/vc_row]
URL:https://paradigma.it/iniziativa/la-sostenibilita-in-ambito-assicurativo-2/
CATEGORIES:Assicurazioni
ORGANIZER;CN="Angela%20Siniscalchi":MAILTO:asiniscalchi@paradigma.it
END:VEVENT
END:VCALENDAR