BEGIN:VCALENDAR
VERSION:2.0
PRODID:-//Paradigma srl - ECPv5.2.1//NONSGML v1.0//EN
CALSCALE:GREGORIAN
METHOD:PUBLISH
X-WR-CALNAME:Paradigma srl
X-ORIGINAL-URL:https://paradigma.it
X-WR-CALDESC:Eventi per Paradigma srl
BEGIN:VTIMEZONE
TZID:Europe/Rome
BEGIN:DAYLIGHT
TZOFFSETFROM:+0100
TZOFFSETTO:+0200
TZNAME:CEST
DTSTART:20230326T010000
END:DAYLIGHT
BEGIN:STANDARD
TZOFFSETFROM:+0200
TZOFFSETTO:+0100
TZNAME:CET
DTSTART:20231029T010000
END:STANDARD
END:VTIMEZONE
BEGIN:VEVENT
DTSTART;TZID=Europe/Rome:20231127T093000
DTEND;TZID=Europe/Rome:20231127T170000
DTSTAMP:20260421T151423
CREATED:20230912T140437Z
LAST-MODIFIED:20231123T144802Z
UID:18673-1701077400-1701104400@paradigma.it
SUMMARY:La riforma del Codice  della Proprietà Industriale
DESCRIPTION:[vc_row][vc_column]\n	\n		\n			\n		\n	\n\n	\n		\n			\nLa nuova disciplina delle invenzioni di Università e altri enti di ricerca\nLa coesistenza di più tutele brevettuali sulla stessa invenzione\nLe nuove fattispecie di divieti di registrazione di marchi\nLe ulteriori novità\n\nI docenti\, nel corso dell’evento formativo\, risponderanno alle domande e alle richieste di chiarimenti formulate dai partecipanti. Eventuali quesiti potranno essere anticipati inviando una email all’indirizzo asorba@paradigma.it \n \n\n		\n	\n\n	\n		\n			Evento in videoconferenza \n\n		\n	\n\n	\n		\n			27 novembre 2023 \n\n		\n	\n\n	\n		\n			 \n\n		\n	\n\n	\n		\n			\n\n		\n	\nPresentazioneProgrammaDocentiBrochureIscrizioni e CondizioniPresentazione\n	\n		\n			Contenuti dell’evento \nNel quadro delle riforme che il nostro Paese si è impegnato a realizzare nell’ambito del PNRR vi era quella relativa alla revisione del Codice della Proprietà Industriale. Tale obiettivo è stato realizzato con l’approvazione della L. n. 102/2023\, pubblicata in G.U. l’8 agosto scorso. \nIl testo originario del disegno di legge governativo (aprile 2022) ha subito\, nel corso dell’iter di approvazione\, varie migliorie. Il risultato finale è quello di una revisione del Codice che sembra effettivamente esser riuscita a innovare su diversi\, significativi aspetti della protezione della proprietà industriale. \nInnanzitutto\, la riforma allinea l’Italia ai principali Paesi occidentali per quanto attiene alla titolarità dei brevetti originati dalla ricerca svolta dai ricercatori di Università\, Enti pubblici di ricerca\, Istituti di ricovero e cura a carattere scientifico. Questi saranno di titolarità della struttura\, rendendo più agevoli i percorsi di trasferimento tecnologico e anche di valorizzazione delle invenzioni. Il nuovo articolo 65 del Codice prevede\, al comma 4\, che i medesimi enti\, nell’ambito della propria autonomia\, debbano dotarsi di proprie disposizioni interne in ordine a una serie di aspetti delle invenzioni\, tra cui i rapporti con gli inventori e le premialità connesse con l’attività inventiva\, nonché con riferimento ai rapporti coi finanziatori della ricerca che produca invenzioni brevettabili. \nTra le altre novità introdotte dalla riforma\, la possibilità di ottenere una protezione ad hoc per i disegni e i modelli presentati nell’ambito di fiere\, nazionali e internazionali; l’attenzione alla lotta alla contraffazione\, con la previsione della possibilità di sequestrare prodotti contraffatti esposti nelle fiere\, e il rafforzamento del sistema dei presidi a tutela delle indicazioni geografiche\, con l’ampliamento delle ipotesi in cui è possibile attivare il procedimento di opposizione contro marchi imitativi delle denominazioni di origine. \nL’evento Paradigma si propone di approfondire\, con un approccio analitico e con una particolare attenzione a evidenziarne sempre le ricadute pratiche\, le più rilevanti innovazioni introdotte dalla riforma del Codice della Proprietà Industriale\, attraverso il contributo di autorevoli esperti. \nDestinatari dell’evento \nL’evento formativo è rivolto ai General Counsel\, ai Legal Counsel\, ai Responsabili e agli addetti IP delle imprese\, ai Responsabili del Trasferimento Tecnologico\, ai componenti delle Commissioni brevetti\, ai Direttori Generali e ai Responsabili degli Affari Legali di Università e Enti di ricerca\, nonchè a tutti i professionisti e consulenti che operano nell’ambito della proprietà intellettuale. \nObiettivi dell’evento \nPrecipua finalità del convegno è la messa a disposizione di un complesso esaustivo di strumenti cognitivi e operativi che permetta\, alle imprese e ai singoli professionisti\, un corretto inquadramento della nuova cornice operativa di protezione della proprietà industriale e\, alla luce di ciò\, un’efficace individuazione e pianificazione delle proprie strategie di gestione e di tutela degli asset IP. \n\n\n		\n	\nProgramma\n	\n		\n			Lunedì 27 novembre 2023 \nLE PRINCIPALI NOVITÀ RIGUARDANTI I BREVETTI \nIl riconoscimento alle Università e agli altri enti pubblici di ricerca del diritto a brevettare le invenzioni realizzate dai loro ricercatori nell’ambito del rapporto di lavoro. Le ricadute sui rapporti con le imprese private \nProf. Avv. Cesare Galli \nUniversità di Parma \nI rapporti tra brevetto europeo e brevetto italiano così come disciplinati dall’art. 5 della L. n. 102/2023 \nAvv. Federico Manstretta\nBird & Bird \nLE PRINCIPALI NOVITÀ RIGUARDANTI I MARCHI \nLe nuove fattispecie di divieti di registrazione\nAvv. Carlo Alberto Demichelis\nWithersworldwide \nLa procedura amministrativa di nullità e decadenza e il suo rapporto con l’opposizione\, le modifiche previste dalla riforma e le altre novità in materia di procedure davanti all’UIBM \nDott.ssa Elisabetta Magni\nStudio Botti & Ferrari \nLe novità nei rapporti tra marchi e denominazioni di origine \nAvv. Alberto Contini\nIP Law Galli \nFIERE ED ESPOSIZIONI QUALI “OCCASIONI” DI PROTEZIONE DELLA PROPRIETÀ INDUSTRIALE \nIl sequestro dei prodotti dei contraffattori nel sito espositivo \nAvv. Daniela Mainini\nMainini e Associati\nAvv. Federico Ghini\nCoronaLaw \nLa protezione provvisoria di disegni e modelli in occasione di esposizioni ufficiali o ufficialmente riconosciute e gli effetti pratici\nAvv. Mariangela Bogni\nIP Law Galli \n\n\n		\n	\nDocenti\n	\n		\n			Avv. Mariangela Bogni\nExecutive Partner and Resident Partner Sede di Brescia\nIP Law Galli \nAvv. Alberto Contini\nSenior Associate\nIP Law Galli \nAvv. Carlo Alberto Demichelis\nPartner\nHead of Brand protection and IP advisory in Italy\nWithersworldwide \nProf. Avv. Cesare Galli\nOrdinario di Diritto Industriale\nUniversità di Parma\nFounding Partner and Managing Partner\nIP Law Galli \nAvv. Federico Ghini\nPartner\nCoronaLaw \nDott.ssa Elisabetta Magni\nConsulente in Proprietà Industriale\nAssociata\nStudio Botti & Ferrari \nAvv. Daniela Mainini\nFondatrice e Titolare\nMainini e Associati \nAvv. Federico Manstretta\nAssociate\nDipartimento di Proprietà Intellettuale\nBird & Bird \n\n\n		\n	\nBrochure\n	\n		\n			 Scarica la brochure\n\n		\n	\nIscrizioni e Condizioni\n	\n		\n			Quota di partecipazione \nLa quota di partecipazione in aula virtuale (diretta streaming) include l’invio del materiale didattico in formato elettronico e la possibilità di sottoporre ai relatori quesiti di specifico interesse a mezzo chat. È altresì possibile anticipare domande e richieste di approfondimento inviando una e-mail a info@paradigma.it entro il giorno antecedente l’evento. \nIn caso di videoconferenza con accessi multipli è necessario contattare la Segreteria organizzativa per un preventivo personalizzato. \nModalità di funzionamento della videoconferenza \nE’ possibile accedere all’aula virtuale da qualsiasi luogo\, utilizzando il proprio PC o tablet con una semplice connessione a Internet. La piattaforma informatica utilizzata da Paradigma (Adobe Connect) non necessita di requisiti tecnici particolari. \nNei giorni antecedenti l’evento il partecipante riceverà per posta elettronica le credenziali e le istruzioni di accesso. Il giorno dell’evento sarà sufficiente selezionare il link che troverà nella mail e inserire le credenziali per accedere all’aula virtuale. \nDurante gli interventi\, oltre a vedere e sentire i docenti\, è possibile consultare simultaneamente la documentazione predisposta dal relatore. Ogni utente collegato potrà porre domande sulle tematiche affrontate a mezzo chat\, alle quali il docente risponderà nel corso dell’intervento. \nModalità di iscrizione \nL’iscrizione si perfeziona al momento del ricevimento del modulo di registrazione\, da inviare via e-mail all’indirizzo info@paradigma.it\, integralmente compilato. Il numero dei collegamenti disponibili è limitato e la priorità d’iscrizione è determinata dalla data di ricezione del modulo di registrazione. Si consiglia pertanto di effettuare una preiscrizione telefonica. \nModalità di pagamento \nLa quota di partecipazione deve essere versata all’atto della presentazione della richiesta di iscrizione e\, in ogni caso\, prima dell’effettuazione dell’evento formativo\, tramite bonifico bancario intestato a: \nParadigma Srl – Corso Vittorio Emanuele II\, 68 – 10121 Torino\nc/o Banco BPM Spa\nIBAN IT 14 V 05034 01017 000000002530 \nFormazione finanziata \nLa quota di partecipazione può essere completamente rimborsata tramite voucher promossi dai Fondi Paritetici Interprofessionali. Paradigma offre la completa e gratuita gestione delle spese di progettazione\, monitoraggio e rendicontazione. La possibilità di accedere alla formazione finanziata con partecipazione mediante videoconferenza può variare a seconda dell’Ente erogante. \nAttestato di frequenza \nL’attestato di partecipazione nominativo sarà inviato al termine dell’evento formativo ai partecipanti che si sono regolarmente collegati all’aula virtuale. \nDiritto di recesso e modalità di disdetta \nÈ attribuita ai partecipanti la facoltà di recedere ai sensi dell’art. 1373 c.c. Il recesso dovrà essere comunicato in forma scritta almeno sette giorni prima della data di inizio dell’evento formativo (escluso il sabato e la domenica). Qualora la disdetta pervenga oltre tale termine o si verifichi di fatto con il mancato collegamento alla videoconferenza\, la quota di partecipazione sarà addebitata per intero e sarà inviato al partecipante il materiale didattico. In qualunque momento l’azienda o lo studio potranno comunque sostituire il partecipante\, comunicando il nuovo nominativo alla nostra Segreteria organizzativa. \nVariazioni di programma \nParadigma\, per ragioni eccezionali e imprevedibili\, si riserva di annullare o modificare la data dell’evento formativo\, dandone comunicazione agli interessati entro tre giorni dalla data di inizio prevista. In tali casi le quote di partecipazione pervenute verranno rimborsate\, con esclusione di qualsivoglia onere o obbligo a carico di Paradigma. Paradigma si riserva inoltre\, per ragioni sopravvenute e per cause di forza maggiore\, di modificare l’articolazione del programma e di sostituire i docenti previsti con altri docenti di pari livello professionale. \nPer ulteriori informazioni è possibile contattare la Segreteria organizzativa al numero 011.538686 o all’indirizzo e-mail info@paradigma.it. \n\n\n		\n	\n\n\n	\n		\n			Quota di partecipazione\n	\n		\n			€ 1.100 + Iva\n\n		\n	\n\n	\n		\n			In caso di videoconferenza con accessi multipli è necessario contattare la Segreteria organizzativa per un preventivo personalizzato. \n\n		\n	\n\n\n		\n	\n\n	\n		\n			\n\n\n\n\n\n\n	\n		\n			Early booking -20%\nInviando il modulo di iscrizione entro il 6 novembre si avrà diritto a una riduzione del 20% sulla quota di partecipazione. \n\n		\n	\n\n\n\n		\n	\n\n	\n		\n			\n\n		\n	\n\n	\n		\n			\n\n		\n	\n\n	\n		\n			\n\n\n\n\n\n\n	\n		\n			Progetto Giovani Eccellenze -50%\nL’adesione all’evento formativo permette di iscrivere una seconda risorsa\, che non abbia compiuto il 30° anno di età e proveniente dalla stessa organizzazione\, con una riduzione del 50% sulla seconda quota di partecipazione. L’agevolazione è calcolata sulla quota ordinaria. \n\n		\n	\n\n\n\n		\n	\n\n	\n		\n			\n\n\n\n\n\n\n	\n		\n			Formazione finanziata\nLa quota di partecipazione all’iniziativa può essere completamente rimborsata tramite voucher promossi dai Fondi Paritetici Interprofessionali. Paradigma offre la completa e gratuita gestione delle spese di progettazione\, monitoraggio e rendiconto. \n\n		\n	\n\n\n\n		\n	\n\n	\n		\n			\n\n\n\n\n\n\n	\n		\n			Mercati elettronici della PA\nParadigma opera sul MePA e sui principali mercati elettronici di soggetti aggregatori e centrali di committenza. \n\n		\n	\n\n\n\n		\n	\n\n	\n		\n			\n	\n\n\n	I campi con (*) sono obbligatori\n	\n		\n		Dati relativi all'evento\n		\n		\n			Partecipazione in aula\n			Partecipazione in videoconferenza\n		\n		\n\n		Dati relativi al richiedente\n		\n		\n		\n		\n		\n		\n		\n		\n\n	\n\n	\n\n		Dati per eventuale partecipante under 30\n		\n		\n		\n\n	\n\n	\n\n		Dati per la fatturazione elettronica\n		\n		\n		\n		\n		\n		\n				\n		\n		\n		  Split Payment:\n          \n            \n              \n              Si \n            No\n          \n        \n		\n		\n		\n		\n	\n\n	\n\n		Per informazioni contattare\n		\n		\n		\n		\n		\n	\n	L'iscrizione all'evento formativo si intende perfezionata al momento del ricevimento\, da parte di Paradigma Srl\, del presente modulo di registrazione compilato in ogni sua parte\, stampato\, firmato e inviato via e-mail all'indirizzo info@paradigma.it. Riceverete via email conferma dell'avvenuta iscrizione. \n\n\n		\n	     Acconsento all'invio di comunicazioni sui servizi Paradigma Srl - Consenso finalizzato\, anche con modalità automatizzate\, all'invio di comunicazioni relative a prodotti e servizi di Paradigma Srl e al fine di ricevere materiale informativo o promozionale.\n	\n	     Acconsento alla personalizzazione delle offerte - Consenso finalizzato\, mediante modalità automatizzate\, a personalizzare i servizi forniti e meglio indirizzare le proposte promozionali grazie ad attività di profilazione.\n	\n	Inviando i dati autorizzi Paradigma Srl a utilizzare i tuoi dati personali per evadere la richiesta di partecipazione all’evento formativo e svolgere le attività a ciò connesse. I dati potranno essere trattati\, per conto di Paradigma Srl\, da dipendenti e collaboratori incaricati di svolgere specifici servizi necessari all’esecuzione delle tue richieste. Il conferimento dei tuoi dati\, pur essendo facoltativo\, si rende necessario per l’esecuzione del servizio richiesto.	\n\n\n\n\n		\n\n\n\n\n\n		\n	\n[/vc_column][/vc_row]
URL:https://paradigma.it/iniziativa/la-riforma-del-codice-della-proprieta-industriale/
CATEGORIES:Marchi e Brevetti
ORGANIZER;CN="Angela%20Siniscalchi":MAILTO:asiniscalchi@paradigma.it
END:VEVENT
END:VCALENDAR