BEGIN:VCALENDAR
VERSION:2.0
PRODID:-//Paradigma srl - ECPv5.2.1//NONSGML v1.0//EN
CALSCALE:GREGORIAN
METHOD:PUBLISH
X-WR-CALNAME:Paradigma srl
X-ORIGINAL-URL:https://paradigma.it
X-WR-CALDESC:Eventi per Paradigma srl
BEGIN:VTIMEZONE
TZID:Europe/Rome
BEGIN:DAYLIGHT
TZOFFSETFROM:+0100
TZOFFSETTO:+0200
TZNAME:CEST
DTSTART:20220327T010000
END:DAYLIGHT
BEGIN:STANDARD
TZOFFSETFROM:+0200
TZOFFSETTO:+0100
TZNAME:CET
DTSTART:20221030T010000
END:STANDARD
END:VTIMEZONE
BEGIN:VEVENT
DTSTART;TZID=Europe/Rome:20220706T093000
DTEND;TZID=Europe/Rome:20220706T180000
DTSTAMP:20260421T151625
CREATED:20220526T093029Z
LAST-MODIFIED:20220704T130425Z
UID:15506-1657099800-1657130400@paradigma.it
SUMMARY:La ridefinizione  del Golden power  nel D.L. n. 21/2022
DESCRIPTION:[vc_row][vc_column]\n	\n		\n			\n		\n	\n\n	\n		\n			\nLe novità introdotte alla luce del mutato contesto internazionale\nI presupposti per l’esercizio dei poteri speciali e la casistica applicativa\n\nI docenti\, nel corso dell’evento formativo\, risponderanno alle domande e alle richieste di chiarimenti formulate dai partecipanti. Eventuali quesiti potranno essere anticipati inviando una email all’indirizzo info@paradigma.it \n \n\n		\n	\n\n	\n		\n			Evento in videoconferenza \n\n		\n	\n\n	\n		\n			6 luglio 2022 \n\n		\n	\n\n	\n		\n			 \n\n		\n	\n\n	\n		\n			\n\n		\n	\nPresentazioneProgrammaDocentiBrochureIscrizioni e CondizioniPresentazione\n	\n		\n			Contenuti dell’evento \nNel corso dell’intervento formativo\, verrà analizzato il quadro giuridico di riferimento in materia di “Golden power”\, così come modificato dal recente D.L. n. 21/2022\, convertito in legge il 20 maggio scorso (L. n. 51/2022). \nCome noto\, l’istituto dei poteri speciali è stato introdotto nel nostro ordinamento nel 2012\, dopo che una procedura di infrazione comunitaria aveva contestato la compatibilità con il diritto UE del previgente istituto della golden share\, concepita dal legislatore nel 1994 (dunque\, in epoca di privatizzazioni) per tutelare interessi vitali dello Stato nel processo di dismissione di imprese pubbliche\, operanti in settori di rilevanza strategica\, nei quali veniva a cessare il suo ruolo di azionista di controllo. In particolare\, la Commissione ebbe a censurare la golden share ritendendola lesiva del principio della libera circolazione dei capitali. \nSi giunse quindi alla messa a punto del nuovo strumento del golden power\, con L. n. 56/2012\, “Norme in materia di poteri speciali sugli assetti societari nei settori della difesa e della sicurezza nazionale\, nonché per le attività di rilevanza strategica nei settori dell’energia\, dei trasporti e delle comunicazioni”\, che assegna allo Stato il potere di esercitare poteri speciali nei confronti di tutte le società che svolgono attività di rilevanza strategica. Grazie a tale istituto\, è possibile imporre specifiche condizioni all’acquisto di partecipazioni o porre il veto all’adozione di delibere relative a operazioni straordinarie o di particolare rilevanza\, capaci di compromettere gli interessi nazionali. \nIn piena crisi Covid\, la Commissione europea ha emanato una Comunicazione (26 marzo 2020) con la quale invitava gli Stati membri “ad avvalersi appieno (…) dei meccanismi di controllo degli investimenti esteri diretti”\, per fronteggiare il rischio di tentativi di acquisizione di imprese strategiche\, con la conseguente “perdita di risorse e tecnologie critiche”\, sottolineando che il Regolamento UE n. 452/2019\, che individua una cornice giuridica comune in materia di controllo degli investimenti esteri diretti da parte degli Stati membri\, è applicabile “a tutti i settori dell’economia”\, senza limiti quantitativi delle operazioni. \nDetto Regolamento\, operativo dall’ottobre 2020\, ha posto agli Stati membri l’esigenza di dotarsi ex novo di una disciplina interna in materia o\, laddove già ne disponessero\, di adeguare gli strumenti normativi già disponibili. L’Italia\, che già aveva adottato l’istituto del “Golden power”\, ha quindi proceduto al suo ulteriore ampliamento e potenziamento\, tanto per ciò che concerne la dimensione delle imprese “difendibili”\, quanto per ciò che riguarda i settori da proteggere e la provenienza degli investimenti esteri. \nI settori identificati come strategici sono via via aumentati\, fino ad includere i servizi di comunicazione elettronica a banda larga basati sulla tecnologia 5G (D.L. n. 22/2019\, c.d. “Decreto Brexit”\, poi convertito in L. n. 41/19) e sono stati ampliati ulteriormente nel 2020\, con la legge di conversione del c.d. “Decreto Liquidità” (Legge n. 40/20) che prevede la possibilità di controllare operazioni societarie e scalate eventualmente ostili non solo nei settori tradizionali delle infrastrutture critiche e della difesa\, ma anche in quello finanziario\, creditizio\, assicurativo\, energia\, acqua\, trasporti\, salute\, sicurezza alimentare\, intelligenza artificiale\, robotica\, semiconduttori\, cybersecurity”\, rinviando a successivi DPCM (in seguito effettivamente emanati) ulteriori puntualizzazioni sull’ambito di applicazione oggettivo della normativa. \nIl D.L. n. 21/2022\, emanato per far fronte agli effetti della crisi ucraina\, reca un nuovo intervento di rafforzamento dei poteri speciali\, all’interno di un Titolo IV significativamente rubricato “Rafforzamento dei presidi per la sicurezza\, la difesa nazionale e per le reti di comunicazione elettronica”. Tra le novità più importanti\, l’estensione del golden power alle concessioni di grande derivazione idroelettrica e\, più in generale\, a tutti i beni e i rapporti di rilevanza strategica per l’interesse nazionale\, anche se oggetto di concessioni\, nonché la creazione di una struttura amministrativa\, presso la Presidenza del Consiglio dei Ministri\, con compiti di valutazione e analisi strategica\, e il rafforzamento dei poteri ispettivi in materia da parte della Guardia di Finanza. \nDestinatari dell’evento \nL’evento formativo è rivolto ai General Counsel\, ai Legal Counsel\, ai legali interni alle aziende e ai liberi professionisti operanti in ambito regolatorio\, antitrust e societario. \nObiettivi dell’evento \nObiettivo dell’incontro è presentare un quadro dettagliato e completo delle modalità operative del “Golden power” e dei presupposti per la relativa attivazione alla luce del recente intervento normativo di modifica. \n\n\n		\n	\nProgramma\n	\n		\n			Mercoledì 6 luglio 2022 \nDalla “golden share” al “golden power”: difesa di interessi vitali dello Stato vs. libera iniziativa economica e libera circolazione dei capitali\nLa L. n. 47/94 e la golden share in caso di privatizzazione di imprese pubbliche\nLa procedura di infrazione europea sulla golden share\nIl passaggio al modello dei poteri speciali (L. n. 56/2012) e la successiva\, progressiva espansione degli stessi\nIl Regolamento UE n. 452/2019 e la messa a punto di un quadro comune europeo sul controllo degli investimenti esteri diretti\nLa L. n. 40/2020 e l’ulteriore ampliamento dei poteri speciali\nI problemi aperti sul piano della compatibilità eurounitaria e costituzionale dei poteri speciali così come da ultimo configurati e il deficit di tutela per l’operatore economico\nProf. Avv. Marcello Clarich\nSapienza Università di Roma \nPoteri speciali e diritto societario\nPoteri speciali in caso di acquisto di partecipazioni: delimitazione del campo di applicazione\nPoteri speciali di veto a determinate delibere\, atti o operazioni\nPoteri speciali e operazioni infragruppo\nProf. Avv. Vincenzo Donativi\nLUM Giuseppe Degennaro di Casamassima \nProfili procedimentali dell’applicazione dei poteri speciali: presupposti e limiti del loro esercizio\nLa base normativa\nLa prenotifica\nIl procedimento d’ufficio\nI principi evincibili dalla giurisprudenza interna ed europea\nEsame della casistica\nAvv. Domenico Ielo\nStudio Legale Ielo \nPoteri speciali nella difesa e sicurezza nazionale nel quadro dell’emergenza bellica\nAttivi strategici nella sicurezza nazionale\nI decreti di individuazione\nSicurezza degli approvvigionamenti\nSicurezza delle informazioni\nTrasferimenti tecnologici\nControllo delle esportazioni\nOperazioni rilevanti\nModalità di esercizio del potere di veto\nOpposizione all’acquisto\nImposizione di specifiche condizioni o prescrizioni\nLa minaccia di grave pregiudizio\nAttività che incidono sulla sicurezza e ordine pubblico\nIl grave rischio di attività illegali o criminali\nChi deve notificare\nQuando si deve notificare\nCome si deve notificare\nL’emergenza bellica e le conseguenze sul piano dei poteri speciali\nAvv. Domenico Ielo\nStudio Legale Ielo \nPoteri speciali nel 5 G\nInfrastrutture e servizi 5 G\nIl piano d’acquisto\nL’approvazione del piano\nAcquisto di beni o servizi 5 G\nContratti di progettazione\, realizzazione\, manutenzione e gestione delle reti inerenti ai servizi su base 5 G\nProgramma degli acquisti\nFornitori attuali e potenziali\nDescrizione acquisto e specifiche tecniche\nL’informativa sui contratti già autorizzati\nChi deve notificare\nQuando si deve notificare\nCome si deve notificare\nAvv. Domenico Ielo\nStudio Legale Ielo \nPoteri speciali nei settori dell’energia\, dei trasporti\, delle comunicazioni\nAttivi strategici nei settori energetici\nAttivi strategici nei trasporti\nAttivi strategici nelle comunicazioni\nI regolamenti di individuazione\nLe operazioni rilevanti\nLa notifica\nI poteri di veto e di opposizione\nLe prescrizioni\nle relazioni di ottemperanza\nChi deve notificare\nQuando si deve notificare\nCome si deve notificare\nAvv. Domenico Ielo\nStudio Legale Ielo \nPoteri speciali nei settori ad alta intensità tecnologica e nel settore finanziario\nGli asset\nI regolamenti di individuazione\nLe operazioni rilevanti\nLa notifica\nI poteri di veto e di opposizione\nLe prescrizioni\nLe relazioni di ottemperanza\nChi deve notificare\nQuando si deve notificare\nCome si deve notificare\nAvv. Domenico Ielo\nStudio Legale Ielo \nPoteri speciali e Perimetro di sicurezza cibernetica\nLa ridefinizione dei poteri speciali in materia di servizi di comunicazione elettronica a banda larga basati sulla tecnologia 5G e cloud\nLa connessione Golden Power/Perimetro di sicurezza nazionale cibernetica\nGolden Power e rafforzamento della disciplina cyber: i casi delle società tecnologiche russe\nAvv. Stefano Mele\nGianni & Origoni \nModalità concrete e oneri procedurali\nL’utilizzo della modulistica\nI termini\nL’incidenza delle sospensioni disposte dai decreti Covid\nIl procedimento\nL’istruttoria\nLa collaborazione tra autorità amministrative\nLa partecipazione del notificante\nLa partecipazione di terzi\nAvv. Domenico Ielo\nStudio Legale Ielo \nIl sistema sanzionatorio e la tutela giurisdizionale\nIl sistema sanzionatorio civile\nIl sistema sanzionatorio penale\nIl sistema sanzionatorio amministrativo\nLa tutela giurisdizionale\nLa casistica giurisprudenziale\nAvv. Domenico Ielo\nStudio Legale Ielo \n\n\n		\n	\nDocenti\n	\n		\n			Prof. Avv. Marcello Clarich\nOrdinario di Diritto Amministrativo\nSapienza Università di Roma\nStudio Legale Clarich \nProf. Avv. Vincenzo Donativi\nOrdinario di Diritto Commerciale\nLUM Giuseppe Degennaro di Casamassima\nLUISS Guido Carli di Roma\nStudio Legale Donativi e Associati \nAvv. Domenico Ielo\nPartner\nStudio Legale Ielo \nAvv. Stefano Mele\nPartner\nGianni & Origoni \n\n\n		\n	\nBrochure\n	\n		\n			 Scarica la brochure\n\n		\n	\nIscrizioni e Condizioni\n	\n		\n			Quota di partecipazione \nLa quota di partecipazione in aula virtuale (diretta streaming) include la consegna del materiale didattico in formato elettronico e la possibilità di sottoporre ai relatori quesiti di specifico interesse a mezzo chat. E’ altresì possibile anticipare domande e richieste di approfondimento inviando una email a info@paradigma.it entro il giorno antecedente l’evento. \nIn caso di videoconferenza con accessi multipli è necessario contattare la Segreteria organizzativa per un preventivo personalizzato. \nModalità di funzionamento della videoconferenza \nE’ possibile accedere all’aula virtuale da qualsiasi luogo\, utilizzando il proprio PC o tablet con una semplice connessione a Internet. La piattaforma informatica utilizzata da Paradigma (Adobe Connect) non necessita di requisiti tecnici particolari. \nNei giorni antecedenti l’evento il partecipante riceverà per posta elettronica le credenziali e le istruzioni di accesso. Il giorno dell’evento sarà sufficiente selezionare il link che troverà nella mail e inserire le credenziali per accedere all’aula virtuale. \nDurante gli interventi\, oltre a vedere e sentire i docenti\, è possibile consultare simultaneamente la documentazione predisposta dal relatore. Ogni utente collegato potrà porre domande sulle tematiche affrontate a mezzo chat\, alle quali il docente risponderà nel corso dell’intervento. \nModalità di iscrizione \nL’iscrizione si perfeziona al momento del ricevimento del modulo di registrazione\, da inviare via email all’indirizzo info@paradigma.it\, integralmente compilato. Il numero dei collegamenti disponibili è limitato e la priorità d’iscrizione è determinata dalla data di ricezione del modulo di registrazione. Si consiglia pertanto di effettuare una preiscrizione telefonica. \nModalità di pagamento \nLa quota di partecipazione deve essere versata all’atto della presentazione della richiesta di iscrizione e\, in ogni caso\, prima dell’effettuazione dell’intervento formativo\, tramite bonifico bancario intestato a: \nParadigma Srl – Corso Vittorio Emanuele II\, 68 – 10121 Torino\nc/o Banco BPM Spa\nIBAN IT14V0503401017000000002530 \nFormazione finanziata \nLa quota di partecipazione può essere completamente rimborsata tramite voucher promossi dai Fondi Paritetici Interprofessionali. Paradigma offre la completa e gratuita gestione delle spese di progettazione\, monitoraggio e rendicontazione. La possibilità di accedere alla formazione finanziata con partecipazione mediante videoconferenza può variare a seconda dell’Ente erogante. \nAttestato di frequenza \nL’attestato di partecipazione nominativo sarà inviato al termine dell’intervento formativo ai partecipanti che si sono regolarmente collegati all’aula virtuale. \nDiritto di recesso e modalità di disdetta \nE´ attribuita ai partecipanti la facoltà di recedere ai sensi dell’art. 1373 c.c. Il recesso dovrà essere comunicato in forma scritta almeno sette giorni prima della data di inizio dell’evento formativo (escluso il sabato e la domenica). Qualora la disdetta pervenga oltre tale termine o si verifichi di fatto con il mancato collegamento alla videoconferenza\, la quota di partecipazione sarà addebitata per intero e sarà inviato al partecipante il materiale didattico. In qualunque momento l’azienda o lo studio potranno comunque sostituire il partecipante\, comunicando il nuovo nominativo alla nostra Segreteria organizzativa. \nVariazioni di programma \nParadigma\, per ragioni eccezionali e imprevedibili\, si riserva di annullare o modificare la data dell’intervento formativo\, dandone comunicazione agli interessati entro tre giorni dalla data di inizio prevista. In tali casi le quote di partecipazione pervenute verranno rimborsate\, con esclusione di qualsivoglia onere o obbligo a carico di Paradigma. Paradigma si riserva inoltre\, per ragioni sopravvenute e per cause di forza maggiore\, di modificare l’articolazione del programma e di sostituire i docenti previsti con altri docenti di pari livello professionale. \nPer ulteriori informazioni è possibile contattare la Segreteria organizzativa al numero 011.538686 o all’indirizzo email info@paradigma.it. \n\n\n		\n	\n\n\n	\n		\n			Quota di partecipazione\n	\n		\n			€ 1.100 + Iva\n\n		\n	\n\n	\n		\n			In caso di videoconferenza con accessi multipli è necessario contattare la Segreteria organizzativa per un preventivo personalizzato. \n\n		\n	\n\n\n		\n	\n\n	\n		\n			\n\n\n\n\n\n\n	\n		\n			Early booking -20%\nInviando il modulo di iscrizione entro il 15 giugno si avrà diritto a una riduzione del 20% sulla quota di partecipazione. \n\n		\n	\n\n\n\n		\n	\n\n	\n		\n			\n\n		\n	\n\n	\n		\n			\n\n		\n	\n\n	\n		\n			\n\n\n\n\n\n\n	\n		\n			Progetto Giovani Eccellenze -50%\nL’adesione all’evento formativo permette di iscrivere una seconda risorsa\, che non abbia compiuto il 30° anno di età e proveniente dalla stessa organizzazione\, con una riduzione del 50% sulla seconda quota di partecipazione. L’agevolazione è calcolata sulla quota ordinaria. \n\n		\n	\n\n\n\n		\n	\n\n	\n		\n			\n\n\n\n\n\n\n	\n		\n			Formazione finanziata\nLa quota di partecipazione all’iniziativa può essere completamente rimborsata tramite voucher promossi dai Fondi Paritetici Interprofessionali. Paradigma offre la completa e gratuita gestione delle spese di progettazione\, monitoraggio e rendiconto. \n\n		\n	\n\n\n\n		\n	\n\n	\n		\n			\n\n\n\n\n\n\n	\n		\n			Mercati elettronici della PA\nParadigma opera sul MePA e sui principali mercati elettronici di soggetti aggregatori e centrali di committenza. \n\n		\n	\n\n\n\n		\n	\n\n	\n		\n			\n	\n\n\n	I campi con (*) sono obbligatori\n	\n		\n		Dati relativi all'evento\n		\n		\n			Partecipazione in aula\n			Partecipazione in videoconferenza\n		\n		\n\n		Dati relativi al richiedente\n		\n		\n		\n		\n		\n		\n		\n		\n\n	\n\n	\n\n		Dati per eventuale partecipante under 30\n		\n		\n		\n\n	\n\n	\n\n		Dati per la fatturazione elettronica\n		\n		\n		\n		\n		\n		\n				\n		\n		\n		  Split Payment:\n          \n            \n              \n              Si \n            No\n          \n        \n		\n		\n		\n		\n	\n\n	\n\n		Per informazioni contattare\n		\n		\n		\n		\n		\n	\n	L'iscrizione all'evento formativo si intende perfezionata al momento del ricevimento\, da parte di Paradigma Srl\, del presente modulo di registrazione compilato in ogni sua parte\, stampato\, firmato e inviato via e-mail all'indirizzo info@paradigma.it. Riceverete via email conferma dell'avvenuta iscrizione. \n\n\n		\n	     Acconsento all'invio di comunicazioni sui servizi Paradigma Srl - Consenso finalizzato\, anche con modalità automatizzate\, all'invio di comunicazioni relative a prodotti e servizi di Paradigma Srl e al fine di ricevere materiale informativo o promozionale.\n	\n	     Acconsento alla personalizzazione delle offerte - Consenso finalizzato\, mediante modalità automatizzate\, a personalizzare i servizi forniti e meglio indirizzare le proposte promozionali grazie ad attività di profilazione.\n	\n	Inviando i dati autorizzi Paradigma Srl a utilizzare i tuoi dati personali per evadere la richiesta di partecipazione all’evento formativo e svolgere le attività a ciò connesse. I dati potranno essere trattati\, per conto di Paradigma Srl\, da dipendenti e collaboratori incaricati di svolgere specifici servizi necessari all’esecuzione delle tue richieste. Il conferimento dei tuoi dati\, pur essendo facoltativo\, si rende necessario per l’esecuzione del servizio richiesto.	\n\n\n\n\n		\n\n\n\n\n\n		\n	\n[/vc_column][/vc_row]
URL:https://paradigma.it/iniziativa/la-ridefinizione-del-golden-power-nel-d-l-n-21-2022/
CATEGORIES:Legale Contrattuale
ORGANIZER;CN="Angela%20Siniscalchi":MAILTO:asiniscalchi@paradigma.it
END:VEVENT
END:VCALENDAR