BEGIN:VCALENDAR
VERSION:2.0
PRODID:-//Paradigma srl - ECPv5.2.1//NONSGML v1.0//EN
CALSCALE:GREGORIAN
METHOD:PUBLISH
X-WR-CALNAME:Paradigma srl
X-ORIGINAL-URL:https://paradigma.it
X-WR-CALDESC:Eventi per Paradigma srl
BEGIN:VTIMEZONE
TZID:Europe/Rome
BEGIN:DAYLIGHT
TZOFFSETFROM:+0100
TZOFFSETTO:+0200
TZNAME:CEST
DTSTART:20230326T010000
END:DAYLIGHT
BEGIN:STANDARD
TZOFFSETFROM:+0200
TZOFFSETTO:+0100
TZNAME:CET
DTSTART:20231029T010000
END:STANDARD
END:VTIMEZONE
BEGIN:VEVENT
DTSTART;TZID=Europe/Rome:20230328T093000
DTEND;TZID=Europe/Rome:20230328T163000
DTSTAMP:20260421T151720
CREATED:20230215T112019Z
LAST-MODIFIED:20230324T104903Z
UID:17366-1679995800-1680021000@paradigma.it
SUMMARY:La produzione di energia  da fonti rinnovabili
DESCRIPTION:[vc_row][vc_column]\n	\n		\n			\n		\n	\n\n	\n		\n			\nSemplificazioni nei procedimenti autorizzatori\nRegimi di incentivazione\nUlteriori novità alla luce del D.L. “PNRR 3”\n\nI docenti\, nel corso dell’evento formativo\, risponderanno alle domande e alle richieste di chiarimenti formulate dai partecipanti. Eventuali quesiti potranno essere anticipati inviando una email all’indirizzo info@paradigma.it \n \n\n		\n	\n\n	\n		\n			Evento in videoconferenza \n\n		\n	\n\n	\n		\n			28 marzo 2023 \n\n		\n	\n\n	\n		\n			 \n\n		\n	\n\n	\n		\n			\n\n		\n	\nPresentazioneProgrammaDocentiBrochureIscrizioni e CondizioniPresentazione\n	\n		\n			Contenuti dell’evento \nL’ultimo biennio ha visto il susseguirsi di significativi interventi del legislatore nell’ambito della produzione di energia da fonti rinnovabili\, in parte in attuazione di norme UE\, in parte sotto la spinta della crisi energetica degli ultimi mesi e della necessità di imprimere un deciso impulso all’incremento di energia generata da fonti non fossili. \nAl recepimento\, con D. Lgs. 8 novembre 2021\, n. 199\, della Direttiva (UE) 2018/2001 (c.d. “RED II”)\, che ha visto l’introduzione di una nuova disciplina dei regimi di sostegno e degli strumenti di promozione delle energie ottenibili da fonti “pulite”\, hanno fatto seguito altri rilevanti testi normativi\, quali il Decreto “Energia” (D.L. n. 17/2022\, convertito in L. n. 51/2022)\, recante importanti semplificazioni autorizzative per gli impianti da fonte rinnovabile\, e il Decreto “Aiuti” (D.L. n. 50/2022\, convertito in L. n. 164/2022)\, che ha inciso ulteriormente sulla materia\, prevedendo anche la possibilità di utilizzo del potere sostitutivo statale in caso di inerzia delle Regioni rispetto all’obbligo di individuazione delle aree idonee entro i termini di legge\, oltre a intervenire sulle stesse definizioni di aree idonee e a ulteriormente semplificare gli iter autorizzativi per gli impianti. \nSiamo ora alla vigilia di un nuovo atto normativo che innoverà ancora la materia\, il preannunciato Decreto Legge “PNRR 3”\, contenente varie misure per il più celere conseguimento degli obiettivi previsti dal piano di finanziamenti europeo di cui l’Italia è tra i principali beneficiari\, tra le quali appunto anche ulteriori previsioni sul fronte delle semplificazioni e dell’incentivazione delle energie rinnovabili. \nL’obiettivo finale del mix incentivi e semplificazioni amministrative oggi disponibile\, e in fase di ulteriore rafforzamento\, dovrebbe\, auspicabilmente\, esser quello di mobilitare nuovi investimenti nel settore\, rendendo lo sviluppo della produzione da fonti energetiche rinnovabili in Italia un business appetibile\, e conseguendo inoltre\, per tale via\, una minor dipendenza dall’importazione di energia da altri Paesi\, oltre a tutti gli intuibili benefici sul fronte ambientale. \nL’evento mira ad approfondire il tema delle energie rinnovabili\, nella sua cornice regolatoria e nelle sue implicazioni operative\, alla luce dei più recenti sviluppi normativi. \nDestinatari dell’evento \nL´evento formativo è prioritariamente rivolto ai responsabili e ai funzionari dell’area legale e dell’area business development e investimenti delle aziende del settore energetico\, nonché ai liberi professionisti operanti nell’ambito del diritto dell’energia. \nObiettivi dell’evento \nObiettivo dell’incontro è fornire ai partecipanti un quadro quanto più possibile completo\, aggiornato ed esauriente della cornice normativa e delle dinamiche concrete di sviluppo del settore delle energie rinnovabili\, alla luce delle prospettive aperte dalle recenti novità già approvate e da quelle di prossima introduzione. \n\n\n		\n	\nProgramma\n	\n		\n			Martedì 28 marzo 2023 \nGli iter autorizzativi per la produzione di energia da fonti rinnovabili\nLe semplificazioni autorizzative previste dalle normative introdotte nell’ultimo anno e\, da ultimo\, dal D.L. “PNRR 3”\nAttività edilizia libera\nDichiarazione di inizio lavori asseverata\nComunicazione al Comune\nProcedura abilitativa semplificata\nAutorizzazione unica\nVIA\, Screening e Valutazione di incidenza\nAvv. Germana Cassar\nDLA Piper Studio Legale Tributario \nLe misure di incentivazione della produzione di energie rinnovabili\nLe misure operative\nCondizioni di accesso e priorità di accesso agli incentivi\nI poteri del GSE\nLa decadenza dagli incentivi e la giurisprudenza amministrativa in materia\nAvv. Simona Viola\nGiusPubblicisti Associati – GPA \nLo sviluppo di impianti anche in assenza di incentivazione statale: i contratti di PPA e di VPPA\nAvv. Roberto Pera\nRödl & Partner\nAvv. Gennaro Sposato\nRödl & Partner \nIl ruolo del PPP nella realizzazione di impianti a fonti rinnovabili e in materia di riconversione energetica\nIl PPP: tipologie\nLa finanza di progetto su iniziativa del soggetto promotore di cui all’art. 183 comma 15 del D. Lgs. n. 50/2016 e le novità del nuovo Codice dei contratti pubblici\nIl PPP per sviluppare le CER: applicazioni pratiche\nLe previsioni del PNRR\nIl possibile utilizzo di strumenti di partenariato pubblico-privato per gli interventi in materia di riconversione energetica finanziati con risorse PNRR-PNC\nCasi di successo\nAvv. Enrico M. Curti\nDWF LLP \nL’agrivoltaico\nIl quadro normativo di riferimento\nLe semplificazioni introdotte rispetto al fotovoltaico tradizionale\nGli incentivi economici\nLe “Linee Guida in materia di Impianti Agrivoltaici” del MITE\nI requisiti oggettivi e i requisiti soggettivi per accedere agli incentivi\nAvv. Mileto M. Giuliani\nDentons \nLe Comunità Energetiche\nPrevisioni normative\nCome realizzare una Comunità Energetica\nCasi di successo\nAvv. Valeria Viti\nLegance Avvocati Associati \n\n\n		\n	\nDocenti\n	\n		\n			Avv. Germana Cassar\nPartner\nDLA Piper Studio Legale Tributario \nAvv. Enrico M. Curti\nCounsel\nDWF LLP \nAvv. Mileto M. Giuliani\nManaging Counsel\nDentons \nAvv. Roberto Pera\nManaging Partner\nRödl & Partner \nAvv. Gennaro Sposato\nPartner\nRödl & Partner \nAvv. Simona Viola\nPartner\nGiusPubblicisti Associati – GPA \nAvv. Valeria Viti\nSenior Counsel\nLegance Avvocati Associati \n\n\n		\n	\nBrochure\n	\n		\n			 Scarica la brochure\n\n		\n	\nIscrizioni e Condizioni\n	\n		\n			Quota di partecipazione \nLa quota di partecipazione in aula virtuale (diretta streaming) include l’invio del materiale didattico in formato elettronico e la possibilità di sottoporre ai relatori quesiti di specifico interesse a mezzo chat. È altresì possibile anticipare domande e richieste di approfondimento inviando una e-mail a info@paradigma.it entro il giorno antecedente l’evento. \nIn caso di videoconferenza con accessi multipli è necessario contattare la Segreteria organizzativa per un preventivo personalizzato. \nModalità di funzionamento della videoconferenza \nE’ possibile accedere all’aula virtuale da qualsiasi luogo\, utilizzando il proprio PC o tablet con una semplice connessione a Internet. La piattaforma informatica utilizzata da Paradigma (Adobe Connect) non necessita di requisiti tecnici particolari. \nNei giorni antecedenti l’evento il partecipante riceverà per posta elettronica le credenziali e le istruzioni di accesso. Il giorno dell’evento sarà sufficiente selezionare il link che troverà nella mail e inserire le credenziali per accedere all’aula virtuale. \nDurante gli interventi\, oltre a vedere e sentire i docenti\, è possibile consultare simultaneamente la documentazione predisposta dal relatore. Ogni utente collegato potrà porre domande sulle tematiche affrontate a mezzo chat\, alle quali il docente risponderà nel corso dell’intervento. \nModalità di iscrizione \nL’iscrizione si perfeziona al momento del ricevimento del modulo di registrazione\, da inviare via e-mail all’indirizzo info@paradigma.it\, integralmente compilato. Il numero dei collegamenti disponibili è limitato e la priorità d’iscrizione è determinata dalla data di ricezione del modulo di registrazione. Si consiglia pertanto di effettuare una preiscrizione telefonica. \nModalità di pagamento \nLa quota di partecipazione deve essere versata all’atto della presentazione della richiesta di iscrizione e\, in ogni caso\, prima dell’effettuazione dell’evento formativo\, tramite bonifico bancario intestato a: \nParadigma Srl – Corso Vittorio Emanuele II\, 68 – 10121 Torino\nc/o Banco BPM Spa\nIBAN IT 14 V 05034 01017 000000002530 \nFormazione finanziata \nLa quota di partecipazione può essere completamente rimborsata tramite voucher promossi dai Fondi Paritetici Interprofessionali. Paradigma offre la completa e gratuita gestione delle spese di progettazione\, monitoraggio e rendicontazione. La possibilità di accedere alla formazione finanziata con partecipazione mediante videoconferenza può variare a seconda dell’Ente erogante. \nAttestato di frequenza \nL’attestato di partecipazione nominativo sarà inviato al termine dell’evento formativo ai partecipanti che si sono regolarmente collegati all’aula virtuale. \nDiritto di recesso e modalità di disdetta \nÈ attribuita ai partecipanti la facoltà di recedere ai sensi dell’art. 1373 c.c. Il recesso dovrà essere comunicato in forma scritta almeno sette giorni prima della data di inizio dell’evento formativo (escluso il sabato e la domenica). Qualora la disdetta pervenga oltre tale termine o si verifichi di fatto con il mancato collegamento alla videoconferenza\, la quota di partecipazione sarà addebitata per intero e sarà inviato al partecipante il materiale didattico. In qualunque momento l’azienda o lo studio potranno comunque sostituire il partecipante\, comunicando il nuovo nominativo alla nostra Segreteria organizzativa. \nVariazioni di programma \nParadigma\, per ragioni eccezionali e imprevedibili\, si riserva di annullare o modificare la data dell’evento formativo\, dandone comunicazione agli interessati entro tre giorni dalla data di inizio prevista. In tali casi le quote di partecipazione pervenute verranno rimborsate\, con esclusione di qualsivoglia onere o obbligo a carico di Paradigma. Paradigma si riserva inoltre\, per ragioni sopravvenute e per cause di forza maggiore\, di modificare l’articolazione del programma e di sostituire i docenti previsti con altri docenti di pari livello professionale. \nPer ulteriori informazioni è possibile contattare la Segreteria organizzativa al numero 011.538686 o all’indirizzo e-mail info@paradigma.it. \n\n\n		\n	\n\n\n	\n		\n			Quota di partecipazione\n	\n		\n			€ 1.100 + Iva\n\n		\n	\n\n	\n		\n			In caso di videoconferenza con accessi multipli è necessario contattare la Segreteria organizzativa per un preventivo personalizzato. \n\n		\n	\n\n\n		\n	\n\n	\n		\n			\n\n\n\n\n\n\n	\n		\n			Early booking -20% \nInviando il modulo di iscrizione entro il 7 marzo si avrà diritto a una riduzione del 20% sulla quota di partecipazione. \n\n		\n	\n\n\n\n		\n	\n\n	\n		\n			\n\n		\n	\n\n	\n		\n			\n\n		\n	\n\n	\n		\n			\n\n\n\n\n\n\n	\n		\n			Progetto Giovani Eccellenze -50%\nL’adesione all’evento formativo permette di iscrivere una seconda risorsa\, che non abbia compiuto il 30° anno di età e proveniente dalla stessa organizzazione\, con una riduzione del 50% sulla seconda quota di partecipazione. L’agevolazione è calcolata sulla quota ordinaria. \n\n		\n	\n\n\n\n		\n	\n\n	\n		\n			\n\n\n\n\n\n\n	\n		\n			Formazione finanziata\nLa quota di partecipazione all’iniziativa può essere completamente rimborsata tramite voucher promossi dai Fondi Paritetici Interprofessionali. Paradigma offre la completa e gratuita gestione delle spese di progettazione\, monitoraggio e rendiconto. \n\n		\n	\n\n\n\n		\n	\n\n	\n		\n			\n\n\n\n\n\n\n	\n		\n			Mercati elettronici della PA\nParadigma opera sul MePA e sui principali mercati elettronici di soggetti aggregatori e centrali di committenza. \n\n		\n	\n\n\n\n		\n	\n\n	\n		\n			\n	\n\n\n	I campi con (*) sono obbligatori\n	\n		\n		Dati relativi all'evento\n		\n		\n			Partecipazione in aula\n			Partecipazione in videoconferenza\n		\n		\n\n		Dati relativi al richiedente\n		\n		\n		\n		\n		\n		\n		\n		\n\n	\n\n	\n\n		Dati per eventuale partecipante under 30\n		\n		\n		\n\n	\n\n	\n\n		Dati per la fatturazione elettronica\n		\n		\n		\n		\n		\n		\n				\n		\n		\n		  Split Payment:\n          \n            \n              \n              Si \n            No\n          \n        \n		\n		\n		\n		\n	\n\n	\n\n		Per informazioni contattare\n		\n		\n		\n		\n		\n	\n	L'iscrizione all'evento formativo si intende perfezionata al momento del ricevimento\, da parte di Paradigma Srl\, del presente modulo di registrazione compilato in ogni sua parte\, stampato\, firmato e inviato via e-mail all'indirizzo info@paradigma.it. Riceverete via email conferma dell'avvenuta iscrizione. \n\n\n		\n	     Acconsento all'invio di comunicazioni sui servizi Paradigma Srl - Consenso finalizzato\, anche con modalità automatizzate\, all'invio di comunicazioni relative a prodotti e servizi di Paradigma Srl e al fine di ricevere materiale informativo o promozionale.\n	\n	     Acconsento alla personalizzazione delle offerte - Consenso finalizzato\, mediante modalità automatizzate\, a personalizzare i servizi forniti e meglio indirizzare le proposte promozionali grazie ad attività di profilazione.\n	\n	Inviando i dati autorizzi Paradigma Srl a utilizzare i tuoi dati personali per evadere la richiesta di partecipazione all’evento formativo e svolgere le attività a ciò connesse. I dati potranno essere trattati\, per conto di Paradigma Srl\, da dipendenti e collaboratori incaricati di svolgere specifici servizi necessari all’esecuzione delle tue richieste. Il conferimento dei tuoi dati\, pur essendo facoltativo\, si rende necessario per l’esecuzione del servizio richiesto.	\n\n\n\n\n		\n\n\n\n\n\n		\n	\n[/vc_column][/vc_row]
URL:https://paradigma.it/iniziativa/la-produzione-di-energia-da-fonti-rinnovabili-3/
CATEGORIES:Ambiente, Sicurezza ed Energia
ORGANIZER;CN="Angela%20Siniscalchi":MAILTO:asiniscalchi@paradigma.it
END:VEVENT
END:VCALENDAR