BEGIN:VCALENDAR
VERSION:2.0
PRODID:-//Paradigma srl - ECPv5.2.1//NONSGML v1.0//EN
CALSCALE:GREGORIAN
METHOD:PUBLISH
X-WR-CALNAME:Paradigma srl
X-ORIGINAL-URL:https://paradigma.it
X-WR-CALDESC:Eventi per Paradigma srl
BEGIN:VTIMEZONE
TZID:Europe/Rome
BEGIN:DAYLIGHT
TZOFFSETFROM:+0100
TZOFFSETTO:+0200
TZNAME:CEST
DTSTART:20220327T010000
END:DAYLIGHT
BEGIN:STANDARD
TZOFFSETFROM:+0200
TZOFFSETTO:+0100
TZNAME:CET
DTSTART:20221030T010000
END:STANDARD
END:VTIMEZONE
BEGIN:VEVENT
DTSTART;TZID=Europe/Rome:20221027T093000
DTEND;TZID=Europe/Rome:20221027T173000
DTSTAMP:20260421T151629
CREATED:20220928T130840Z
LAST-MODIFIED:20221025T094239Z
UID:16198-1666863000-1666891800@paradigma.it
SUMMARY:La produzione di energia da fonti rinnovabili
DESCRIPTION:[vc_row][vc_column]\n	\n		\n			\n		\n	\n\n	\n		\n			\nRegimi di incentivazione\nSemplificazioni nei procedimenti autorizzatori\nTassazione degli “extra profitti”\nUlteriori novità\n\nI docenti\, nel corso dell’evento formativo\, risponderanno alle domande e alle richieste di chiarimenti formulate dai partecipanti. Eventuali quesiti potranno essere anticipati inviando una email all’indirizzo info@paradigma.it \n \n\n		\n	\n\n	\n		\n			Evento in videoconferenza \n\n		\n	\n\n	\n		\n			27 ottobre 2022 \n\n		\n	\n\n	\n		\n			 \n\n		\n	\n\n	\n		\n			\n\n		\n	\nPresentazioneProgrammaDocentiBrochureIscrizioni e CondizioniPresentazione\n	\n		\n			Contenuti dell’evento \nL’ultimo anno ha visto il susseguirsi di significativi interventi del legislatore nell’ambito della produzione di energia da fonti rinnovabili\, in parte in attuazione di norme UE\, in parte sotto la spinta della crisi ucraina e della necessità di imprimere un deciso impulso all’incremento di energia generata da fonti non fossili. \nAl recepimento\, con D. Lgs. 8 novembre 2021\, n. 199\, della Direttiva (UE) 2018/2001 (c.d. “RED II”)\, che ha visto l’introduzione di una nuova disciplina dei regimi di sostegno e degli strumenti di promozione delle energie ottenibili da fonti “pulite”\, hanno fatto seguito altri rilevanti testi normativi\, quali il Decreto “Energia” della primavera scorsa (D.L. n. 17/2022\, convertito in L. n. 51/2022)\, recante importanti semplificazioni autorizzative per gli impianti da fonte rinnovabile\, e il Decreto “Aiuti” del maggio scorso (D.L. n. 50/2022\, convertito in L. n. 164/2022)\, che incide ulteriormente sulla materia\, prevedendo anche la possibilità di utilizzo del potere sostitutivo statale in caso di inerzia delle Regioni rispetto all’obbligo di individuazione delle aree idonee entro i termini di legge\, oltre a intervenire sulle stesse definizioni di aree idonee e a ulteriormente semplificare gli iter autorizzativi per gli impianti. \nIl mix di nuovi incentivi e semplificazioni amministrative oggi disponibile dovrebbe\, auspicabilmente\, riuscire a mobilitare nuovi investimenti nel settore\, rendendo lo sviluppo della produzione da fonti energetiche rinnovabili in Italina un business appetibile. \nL’evento mira ad approfondire il tema delle energie rinnovabili\, nella sua cornice regolatoria e nelle sue implicazioni operative\, alla luce dei più recenti sviluppi normativi. \nDestinatari dell’evento \nL´evento formativo è prioritariamente rivolto ai responsabili e ai funzionari dell’area legale e dell’area business development e investimenti delle aziende del settore energetico\, nonché ai liberi professionisti operanti nell’ambito del diritto dell’energia. \nObiettivi dell’evento \nObiettivo dell’incontro è fornire ai partecipanti un quadro quanto più possibile completo\, aggiornato ed esauriente della cornice normativa e delle dinamiche concrete di sviluppo del settore delle energie rinnovabili\, alla luce delle prospettive aperte dalle recenti novità. \n\n\n		\n	\nProgramma\n	\n		\n			Giovedì 27 ottobre 2022 \nGli iter autorizzativi per la produzione di energia da fonti rinnovabili\nAttività edilizia libera\nDichiarazione di inizio lavori asseverata\nComunicazione al Comune\nProcedura abilitativa semplificata\nAutorizzazione unica\nVIA\, Screening e Valutazione di incidenza\nLe semplificazioni autorizzative di cui al D.L. “Energia” (D.L. n. 17/2022) e relativa legge di conversione (L. n. 34/2022)\nLe ulteriori semplificazioni di cui al D.L. “Aiuti” (D.L. n. 50/2022) e relativa legge di conversione\nAvv. Germana Cassar\nDLA Piper Studio Legale Tributario \nL’imposizione sugli “extra profitti”\nLe scelte effettuate del legislatore interno\nIl Provvedimento del 17 giugno 2022 dell’Agenzia delle Entrate\nLe prospettive allo studio della Commissione UE\nProf. Avv. Guglielmo Maisto\nUniversità Cattolica del Sacro Cuore di Piacenza \nLe misure di incentivazione della produzione di energie rinnovabili\nLe misure già operative\nLe novità in materia di condizioni di accesso e priorità di accesso agli incentivi contenute nel D.L. “Energia”\nGli sviluppi prospettabili alla luce del PNRR (e del recente atto delegato della Commissione UE relativo agli aspetti climatici della tassonomia dell’UE)\nProf. Avv. Francesco Vetrò\nUniversità di Parma \nI PPP nella realizzazione di impianti a fonti rinnovabili\nUtilizzo dei PPP per nuovi impianti di produzione di energie rinnovabili\nPossibilità di ricorso alla finanza di progetto su iniziativa del soggetto promotore di cui all’art. 183\, c. 15 del Codice dei contratti pubblici\nLe previsioni del PNRR\nCasi di successo\nAvv. Stefano Cunico\nGianni & Origoni\nAvv. Guido Reggiani\nGianni & Origoni\nAvv. Giacomo Zennaro\nGianni & Origoni \nL’agrivoltaico\nIl quadro normativo di riferimento\nLe semplificazioni introdotte rispetto al fotovoltaico tradizionale\nGli incentivi economici\nLe “Linee Guida in materia di Impianti Agrivoltaici” del MITE\nI requisiti oggettivi e i requisiti soggettivi per accedere agli incentivi\nAvv. Enrico M. Curti\nDWF LLP \nLe Comunità Energetiche\nPrevisioni normative – come realizzare una Comunità Energetica\nCasi di successo\nAvv. Valeria Viti\nLegance Avvocati Associati \nll punto sulla giurisprudenza\nLe pronunce più rilevanti in materia di energie rinnovabili nel periodo 2020-2022\nAvv. Lorenzo Tringali\nBonelliErede \n\n\n		\n	\nDocenti\n	\n		\n			Avv. Germana Cassar\nPartner\nDLA Piper Studio Legale Tributario \nAvv. Stefano Cunico\nPartner\nGianni & Origoni \nAvv. Enrico M. Curti\nCounsel\nDWF LLP \nProf. Avv. Guglielmo Maisto\nGià Associato di Diritto Tributario Internazionale Comparato\nUniversità Cattolica del Sacro Cuore di Piacenza\nFounding Partner\nMaisto e Associati \nAvv. Guido Reggiani\nPartner\nGianni & Origoni \nAvv. Lorenzo Tringali\nAssociate\nBonelliErede \nProf. Avv. Francesco Vetrò\nOrdinario di Diritto Amministrativo\nUniversità di Parma \nAvv. Valeria Viti\nSenior Counsel\nLegance Avvocati Associati \nAvv. Giacomo Zennaro\nCounsel\nGianni & Origoni \n\n\n		\n	\nBrochure\n	\n		\n			 Scarica la brochure\n\n		\n	\nIscrizioni e Condizioni\n	\n		\n			Quota di partecipazione \nLa quota di partecipazione in aula virtuale (diretta streaming) include l’invio del materiale didattico in formato elettronico e la possibilità di sottoporre ai relatori quesiti di specifico interesse a mezzo chat. È altresì possibile anticipare domande e richieste di approfondimento inviando una e-mail a info@paradigma.it entro il giorno antecedente l’evento. \nIn caso di videoconferenza con accessi multipli è necessario contattare la Segreteria organizzativa per un preventivo personalizzato. \nModalità di funzionamento della videoconferenza \nE’ possibile accedere all’aula virtuale da qualsiasi luogo\, utilizzando il proprio PC o tablet con una semplice connessione a Internet. La piattaforma informatica utilizzata da Paradigma (Adobe Connect) non necessita di requisiti tecnici particolari. \nNei giorni antecedenti l’evento il partecipante riceverà per posta elettronica le credenziali e le istruzioni di accesso. Il giorno dell’evento sarà sufficiente selezionare il link che troverà nella mail e inserire le credenziali per accedere all’aula virtuale. \nDurante gli interventi\, oltre a vedere e sentire i docenti\, è possibile consultare simultaneamente la documentazione predisposta dal relatore. Ogni utente collegato potrà porre domande sulle tematiche affrontate a mezzo chat\, alle quali il docente risponderà nel corso dell’intervento. \nModalità di iscrizione \nL’iscrizione si perfeziona al momento del ricevimento del modulo di registrazione\, da inviare via e-mail all’indirizzo info@paradigma.it\, integralmente compilato. Il numero dei collegamenti disponibili è limitato e la priorità d’iscrizione è determinata dalla data di ricezione del modulo di registrazione. Si consiglia pertanto di effettuare una preiscrizione telefonica. \nModalità di pagamento \nLa quota di partecipazione deve essere versata all’atto della presentazione della richiesta di iscrizione e\, in ogni caso\, prima dell’effettuazione dell’intervento formativo\, tramite bonifico bancario intestato a: \nParadigma Srl – Corso Vittorio Emanuele II\, 68 – 10121 Torino\nc/o Banco BPM Spa\nIBAN IT 14 V 05034 01017 000000002530 \nFormazione finanziata \nLa quota di partecipazione può essere completamente rimborsata tramite voucher promossi dai Fondi Paritetici Interprofessionali. Paradigma offre la completa e gratuita gestione delle spese di progettazione\, monitoraggio e rendicontazione. La possibilità di accedere alla formazione finanziata con partecipazione mediante videoconferenza può variare a seconda dell’Ente erogante. \nAttestato di frequenza \nL’attestato di partecipazione nominativo sarà inviato al termine dell’intervento formativo ai partecipanti che si sono regolarmente collegati all’aula virtuale. \nDiritto di recesso e modalità di disdetta \nÈ attribuita ai partecipanti la facoltà di recedere ai sensi dell’art. 1373 c.c. Il recesso dovrà essere comunicato in forma scritta almeno sette giorni prima della data di inizio dell’evento formativo (escluso il sabato e la domenica). Qualora la disdetta pervenga oltre tale termine o si verifichi di fatto con il mancato collegamento alla videoconferenza\, la quota di partecipazione sarà addebitata per intero e sarà inviato al partecipante il materiale didattico. In qualunque momento l’azienda o lo studio potranno comunque sostituire il partecipante\, comunicando il nuovo nominativo alla nostra Segreteria organizzativa. \nVariazioni di programma \nParadigma\, per ragioni eccezionali e imprevedibili\, si riserva di annullare o modificare la data dell’evento formativo\, dandone comunicazione agli interessati entro tre giorni dalla data di inizio prevista. In tali casi le quote di partecipazione pervenute verranno rimborsate\, con esclusione di qualsivoglia onere o obbligo a carico di Paradigma. Paradigma si riserva inoltre\, per ragioni sopravvenute e per cause di forza maggiore\, di modificare l’articolazione del programma e di sostituire i docenti previsti con altri docenti di pari livello professionale. \nPer ulteriori informazioni è possibile contattare la Segreteria organizzativa al numero 011.538686 o all’indirizzo e-mail info@paradigma.it. \n\n\n		\n	\n\n\n	\n		\n			Quota di partecipazione\n	\n		\n			€ 1.100 + Iva\n\n		\n	\n\n	\n		\n			In caso di videoconferenza con accessi multipli è necessario contattare la Segreteria organizzativa per un preventivo personalizzato. \n\n		\n	\n\n\n		\n	\n\n	\n		\n			\n\n\n\n\n\n\n	\n		\n			Early booking -20% \nInviando il modulo di iscrizione entro il 6 ottobre si avrà diritto a una riduzione del 20% sulla quota di partecipazione.\n \n\n		\n	\n\n\n\n		\n	\n\n	\n		\n			\n\n		\n	\n\n	\n		\n			\n\n		\n	\n\n	\n		\n			\n\n\n\n\n\n\n	\n		\n			Progetto Giovani Eccellenze -50%\nL’adesione all’evento formativo permette di iscrivere una seconda risorsa\, che non abbia compiuto il 30° anno di età e proveniente dalla stessa organizzazione\, con una riduzione del 50% sulla seconda quota di partecipazione. L’agevolazione è calcolata sulla quota ordinaria. \n\n		\n	\n\n\n\n		\n	\n\n	\n		\n			\n\n\n\n\n\n\n	\n		\n			Formazione finanziata\nLa quota di partecipazione all’iniziativa può essere completamente rimborsata tramite voucher promossi dai Fondi Paritetici Interprofessionali. Paradigma offre la completa e gratuita gestione delle spese di progettazione\, monitoraggio e rendiconto. \n\n		\n	\n\n\n\n		\n	\n\n	\n		\n			\n\n\n\n\n\n\n	\n		\n			Mercati elettronici della PA\nParadigma opera sul MePA e sui principali mercati elettronici di soggetti aggregatori e centrali di committenza. \n\n		\n	\n\n\n\n		\n	\n\n	\n		\n			\n	\n\n\n	I campi con (*) sono obbligatori\n	\n		\n		Dati relativi all'evento\n		\n		\n			Partecipazione in aula\n			Partecipazione in videoconferenza\n		\n		\n\n		Dati relativi al richiedente\n		\n		\n		\n		\n		\n		\n		\n		\n\n	\n\n	\n\n		Dati per eventuale partecipante under 30\n		\n		\n		\n\n	\n\n	\n\n		Dati per la fatturazione elettronica\n		\n		\n		\n		\n		\n		\n				\n		\n		\n		  Split Payment:\n          \n            \n              \n              Si \n            No\n          \n        \n		\n		\n		\n		\n	\n\n	\n\n		Per informazioni contattare\n		\n		\n		\n		\n		\n	\n	L'iscrizione all'evento formativo si intende perfezionata al momento del ricevimento\, da parte di Paradigma Srl\, del presente modulo di registrazione compilato in ogni sua parte\, stampato\, firmato e inviato via e-mail all'indirizzo info@paradigma.it. Riceverete via email conferma dell'avvenuta iscrizione. \n\n\n		\n	     Acconsento all'invio di comunicazioni sui servizi Paradigma Srl - Consenso finalizzato\, anche con modalità automatizzate\, all'invio di comunicazioni relative a prodotti e servizi di Paradigma Srl e al fine di ricevere materiale informativo o promozionale.\n	\n	     Acconsento alla personalizzazione delle offerte - Consenso finalizzato\, mediante modalità automatizzate\, a personalizzare i servizi forniti e meglio indirizzare le proposte promozionali grazie ad attività di profilazione.\n	\n	Inviando i dati autorizzi Paradigma Srl a utilizzare i tuoi dati personali per evadere la richiesta di partecipazione all’evento formativo e svolgere le attività a ciò connesse. I dati potranno essere trattati\, per conto di Paradigma Srl\, da dipendenti e collaboratori incaricati di svolgere specifici servizi necessari all’esecuzione delle tue richieste. Il conferimento dei tuoi dati\, pur essendo facoltativo\, si rende necessario per l’esecuzione del servizio richiesto.	\n\n\n\n\n		\n\n\n\n\n\n		\n	\n[/vc_column][/vc_row]
URL:https://paradigma.it/iniziativa/la-produzione-di-energia-da-fonti-rinnovabili-2/
CATEGORIES:Ambiente, Sicurezza ed Energia
ORGANIZER;CN="Veronica%20Spiez":MAILTO:vspiez@paradigma.it
END:VEVENT
END:VCALENDAR