BEGIN:VCALENDAR
VERSION:2.0
PRODID:-//Paradigma srl - ECPv5.2.1//NONSGML v1.0//EN
CALSCALE:GREGORIAN
METHOD:PUBLISH
X-WR-CALNAME:Paradigma srl
X-ORIGINAL-URL:https://paradigma.it
X-WR-CALDESC:Eventi per Paradigma srl
BEGIN:VTIMEZONE
TZID:Europe/Rome
BEGIN:DAYLIGHT
TZOFFSETFROM:+0100
TZOFFSETTO:+0200
TZNAME:CEST
DTSTART:20220327T010000
END:DAYLIGHT
BEGIN:STANDARD
TZOFFSETFROM:+0200
TZOFFSETTO:+0100
TZNAME:CET
DTSTART:20221030T010000
END:STANDARD
END:VTIMEZONE
BEGIN:VEVENT
DTSTART;TZID=Europe/Rome:20221012T093000
DTEND;TZID=Europe/Rome:20221012T173000
DTSTAMP:20260421T150703
CREATED:20220719T092129Z
LAST-MODIFIED:20221010T125321Z
UID:15842-1665567000-1665595800@paradigma.it
SUMMARY:La prevenzione  dei rischi corruttivi  nelle aziende private
DESCRIPTION:[vc_row][vc_column]\n	\n		\n			\n		\n	\n\n	\n		\n			\nISO 37001\, policy e modelli anticorruzione\nAree di rischio\, presidi e controlli\nAudit di natura ordinaria e ispettiva\nRuoli e responsabilità\n\nI docenti\, nel corso dell’evento formativo\, risponderanno alle domande e alle richieste di chiarimenti formulate dai partecipanti. Eventuali quesiti potranno essere anticipati inviando una email all’indirizzo info@paradigma.it \n  \n \n\n		\n	\n\n	\n		\n			Evento in videoconferenza \n\n		\n	\n\n	\n		\n			12 ottobre 2022 \n\n		\n	\n\n	\n		\n			 \n\n		\n	\n\n	\n		\n			\n\n		\n	\nPresentazioneProgrammaDocentiBrochureIscrizioni e CondizioniPresentazione\n	\n		\n			Contenuti dell’evento \nNel corso della giornata di studio sarà analizzato il percorso per l’implementazione di un sistema di controllo interno in relazione ai rischi corruttivi nelle aziende private\, muovendo dalla norma ISO 37001 sino alla integrazione dei Modelli 231. \nDestinatari dell’evento \nIl convegno è destinato ai Responsabili Anticorruzione\, Responsabili della Compliance\, ai Risk Manager e componenti degli organi di controllo e dell’Organismo di Vigilanza 231 di imprese private\, che abbiano già implementato ovvero abbiano intenzione di implementare un sistema di prevenzione dei rischi corruttivi. \nObiettivi dell´evento \nIl convegno intende essere un’occasione di confronto pratico e operativo con qualificati esperti provenienti dalla magistratura\, da esponenti aziendali nonché professionisti per approfondire soluzioni e prassi operative di implementazione di modelli e policy anticorruzione. \n\n\n		\n	\nProgramma\n	\n		\n			Mercoledì 12 ottobre 2022 \nI fenomeni corruttivi: profili definitori e caratteristiche\nLa corruzione e le sue conseguenze sanzionatorie sulla persona fisica e sulla persona giuridica\nLa corruzione “pubblica”: identificazione del pubblico ufficiale e dell’incaricato di pubblico servizio\nI rapporti con la concussione e l’indebita induzione a dare o promettere utilità\nI rapporti con il traffico di influenze illecite\nLa corruzione internazionale\nLa corruzione tra privati\nRecente evoluzione giorisprudenziale\nAvv. Maurizio Arena\nStudio Legale Arena \nLa prevenzione dei fenomeni corruttivi: identificazione delle aree di rischio\, presidi e controlli\nLa governance anticorruzione: i tre livelli di controllo\nLa mappatura delle aree di rischio e i presidi anticorruzione\nI controlli chiave e trasversali\nGli strumenti di prevenzione (protocolli/standard di comportamento\, KPI\, formazione e comunicazione)\nDott. Francesco Cipullo\nOmniapart \nLe funzioni\, il ruolo e le responsabilità del responsabile anticorruzione \nLe sinergie con gli altri attori del sistema di controllo interno e di gestione dei rischi\nIl ruolo del responsabile anticorruzione nella definizione e nell’aggiornamento del Modello e delle policy anticorruzione\nLa gestione dei processi formativi\nAvv. Flavio Corsinovi\nCorsinovi Mammana \nL’attività dei vertici aziendali in presenza di segnalazioni o di indici di sospetto e le interlocuzioni con l’Autorità giudiziaria\nCons. Ciro Santoriello\nProcura della Repubblica di Torino \nModello organizzativo 231 e modello anticorruzione: implementazione e best practices\nIl ruolo dell’Organismo di vigilanza\nIl risk assessment e il Modello 231\nLa procedura di whistleblowing e i flussi informativi: casi pratici\nL’aggiornamento della policy anticorruzione\nIl ruolo della certificazione ISO 37001 nell’implementazione del Modello organizzativo\nAvv. Iole Anna Savini\nStudio Legale Savini \nLa difesa dell’ente nel processo 231 per fatti di corruzione\nLa scelta della strategia processuale: l’autodenuncia preventiva?\nL’interlocuzione con l’ufficio di Procura: modifiche organizzative e restituzione del profitto\nIl risarcimento del danno\nLa scelta del rappresentante del processo e la sorte dei precedenti amministratori\nLa scelta dei riti\nAvv. Antonio Bana\nStudio Legale Bana \nGli audit di natura ordinaria e gli audit di natura ispettiva\nI processi da sottoporre a piano di audit (omaggistica\, ospitality\, spese di rappresentanza\, risoluzioni transattive\, scontistica\, assunzioni e consulenze)\nI punti di attenzione\, i rischi e le azioni di contenimento\nGli audit di natura ispettiva\nDalla segnalazione alla verifica: analisi di case study\nDott. Antonio Cavallaro\nMerck Serono\n \n\n\n		\n	\nDocenti\n	\n		\n			Avv. Maurizio Arena\nStudio Legale Arena\nCommissione Antiriciclaggio e Privacy Consiglio Nazionale Forense \nAvv. Antonio Bana\nPartner\nStudio Legale Bana \nDott. Antonio Cavallaro\nCompliance Manager\nMerck Serono \nDott. Francesco Cipullo\nFounder & CEO\nOmniapart \nAvv. Flavio Corsinovi\nAuditor ISO 37001\nResponsabile della Funzione di Conformità\nper la Prevenzione della Corruzione\nConsulente di Sistemi di Gestione ISO 37001\nCorsinovi Mammana \nCons. Ciro Santoriello\nSostituto Procuratore\nProcura della Repubblica di Torino \nAvv. Iole Anna Savini\nPresidente Transparency International Italia\nStudio Legale Savini \n\n\n		\n	\nBrochure\n	\n		\n			 Scarica la brochure\n\n		\n	\nIscrizioni e Condizioni\n	\n		\n			Quota di partecipazione \nLa quota di partecipazione in aula virtuale (diretta streaming) include l’invio del materiale didattico in formato elettronico e la possibilità di sottoporre ai relatori quesiti di specifico interesse a mezzo chat. E’ altresì possibile anticipare domande e richieste di approfondimento inviando una email a info@paradigma.it entro il giorno antecedente l’evento. \nIn caso di videoconferenza con accessi multipli è necessario contattare la Segreteria organizzativa per un preventivo personalizzato. \nModalità di funzionamento della videoconferenza \nE’ possibile accedere all’aula virtuale da qualsiasi luogo\, utilizzando il proprio PC o tablet con una semplice connessione a Internet. La piattaforma informatica utilizzata da Paradigma (Adobe Connect) non necessita di requisiti tecnici particolari. \nNei giorni antecedenti l’evento il partecipante riceverà per posta elettronica le credenziali e le istruzioni di accesso. Il giorno dell’evento sarà sufficiente selezionare il link che troverà nella mail e inserire le credenziali per accedere all’aula virtuale. \nDurante gli interventi\, oltre a vedere e sentire i docenti\, è possibile consultare simultaneamente la documentazione predisposta dal relatore. Ogni utente collegato potrà porre domande sulle tematiche affrontate a mezzo chat\, alle quali il docente risponderà nel corso dell’intervento. \nModalità di iscrizione \nL’iscrizione si perfeziona al momento del ricevimento del modulo di registrazione\, da inviare via email all’indirizzo info@paradigma.it\, integralmente compilato. Il numero dei collegamenti disponibili è limitato e la priorità d’iscrizione è determinata dalla data di ricezione del modulo di registrazione. Si consiglia pertanto di effettuare una preiscrizione telefonica. \nModalità di pagamento \nLa quota di partecipazione deve essere versata all’atto della presentazione della richiesta di iscrizione e\, in ogni caso\, prima dell’effettuazione dell’intervento formativo\, tramite bonifico bancario intestato a: \nParadigma Srl – Corso Vittorio Emanuele II\, 68 – 10121 Torino\nc/o Banco BPM Spa\nIBAN IT 14 V 05034 01017 000000002530 \nFormazione finanziata \nLa quota di partecipazione può essere completamente rimborsata tramite voucher promossi dai Fondi Paritetici Interprofessionali. Paradigma offre la completa e gratuita gestione delle spese di progettazione\, monitoraggio e rendicontazione. La possibilità di accedere alla formazione finanziata con partecipazione mediante videoconferenza può variare a seconda dell’Ente erogante. \nAttestato di frequenza \nL’attestato di partecipazione nominativo sarà inviato al termine dell’intervento formativo ai partecipanti che si sono regolarmente collegati all’aula virtuale. \nDiritto di recesso e modalità di disdetta \nE´ attribuita ai partecipanti la facoltà di recedere ai sensi dell’art. 1373 c.c. Il recesso dovrà essere comunicato in forma scritta almeno sette giorni prima della data di inizio dell’evento formativo (escluso il sabato e la domenica). Qualora la disdetta pervenga oltre tale termine o si verifichi di fatto con il mancato collegamento alla videoconferenza\, la quota di partecipazione sarà addebitata per intero e sarà inviato al partecipante il materiale didattico. In qualunque momento l’azienda o lo studio potranno comunque sostituire il partecipante\, comunicando il nuovo nominativo alla nostra Segreteria organizzativa. \nVariazioni di programma \nParadigma\, per ragioni eccezionali e imprevedibili\, si riserva di annullare o modificare la data dell’evento formativo\, dandone comunicazione agli interessati entro tre giorni dalla data di inizio prevista. In tali casi le quote di partecipazione pervenute verranno rimborsate\, con esclusione di qualsivoglia onere o obbligo a carico di Paradigma. Paradigma si riserva inoltre\, per ragioni sopravvenute e per cause di forza maggiore\, di modificare l’articolazione del programma e di sostituire i docenti previsti con altri docenti di pari livello professionale. \nPer ulteriori informazioni è possibile contattare la Segreteria organizzativa al numero 011.538686 o all’indirizzo email info@paradigma.it. \n\n\n		\n	\n\n\n	\n		\n			Quota di partecipazione\n	\n		\n			€ 1.100 + Iva\n\n		\n	\n\n	\n		\n			In caso di videoconferenza con accessi multipli è necessario contattare la Segreteria organizzativa per un preventivo personalizzato. \n\n		\n	\n\n\n		\n	\n\n	\n		\n			\n\n\n\n\n\n\n	\n		\n			Early booking -20%\nInviando il modulo di iscrizione entro il 21 settembre si avrà diritto a una riduzione del 20% sulla quota di partecipazione.\n \n\n		\n	\n\n\n\n		\n	\n\n	\n		\n			\n\n		\n	\n\n	\n		\n			\n\n		\n	\n\n	\n		\n			\n\n\n\n\n\n\n	\n		\n			Progetto Giovani Eccellenze -50%\nL’adesione all’evento formativo permette di iscrivere una seconda risorsa\, che non abbia compiuto il 30° anno di età e proveniente dalla stessa organizzazione\, con una riduzione del 50% sulla seconda quota di partecipazione. L’agevolazione è calcolata sulla quota ordinaria. \n\n		\n	\n\n\n\n		\n	\n\n	\n		\n			\n\n\n\n\n\n\n	\n		\n			Formazione finanziata\nLa quota di partecipazione all’iniziativa può essere completamente rimborsata tramite voucher promossi dai Fondi Paritetici Interprofessionali. Paradigma offre la completa e gratuita gestione delle spese di progettazione\, monitoraggio e rendiconto. \n\n		\n	\n\n\n\n		\n	\n\n	\n		\n			\n\n\n\n\n\n\n	\n		\n			Mercati elettronici della PA\nParadigma opera sul MePA e sui principali mercati elettronici di soggetti aggregatori e centrali di committenza. \n\n		\n	\n\n\n\n		\n	\n\n	\n		\n			\n	\n\n\n	I campi con (*) sono obbligatori\n	\n		\n		Dati relativi all'evento\n		\n		\n			Partecipazione in aula\n			Partecipazione in videoconferenza\n		\n		\n\n		Dati relativi al richiedente\n		\n		\n		\n		\n		\n		\n		\n		\n\n	\n\n	\n\n		Dati per eventuale partecipante under 30\n		\n		\n		\n\n	\n\n	\n\n		Dati per la fatturazione elettronica\n		\n		\n		\n		\n		\n		\n				\n		\n		\n		  Split Payment:\n          \n            \n              \n              Si \n            No\n          \n        \n		\n		\n		\n		\n	\n\n	\n\n		Per informazioni contattare\n		\n		\n		\n		\n		\n	\n	L'iscrizione all'evento formativo si intende perfezionata al momento del ricevimento\, da parte di Paradigma Srl\, del presente modulo di registrazione compilato in ogni sua parte\, stampato\, firmato e inviato via e-mail all'indirizzo info@paradigma.it. Riceverete via email conferma dell'avvenuta iscrizione. \n\n\n		\n	     Acconsento all'invio di comunicazioni sui servizi Paradigma Srl - Consenso finalizzato\, anche con modalità automatizzate\, all'invio di comunicazioni relative a prodotti e servizi di Paradigma Srl e al fine di ricevere materiale informativo o promozionale.\n	\n	     Acconsento alla personalizzazione delle offerte - Consenso finalizzato\, mediante modalità automatizzate\, a personalizzare i servizi forniti e meglio indirizzare le proposte promozionali grazie ad attività di profilazione.\n	\n	Inviando i dati autorizzi Paradigma Srl a utilizzare i tuoi dati personali per evadere la richiesta di partecipazione all’evento formativo e svolgere le attività a ciò connesse. I dati potranno essere trattati\, per conto di Paradigma Srl\, da dipendenti e collaboratori incaricati di svolgere specifici servizi necessari all’esecuzione delle tue richieste. Il conferimento dei tuoi dati\, pur essendo facoltativo\, si rende necessario per l’esecuzione del servizio richiesto.	\n\n\n\n\n		\n\n\n\n\n\n		\n	\n[/vc_column][/vc_row]
URL:https://paradigma.it/iniziativa/la-prevenzione-dei-rischi-corruttivi-nelle-aziende-private-4/
CATEGORIES:Compliance, controlli e internal audit
ORGANIZER;CN="Veronica%20Spiez":MAILTO:vspiez@paradigma.it
END:VEVENT
END:VCALENDAR