BEGIN:VCALENDAR
VERSION:2.0
PRODID:-//Paradigma srl - ECPv5.2.1//NONSGML v1.0//EN
CALSCALE:GREGORIAN
METHOD:PUBLISH
X-WR-CALNAME:Paradigma srl
X-ORIGINAL-URL:https://paradigma.it
X-WR-CALDESC:Eventi per Paradigma srl
BEGIN:VTIMEZONE
TZID:Europe/Rome
BEGIN:DAYLIGHT
TZOFFSETFROM:+0100
TZOFFSETTO:+0200
TZNAME:CEST
DTSTART:20250330T010000
END:DAYLIGHT
BEGIN:STANDARD
TZOFFSETFROM:+0200
TZOFFSETTO:+0100
TZNAME:CET
DTSTART:20251026T010000
END:STANDARD
END:VTIMEZONE
BEGIN:VEVENT
DTSTART;TZID=Europe/Rome:20251121T093000
DTEND;TZID=Europe/Rome:20251121T173000
DTSTAMP:20260421T170218
CREATED:20251020T075737Z
LAST-MODIFIED:20251120T164851Z
UID:25389-1763717400-1763746200@paradigma.it
SUMMARY:La nuova governance societaria nella riforma del TUF
DESCRIPTION:[vc_row][vc_column]\n	\n		\n			\n		\n	\n\n	\n		\n			I modelli di amministrazione\nIl sistema dei controlli\nIl procedimento assembleare\nLa disciplina delle OPC\nIl regime per le società di nuova quotazione\nLe offerte pubbliche di acquisto \n \n\n		\n	\n\n	\n		\n			09.30 - 13.30  14.30 - 17.30 \n\n		\n	\n\n	\n		\n			Evento in diretta streaming \n\n		\n	\n\n	\n		\n			 \n\n		\n	\n\n	\n		\n			\n\n		\n	\nPresentazioneProgrammaDocentiBrochureIscrizioni e CondizioniPresentazione\n	\n		\n			Contenuti dell’evento \nLa riforma organica del Testo Unico della Finanza rappresenta un intervento di sistema volto a modernizzare la disciplina dei mercati dei capitali\, delle società quotate e delle relative strutture di governance. \nL’obiettivo è quello di favorire un contesto normativo più chiaro\, efficiente e competitivo\, rafforzando i presìdi di controllo\, la trasparenza delle operazioni e la tutela degli azionisti. \nL’incontro è finalizzato all’analisi delle principali novità in tema di governance societaria introdotte dallo schema del decreto legislativo di riforma del TUF\, in attuazione della Legge n. 21/2024 (Legge Capitali). \nLa giornata di studio fornisce un’analisi integrata delle nuove disposizioni in materia di governance societaria\, con particolare riferimento a: \n– i modelli di amministrazione e controllo\n– la funzione e la responsabilità degli organi di controllo\n– le modalità di svolgimento e i poteri assembleari\n– la revisione della disciplina delle operazioni con parti correlate (OPC)\n– le regole di governance per le società di nuova quotazione\n– la riforma del regime delle offerte pubbliche di acquisto (OPA) \nL’incontro\, che vede la partecipazione dei Componenti della Commissione per la riforma del TUF\, costituisce un’occasione unica per analizzare in chiave sistematica le principali novità e gli impatti applicativi della riforma su assetti societari\, controlli interni\, assemblee\, OPC\, IPO e OPA. \nDestinatari dell’evento \nL’evento formativo è rivolto ai General Counsel\, ai Responsabili degli Affari Legali e Societari\, ai Responsabili della Segreteria Societaria\, ai componenti dei Board\, ai Sindaci\, ai componenti dei Comitati\, nonchè ai professionisti esterni che operano nel settore societario e supportano le aziende nelle decisioni strategiche. \nObiettivi dell’evento \nL’incontro si propone di offrire un quadro completo e sistematico delle innovazioni introdotte dalla riforma del Testo Unico della Finanza in materia di governance societaria\, con particolare riguardo agli assetti organizzativi e ai poteri degli organi sociali delle società quotate. \nL’evento intende fornire ai partecipanti una lettura coordinata della riforma e indicazioni pratiche per l’adeguamento dei sistemi di governo societario alle nuove disposizioni. \n\n\n		\n	\nProgramma\n	\n		\n			Venerdì 21 novembre 2025 \nLe linee generali della riforma \nProf. Avv. Andrea Zoppini\nUniversità Roma Tre\nStudio del Prof. Avv. Andrea Zoppini e degli Avvocati Associati\nComponente della Commissione per la riforma del TUF \nL’amministrazione\nLa disciplina dei modelli di amministrazione e controllo\nI doveri degli Amministratori\nProf. Avv. Antonio Nuzzo\nLUISS Guido Carli di Roma\nBussolettiNuzzo Avvocati\nComponente della Commissione per la riforma del TUF \nI conflitti di interesse degli Amministratori e le operazioni con parti correlate \nProf. Avv. Daniele Santosuosso\nSapienza Università di Roma\nSantosuosso Studio Legale\nComponente della Commissione per la riforma del TUF \nI controlli \nLa funzione di controllo dei rischi\nLa responsabilità del Collegio Sindacale\nProf. Avv. Paolo Valensise\nUniversità Roma Tre\nChiomenti\nComponente della Commissione per la riforma del TUF \nLe offerte pubbliche di acquisto\nLe soglie dell’OPA obbligatoria\nL’acquisto di concerto\nLa determinazione del prezzo di offerta\nL’acquisto totalitario su autorizzazione dei soci\nProf. Avv. Andrea Sacco Ginevri\nUniversità Roma Tre\nLegance Avvocati Associati\nComponente della Commissione per la riforma del TUF \nIl regime per le società di nuova quotazione\nLa nomina degli Amministratori\nIl diritto di recesso\nIl regime delle PMI\nProf. Avv. Giovanni Strampelli\nUniversità Luigi Bocconi di Milano\nStudio del Prof. Avv. Andrea Zoppini e degli Avvocati Associati\nComponente della Commissione per la riforma del TUF \nIl procedimento assembleare \nLe modalità di svolgimento dell’Assemblea\nIl Rappresentante Designato\nL’integrazione dell’ordine del giorno e la presentazione di proposte\nIl diritto di porre domande\nProf. Avv. Marco Ventoruzzo\nUniversità Luigi Bocconi di Milano\nPerdesoliGattai\nComponente della Commissione per la riforma del TUF \n\n\n		\n	\nDocenti\n	\n		\n			Prof. Avv. Antonio Nuzzo\nOrdinario di Diritto Commerciale e di Diritto Privato Comparato\nLUISS Guido Carli di Roma\nEquity Partner\nBussolettiNuzzo Avvocati\nComponente della Commissione per la riforma del TUF \nProf. Avv. Andrea Sacco Ginevri\nOrdinario di Diritto dell’Economia\nUniversità Roma Tre\nPartner\nLegance Avvocati Associati\nComponente della Commissione per la riforma del TUF \nProf. Avv. Daniele Santosuosso\nOrdinario di Diritto Commerciale e Internazionale\nSapienza Università di Roma\nSantosuosso Studio Legale\nComponente della Commissione per la riforma del TUF \nProf. Avv. Giovanni Strampelli\nOrdinario di Diritto Commerciale\nUniversità Luigi Bocconi di Milano\nStudio del Prof. Avv. Andrea Zoppini e degli Avvocati Associati\nComponente della Commissione per la riforma del TUF \nProf. Avv. Paolo Valensise\nOrdinario di Diritto Commerciale\nUniversità Roma Tre\nPartner\nChiomenti\nComponente della Commissione per la riforma del TUF \nProf. Avv. Marco Ventoruzzo\nOrdinario di Diritto Commerciale\nUniversità Luigi Bocconi di Milano\nPartner\nPerdesoliGattai\nComponente della Commissione per la riforma del TUF \nProf. Avv. Andrea Zoppini \nOrdinario di Diritto Civile\nUniversità Roma Tre\nStudio del Prof. Avv. Andrea Zoppini e degli Avvocati Associati\nComponente della Commissione per la riforma del TUF \n\n\n		\n	\nBrochure\n	\n		\n			 Scarica la brochure\n\n		\n	\nIscrizioni e Condizioni\n	\n		\n			Quota di partecipazione \nLa quota di partecipazione in diretta streaming include la fruizione degli interventi\, nonché la possibilità di scaricare\, in formato elettronico\, il materiale didattico che i relatori riterranno di mettere a disposizione. \nÈ inoltre prevista la possibilità di rivolgere contestualmente domande ai docenti (attivando il proprio microfono o tramite chat)\, oppure sottoporle in via preventiva\, inviando una e-mail a info@paradigma.it entro il giorno antecedente l’evento. \nIn caso di diretta streaming con accessi multipli è necessario contattare la Segreteria Organizzativa per un preventivo personalizzato. \nModalità di funzionamento della diretta streaming \nLe iniziative formative sono fruibili in diretta streaming attraverso un semplice collegamento alla piattaforma dedicata. La piattaforma è strutturata per garantire un ottimo livello di fruizione e interazione e non necessita di particolari requisiti tecnici. \nAlcuni giorni prima dell’evento il partecipante riceve le istruzioni di accesso e sarà sufficiente selezionare il link ricevuto per accedere all’aula virtuale. \nGli interventi in diretta streaming sono supportati dalle slide predisposte dal docente. Ogni utente collegato potrà intervenire formulando domande o richieste di approfondimento attivando il proprio microfono o utilizzando la chat dedicata. \nModalità di iscrizione \nL’iscrizione si perfeziona al momento del ricevimento del modulo di registrazione\, da inviare via e-mail all’indirizzo info@paradigma.it\, integralmente compilato e sottoscritto. Il numero dei collegamenti disponibili è limitato e la priorità d’iscrizione è determinata dalla data di ricezione del modulo di registrazione. Si consiglia pertanto di effettuare una preiscrizione telefonica. \nModalità di pagamento \nLa quota di partecipazione deve essere versata all’atto della presentazione della richiesta di iscrizione e\, in ogni caso\, prima dell’effettuazione dell’evento formativo\, tramite bonifico bancario intestato a: \nParadigma Srl – Corso Vittorio Emanuele II\, 68 – 10121 Torino\nc/o Banco BPM Spa\nIBAN IT 14 V 05034 01017 000000002530 \nFormazione finanziata \nLa quota di partecipazione può essere completamente rimborsata tramite voucher promossi dai Fondi Paritetici Interprofessionali. Paradigma offre la completa e gratuita gestione delle spese di progettazione\, monitoraggio e rendicontazione. La possibilità di accedere alla formazione finanziata con partecipazione mediante diretta streaming può variare a seconda dell’Ente erogante. \nAttestato di frequenza \nL’attestato di partecipazione nominativo sarà inviato al termine dell’evento formativo ai partecipanti che si sono regolarmente collegati all’aula virtuale. \nDiritto di recesso e modalità di disdetta \nÈ attribuita ai partecipanti la facoltà di recedere ai sensi dell’art. 1373 c.c. Il recesso dovrà essere comunicato in forma scritta almeno sette giorni prima della data di inizio dell’evento formativo (escluso il sabato e la domenica). Qualora la disdetta pervenga oltre tale termine o si verifichi di fatto con il mancato collegamento alla diretta streaming\, la quota di partecipazione sarà addebitata per intero e sarà inviato al partecipante il materiale didattico e\, se disponibile e per un periodo limitato\, la registrazione dell’evento. In qualunque momento l’azienda o lo studio potranno comunque sostituire il partecipante\, comunicando il nuovo nominativo alla nostra Segreteria Organizzativa. \nVariazioni di programma \nParadigma\, per ragioni eccezionali e imprevedibili\, si riserva di annullare o modificare la data dell’evento formativo\, dandone comunicazione agli interessati entro tre giorni dalla data di inizio prevista. In tali casi le quote di partecipazione pervenute verranno rimborsate\, con esclusione di qualsivoglia onere o obbligo a carico di Paradigma. Paradigma si riserva inoltre\, per ragioni sopravvenute e per cause di forza maggiore\, di modificare l’articolazione del programma e di sostituire i docenti previsti con altri docenti di pari livello professionale. \nPer ulteriori informazioni è possibile contattare la Segreteria Organizzativa al numero 011.538686 o all’indirizzo e-mail info@paradigma.it. \n\n\n		\n	\n\n\n	\n		\n			Quota di partecipazione\n	\n		\n			€ 1.100 + Iva\n\n		\n	\n\n	\n		\n			In caso di videoconferenza con accessi multipli è necessario contattare la Segreteria organizzativa per un preventivo personalizzato. \n\n		\n	\n\n\n		\n	\n\n	\n		\n			\n\n\n\n\n\n\n	\n		\n			Early booking -20%\nInviando il modulo di iscrizione entro il 31 ottobre si avrà diritto a una riduzione del 20% sulla quota di partecipazione. \n\n		\n	\n\n\n\n		\n	\n\n	\n		\n			\n\n\n\n\n\n\n	\n		\n			Quota corporate\nIscrivi all’evento 5 o più risorse provenienti dalla stessa organizzazione con una riduzione del 50%. \n\n		\n	\n\n\n\n		\n	\n\n	\n		\n			\n\n		\n	\n\n	\n		\n			\n\n\n\n\n\n\n	\n		\n			Progetto Giovani Eccellenze -50%\nL’adesione all’evento formativo permette di iscrivere una seconda risorsa\, che non abbia compiuto il 30° anno di età e proveniente dalla stessa organizzazione\, con una riduzione del 50% sulla seconda quota di partecipazione. L’agevolazione è calcolata sulla quota ordinaria. \n\n		\n	\n\n\n\n		\n	\n\n	\n		\n			\n\n\n\n\n\n\n	\n		\n			Formazione finanziata\nLa quota di partecipazione all’iniziativa può essere completamente rimborsata tramite voucher promossi dai Fondi Paritetici Interprofessionali. Paradigma offre la completa e gratuita gestione delle spese di progettazione\, monitoraggio e rendiconto. \n\n		\n	\n\n\n\n		\n	\n\n	\n		\n			\n\n\n\n\n\n\n	\n		\n			Mercati elettronici della PA\nParadigma opera sul MePA e sui principali mercati elettronici di soggetti aggregatori e centrali di committenza. \n\n		\n	\n\n\n\n		\n	\n\n	\n		\n			\n	\n\n\n	I campi con (*) sono obbligatori\n	\n		\n		Dati relativi all'evento\n		\n		\n			Partecipazione in aula\n			Partecipazione in videoconferenza\n		\n		\n\n		Dati relativi al richiedente\n		\n		\n		\n		\n		\n		\n		\n		\n\n	\n\n	\n\n		Dati per eventuale partecipante under 30\n		\n		\n		\n\n	\n\n	\n\n		Dati per la fatturazione elettronica\n		\n		\n		\n		\n		\n		\n				\n		\n		\n		  Split Payment:\n          \n            \n              \n              Si \n            No\n          \n        \n		\n		\n		\n		\n	\n\n	\n\n		Per informazioni contattare\n		\n		\n		\n		\n		\n	\n	L'iscrizione all'evento formativo si intende perfezionata al momento del ricevimento\, da parte di Paradigma Srl\, del presente modulo di registrazione compilato in ogni sua parte\, stampato\, firmato e inviato via e-mail all'indirizzo info@paradigma.it. Riceverete via email conferma dell'avvenuta iscrizione. \n\n\n		\n	     Acconsento all'invio di comunicazioni sui servizi Paradigma Srl - Consenso finalizzato\, anche con modalità automatizzate\, all'invio di comunicazioni relative a prodotti e servizi di Paradigma Srl e al fine di ricevere materiale informativo o promozionale.\n	\n	     Acconsento alla personalizzazione delle offerte - Consenso finalizzato\, mediante modalità automatizzate\, a personalizzare i servizi forniti e meglio indirizzare le proposte promozionali grazie ad attività di profilazione.\n	\n	Inviando i dati autorizzi Paradigma Srl a utilizzare i tuoi dati personali per evadere la richiesta di partecipazione all’evento formativo e svolgere le attività a ciò connesse. I dati potranno essere trattati\, per conto di Paradigma Srl\, da dipendenti e collaboratori incaricati di svolgere specifici servizi necessari all’esecuzione delle tue richieste. Il conferimento dei tuoi dati\, pur essendo facoltativo\, si rende necessario per l’esecuzione del servizio richiesto.	\n\n\n\n\n		\n\n\n\n\n\n		\n	\n[/vc_column][/vc_row]
URL:https://paradigma.it/iniziativa/la-nuova-governance-societaria-nella-riforma-del-tuf/
CATEGORIES:Governance e Diritto Societario
ORGANIZER;CN="Veronica%20Spiez":MAILTO:vspiez@paradigma.it
END:VEVENT
END:VCALENDAR