BEGIN:VCALENDAR
VERSION:2.0
PRODID:-//Paradigma srl - ECPv5.2.1//NONSGML v1.0//EN
CALSCALE:GREGORIAN
METHOD:PUBLISH
X-WR-CALNAME:Paradigma srl
X-ORIGINAL-URL:https://paradigma.it
X-WR-CALDESC:Eventi per Paradigma srl
BEGIN:VTIMEZONE
TZID:Europe/Rome
BEGIN:DAYLIGHT
TZOFFSETFROM:+0100
TZOFFSETTO:+0200
TZNAME:CEST
DTSTART:20250330T010000
END:DAYLIGHT
BEGIN:STANDARD
TZOFFSETFROM:+0200
TZOFFSETTO:+0100
TZNAME:CET
DTSTART:20251026T010000
END:STANDARD
END:VTIMEZONE
BEGIN:VEVENT
DTSTART;TZID=Europe/Rome:20251121T100000
DTEND;TZID=Europe/Rome:20251121T120000
DTSTAMP:20260421T125954
CREATED:20251110T153110Z
LAST-MODIFIED:20251119T142922Z
UID:25864-1763719200-1763726400@paradigma.it
SUMMARY:La nuova disciplina delle perdite fiscali
DESCRIPTION:[vc_row][vc_column]\n	\n		\n			\n		\n	\n\n	\n		\n			La partecipazione al webinar è a titolo gratuito. E’ necessario formalizzare l’iscrizione compilando il modulo di registrazione e inviandolo all’indirizzo email info@paradigma.it entro il 14 novembre pv. \n \n\n		\n	\n\n	\n		\n			10.00 – 12.00 \n\n		\n	\n\n	\n		\n			Evento in diretta streaming \n\n		\n	\n\n	\n		\n			 \n\n		\n	\n\n	\n		\n			\n\n		\n	\nPresentazioneProgrammaDocentiBrochureIscrizioni e CondizioniPresentazione\n	\n		\n			Contenuti dell’evento \nLa normativa sul riporto delle perdite fiscali da parte delle società soggette a IRES è stata oggetto\, negli ultimi due anni\, di un ampio processo di revisione. \nDopo gli interventi del D. Lgs. n. 192/2024\, in attuazione della riforma fiscale\, il D. L. n. 84/2025 pubblicato in Gazzetta Ufficiale il 17 giugno scorso introduce un ulteriore pacchetto di novità\, con l’obiettivo dichiarato di semplificare la disciplina applicabile\, rafforzare le garanzie antielusive e definire regole più coerenti in presenza di operazioni straordinarie. \nIl primo intervento del legislatore prevede\, nell’ambito dei criteri direttivi di revisione dell’IRES\, il riordino del regime di compensazione delle perdite fiscali e di circolazione di quelle delle società partecipanti a operazioni straordinarie\, con l’osservanza\, in particolare\, dei seguenti princìpi: (…) 2) tendenziale omogeneizzazione dei limiti e delle condizioni di compensazione delle perdite fiscali; 3) modifica della disciplina del riporto delle perdite nell’ambito delle operazioni di riorganizzazione aziendale\, non penalizzando quelle conseguite a partire dall’ingresso dell’impresa nel gruppo societario\, e revisione del limite quantitativo rappresentato dal valore del patrimonio netto e della nozione di modifica dell’attività principale esercitata; 4) definizione delle perdite finali ai fini del loro riconoscimento secondo i princìpi espressi dalla giurisprudenza degli organi giurisdizionali dell’Unione Europea. \nCon il D. L. n. 84 del 2025 (convertito con la legge nella legge 30 luglio 2025\, n 108) sono state introdotte ulteriori modifiche alla disciplina\, prevalentemente finalizzate a: (i) meglio regolamentare la clausola antiabuso riguardante la “sterilizzazione” dei versamenti e conferimenti effettuati negli esercizi precedenti; (ii) per stabilire il principio che\, in caso di conferimento d’azienda\, alle posizioni soggettive della società conferitaria si applicano le disposizioni previste dall’articolo 173\, comma 10\, del TUIR per la società beneficiaria di una scissione\, in base alle quali il riporto delle perdite fiscali\, degli interessi passivi e delle eccedenze dell’ACE è sottoposto alle condizioni e ai limiti ivi previsti. \nDestinatari dell’evento \nL’evento formativo è rivolto ai Responsabili Amministrativi\, ai Responsabili del Servizio Fiscale\, nonché ad Avvocati\, Commercialisti e consulenti in materia fiscale. \nObiettivi dell’evento \nDurante l’evento saranno affrontati i profili maggiormente problematici riguardanti le modifiche alla disciplina delle perdite fiscali sia per quanto riguarda l’utilizzo ordinario delle stesse sia in occasione di operazioni straordinarie. \n\n\n		\n	\nProgramma\n	\n		\n			Venerdì 21 novembre 2025 \n  \nLa legge delega e le disposizioni di attuazione \nLa ratio riguardante il riporto delle perdite fiscali \nIl trasferimento delle partecipazioni e la nozione di “modifica dell’attività principale” \nLa modifica al regime dell’interpello disapplicativo applicabile al riporto delle perdite \nIl concetto di compensazione intersoggettiva delle perdite fiscali \nProf. Alessandro Vicini Ronchetti\nUniversità di Torino \n  \nIl test di vitalità ed il limite del patrimonio netto \nIl riporto delle perdite infragruppo e nelle operazioni straordinarie \nDott. Fabio Avenale \nKPMG – Studio Associato Consulenza Legale e Tributaria \n  \nLe perdite finali e la mancata attuazione della delega \nIl riporto delle perdite e l’accertamento \nUn caso particolare: riporto delle perdite maturate in esercizi in cui sono stati percepiti contributi covid \nDott. Luca Nobile \nKPMG – Studio Associato Consulenza Legale e Tributaria \n\n\n		\n	\nDocenti\n	\n		\n			Dott. Fabio Avenale\nPartner\nKPMG – Studio Associato Consulenza Legale e Tributaria \nProf. Alessandro Vicini Ronchetti\nAssociato di Diritto Tributario\nUniversità di Torino \nDott. Luca Nobile\nExecutive Senior Advisor\nKPMG – Studio Associato Consulenza Legale e Tributaria \n\n\n		\n	\nBrochure\n	\n		\n			 Scarica la brochure\n\n		\n	\nIscrizioni e Condizioni\n	\n		\n			Modalità di iscrizione \nLa partecipazione al webinar è a titolo gratuito. \nE’ necessario formalizzare l’iscrizione compilando il modulo di registrazione e inviandolo all’indirizzo info@paradigma.it entro il 14 novembre pv. \nModalità di funzionamento della diretta streaming \nLe iniziative formative sono fruibili in diretta streaming attraverso un semplice collegamento alla piattaforma dedicata. La piattaforma è strutturata per garantire un ottimo livello di fruizione e interazione e non necessita di particolari requisiti tecnici. \nAlcuni giorni prima dell’evento il partecipante riceve le istruzioni di accesso e sarà sufficiente selezionare il link ricevuto per accedere all’aula virtuale. \nGli interventi in diretta streaming sono supportati dalle slide predisposte dal docente. Ogni utente collegato potrà intervenire formulando domande o richieste di approfondimento attivando il proprio microfono o utilizzando la chat dedicata. \nModalità di iscrizione \nL’iscrizione si perfeziona al momento del ricevimento del modulo di registrazione\, da inviare via e-mail all’indirizzo info@paradigma.it\, integralmente compilato e sottoscritto. Il numero dei collegamenti disponibili è limitato e la priorità d’iscrizione è determinata dalla data di ricezione del modulo di registrazione. \nVariazioni di programma \nParadigma\, per ragioni eccezionali e imprevedibili\, si riserva di annullare o modificare la data dell’evento formativo\, dandone comunicazione agli interessati entro tre giorni dalla data di inizio prevista. Paradigma si riserva inoltre\, per ragioni sopravvenute e per cause di forza maggiore\, di modificare l’articolazione del programma e di sostituire i docenti previsti con altri docenti di pari livello professionale. \nPer ulteriori informazioni è possibile contattare la Segreteria Organizzativa al numero 011.538686 o all’indirizzo e-mail info@paradigma.it. \n\n\n		\n	\n\n\n	\n		\n			\n\n		\n	\n\n	\n		\n			\n\n		\n	\n\n	\n		\n			\n\n		\n	\n\n	\n		\n			\n\n		\n	\n\n	\n		\n			\n\n		\n	\n\n	\n		\n			\n\n		\n	\n\n	\n		\n			\n\n		\n	\n\n	\n		\n			\n	\n\n\n	I campi con (*) sono obbligatori\n	\n		\n		Dati relativi all'evento\n		\n		\n			Partecipazione in aula\n			Partecipazione in videoconferenza\n		\n		\n\n		Dati relativi al richiedente\n		\n		\n		\n		\n		\n		\n		\n		\n\n	\n\n	\n\n		Dati per eventuale partecipante under 30\n		\n		\n		\n\n	\n\n	\n\n		Dati per la fatturazione elettronica\n		\n		\n		\n		\n		\n		\n				\n		\n		\n		  Split Payment:\n          \n            \n              \n              Si \n            No\n          \n        \n		\n		\n		\n		\n	\n\n	\n\n		Per informazioni contattare\n		\n		\n		\n		\n		\n	\n	L'iscrizione all'evento formativo si intende perfezionata al momento del ricevimento\, da parte di Paradigma Srl\, del presente modulo di registrazione compilato in ogni sua parte\, stampato\, firmato e inviato via e-mail all'indirizzo info@paradigma.it. Riceverete via email conferma dell'avvenuta iscrizione. \n\n\n		\n	     Acconsento all'invio di comunicazioni sui servizi Paradigma Srl - Consenso finalizzato\, anche con modalità automatizzate\, all'invio di comunicazioni relative a prodotti e servizi di Paradigma Srl e al fine di ricevere materiale informativo o promozionale.\n	\n	     Acconsento alla personalizzazione delle offerte - Consenso finalizzato\, mediante modalità automatizzate\, a personalizzare i servizi forniti e meglio indirizzare le proposte promozionali grazie ad attività di profilazione.\n	\n	Inviando i dati autorizzi Paradigma Srl a utilizzare i tuoi dati personali per evadere la richiesta di partecipazione all’evento formativo e svolgere le attività a ciò connesse. I dati potranno essere trattati\, per conto di Paradigma Srl\, da dipendenti e collaboratori incaricati di svolgere specifici servizi necessari all’esecuzione delle tue richieste. Il conferimento dei tuoi dati\, pur essendo facoltativo\, si rende necessario per l’esecuzione del servizio richiesto.	\n\n\n\n\n		\n\n\n\n\n\n		\n	\n[/vc_column][/vc_row]
URL:https://paradigma.it/iniziativa/la-nuova-disciplina-delle-perdite-fiscali/
CATEGORIES:Fisco e Diritto Tributario
ORGANIZER;CN="Veronica%20Spiez":MAILTO:vspiez@paradigma.it
END:VEVENT
END:VCALENDAR