BEGIN:VCALENDAR
VERSION:2.0
PRODID:-//Paradigma srl - ECPv5.2.1//NONSGML v1.0//EN
CALSCALE:GREGORIAN
METHOD:PUBLISH
X-WR-CALNAME:Paradigma srl
X-ORIGINAL-URL:https://paradigma.it
X-WR-CALDESC:Eventi per Paradigma srl
BEGIN:VTIMEZONE
TZID:Europe/Rome
BEGIN:DAYLIGHT
TZOFFSETFROM:+0100
TZOFFSETTO:+0200
TZNAME:CEST
DTSTART:20260329T010000
END:DAYLIGHT
BEGIN:STANDARD
TZOFFSETFROM:+0200
TZOFFSETTO:+0100
TZNAME:CET
DTSTART:20261025T010000
END:STANDARD
END:VTIMEZONE
BEGIN:VEVENT
DTSTART;TZID=Europe/Rome:20260421T093000
DTEND;TZID=Europe/Rome:20260421T180000
DTSTAMP:20260421T165518
CREATED:20260311T115844Z
LAST-MODIFIED:20260417T124059Z
UID:27452-1776763800-1776794400@paradigma.it
SUMMARY:La governance delle società non quotate
DESCRIPTION:[vc_row][vc_column]\n	\n		\n			\n		\n	\n\n	\n		\n			Assetti organizzativi\, responsabilità e prospettive evolutive \n \n\n		\n	\n\n	\n		\n			09.30 - 13.30  14.30 - 18.00 \n\n		\n	\n\n	\n		\n			Evento in diretta streaming \n\n		\n	\n\n	\n		\n			 \n\n		\n	\n\n	\n		\n			\n\n		\n	\nPresentazioneProgrammaDocentiBrochureIscrizioni e CondizioniPresentazione\n	\n		\n			Contenuti dell’evento \nLa governance delle società non quotate sta assumendo un ruolo sempre più centrale nella gestione e nello sviluppo delle imprese\, anche alla luce delle recenti evoluzioni normative e delle crescenti aspettative degli stakeholder in termini di trasparenza\, responsabilità e sostenibilità nel governo societario. \nL’assetto di governance rappresenta infatti uno degli elementi chiave per assicurare l’equilibrio tra proprietà e gestione\, favorire un’efficace assunzione delle decisioni strategiche e prevenire situazioni di conflitto o di inefficienza organizzativa. In questo contesto\, assumono particolare rilievo la definizione degli assetti organizzativi e di controllo\, la corretta configurazione dei rapporti tra soci e amministratori e l’adozione di strumenti giuridici idonei a disciplinare gli equilibri proprietari e il funzionamento degli organi sociali. \nIl workshop intende offrire un’analisi sistematica dell’architettura di governance nelle società non quotate\, approfondendo il ruolo dello Statuto\, dei patti parasociali e degli organi sociali – Consiglio di Amministrazione\, Assemblea dei soci e Collegio sindacale – anche alla luce delle più recenti evoluzioni normative e degli orientamenti della prassi e della giurisprudenza. \nParticolare attenzione sarà inoltre dedicata alle prospettive evolutive della governance delle imprese non quotate\, con riferimento ai temi della sostenibilità\, del passaggio generazionale e della preparazione all’accesso al mercato dei capitali. \nDestinatari dell’evento \nL’evento formativo è rivolto ai Responsabili della Segreteria Societaria\, ai Responsabili degli Affari Legali e Societari\, ai General Counsel\, ai componenti dei Board\, ai Sindaci\, ai componenti dei Comitati\, nonchè ai professionisti esterni che operano nel settore societario e supportano le aziende nelle decisioni strategiche. \nObiettivi dell’evento \nL’evento si propone di fornire ai partecipanti una visione organica delle principali questioni giuridiche e operative che caratterizzano la governance delle società non quotate\, offrendo strumenti utili per comprendere la struttura e il funzionamento degli organi sociali e per gestire correttamente i rapporti tra soci\, amministratori e organi di controllo. \nAttraverso il contributo di accademici ed esperti della materia\, verranno analizzati i principali strumenti di regolazione della governance – Statuto\, patti parasociali e assetti organizzativi – nonché i profili di responsabilità degli amministratori e degli organi di controllo. \nL’iniziativa mira inoltre a evidenziare le migliori soluzioni organizzative e le best practice utili a rafforzare l’efficacia dei sistemi di governo societario e a supportare le imprese nei processi di crescita\, apertura al mercato e possibile accesso a operazioni di quotazione o di raccolta di capitali. \n\n\n		\n	\nProgramma\n	\n		\n			Martedì 21 aprile 2026 \nArchitettura di governance nelle società non quotate\nPrincipi generali di governance e differenze rispetto alle società quotate\nQuadro normativo di riferimento e tendenze evolutive\nIl nuovo Codice di autodisciplina delle imprese non quotate\nAssetti proprietari e assetti di governance\nGovernance e successo sostenibile\nGovernance e passaggio generazionale\nAvv. Emilia Pucci\nEsperta di Corporate Governance \nLo Statuto come strumento strategico\nIl contenuto dello Statuto: approccio essenziale vs regolazione analitica\nI rapporti tra atto costitutivo e Statuto\nLa disciplina dei rapporti tra organi sociali\nLe clausole su amministrazione e controllo\nLa nomina del revisore legale\nLe modifiche statutarie: profili formali e sostanziali\nAdeguamenti statutari alle recenti novità normative\nProf. Piergaetano Marchetti\nUniversità Luigi Bocconi di Milano\nStudio Notarile Marchetti \nPatti parasociali e governo degli equilibri proprietari\nNozione\, funzione e diffusione nella prassi\nProfili di validità e orientamenti giurisprudenziali\nPatti di voto\, sindacati di blocco e vincoli sugli organi sociali\nLimiti all’autonomia negoziale\nStatuto vs patti parasociali: criteri di scelta e valutazioni strategiche\nProf. Avv. Oreste Cagnasso\nUniversità di Torino\nCagnasso e Associati Studio Legale \nIl Consiglio di Amministrazione: poteri\, flussi informativi e responsabilità\nPoteri gestori e limiti nelle società non quotate\nDoveri di diligenza\, correttezza e informazione\nLa responsabilità degli amministratori\nIl Presidente del CdA: ruolo\, funzioni e responsabilità\nI flussi informativi endoconsiliari\nRapporti tra soci e amministratori nelle diverse forme societarie\nProf. Avv. Maurizio Irrera\nUniversità di Torino\nStudio Irrera Avvocati Associati \nL’Assemblea dei soci\nConvocazione e ordine del giorno\nIl ruolo del Presidente e del Segretario\nDeliberazioni e verbalizzazione\nAssemblea in modalità virtuale: disciplina e criticità operative\nProf. Avv. Marco Ventoruzzo\nUniversità Luigi Bocconi di Milano\nPerdesoliGattai\nComponente della Commissione per la riforma del TUF \nL’organo di controllo e il Collegio Sindacale\nComposizione\, requisiti e nomina\nPoteri di vigilanza e doveri di intervento\nNuovi profili di responsabilità\nLa reazione alle irregolarità degli amministratori\nLe responsabilità per omessa vigilanza e per attività di attestazione\nProf. Avv. Paolo Valensise\nUniversità Roma Tre\nChiomenti\nComponente della Commissione per la riforma del TUF \nGovernance e accesso al mercato\nPreparazione alla quotazione o alla ricerca di capitali\nAdeguamenti organizzativi richiesti dal mercato\nPrincipali innovazioni introdotte dalla riforma del TUF\nBest practice per la fase pre-quotazione\nProf. Avv. Andrea Zoppini\nUniversità Roma Tre\nStudio del Prof. Avv. Andrea Zoppini e degli Avvocati Associati\nComponente della Commissione per la riforma del TUF\nProf. Avv. Giovanni Strampelli\nUniversità Luigi Bocconi di Milano\nStudio del Prof. Avv. Andrea Zoppini e degli Avvocati Associati\nComponente della Commissione per la riforma del TUF \n\n\n		\n	\nDocenti\n	\n		\n			Prof. Avv. Oreste Cagnasso\nEmerito di Diritto Commerciale\nUniversità di Torino\nCagnasso e Associati Studio Legale \nProf. Avv. Maurizio Irrera\nOrdinario di Diritto Commerciale\nUniversità di Torino\nStudio Irrera Avvocati Associati \nProf. Piergaetano Marchetti\nEmerito di Diritto Commerciale\nUniversità Luigi Bocconi di Milano\nStudio Notarile Marchetti \nAvv. Emilia Pucci\nEsperta di Corporate Governance \nProf. Avv. Giovanni Strampelli\nOrdinario di Diritto Commerciale\nUniversità Luigi Bocconi di Milano\nStudio del Prof. Avv. Andrea Zoppini e degli Avvocati Associati\nComponente della Commissione per la riforma del TUF \nProf. Avv. Paolo Valensise\nOrdinario di Diritto Commerciale\nUniversità Roma Tre\nPartner\nChiomenti\nComponente della Commissione per la riforma del TUF \nProf. Avv. Marco Ventoruzzo\nOrdinario di Diritto Commerciale\nUniversità Luigi Bocconi di Milano\nPartner\nPerdesoliGattai\nComponente della Commissione per la riforma del TUF \nProf. Avv. Andrea Zoppini\nOrdinario di Diritto Civile\nUniversità Roma Tre\nStudio del Prof. Avv. Andrea Zoppini e degli Avvocati Associati\nComponente della Commissione per la riforma del TUF \n\n\n		\n	\nBrochure\n	\n		\n			 Scarica la brochure\n\n		\n	\nIscrizioni e Condizioni\n	\n		\n			Quota di partecipazione \nLa quota di partecipazione in diretta streaming include la fruizione degli interventi\, nonché la possibilità di scaricare\, in formato elettronico\, il materiale didattico che i relatori riterranno di mettere a disposizione. \nÈ inoltre prevista la possibilità di rivolgere contestualmente domande ai docenti (attivando il proprio microfono o tramite chat)\, oppure sottoporle in via preventiva\, inviando una e-mail a info@paradigma.it entro il giorno antecedente l’evento. \nIn caso di diretta streaming con accessi multipli è necessario contattare la Segreteria Organizzativa per un preventivo personalizzato. \nModalità di funzionamento della diretta streaming \nLe iniziative formative sono fruibili in diretta streaming attraverso un semplice collegamento alla piattaforma dedicata. La piattaforma è strutturata per garantire un ottimo livello di fruizione e interazione e non necessita di particolari requisiti tecnici. \nAlcuni giorni prima dell’evento il partecipante riceve le istruzioni di accesso e sarà sufficiente selezionare il link ricevuto per accedere all’aula virtuale. \nGli interventi in diretta streaming sono supportati dalle slide predisposte dal docente. Ogni utente collegato potrà intervenire formulando domande o richieste di approfondimento attivando il proprio microfono o utilizzando la chat dedicata. \nModalità di iscrizione \nL’iscrizione si perfeziona al momento del ricevimento del modulo di registrazione\, da inviare via e-mail all’indirizzo info@paradigma.it\, integralmente compilato e sottoscritto. Il numero dei collegamenti disponibili è limitato e la priorità d’iscrizione è determinata dalla data di ricezione del modulo di registrazione. Si consiglia pertanto di effettuare una preiscrizione telefonica. \nModalità di pagamento \nLa quota di partecipazione deve essere versata all’atto della presentazione della richiesta di iscrizione e\, in ogni caso\, prima dell’effettuazione dell’evento formativo\, tramite bonifico bancario intestato a: \nParadigma Srl – Corso Vittorio Emanuele II\, 68 – 10121 Torino\nc/o Banco BPM Spa\nIBAN IT 14 V 05034 01017 000000002530 \nFormazione finanziata \nLa quota di partecipazione può essere completamente rimborsata tramite voucher promossi dai Fondi Paritetici Interprofessionali. Paradigma offre la completa e gratuita gestione delle spese di progettazione\, monitoraggio e rendicontazione. La possibilità di accedere alla formazione finanziata con partecipazione mediante diretta streaming può variare a seconda dell’Ente erogante. \nAttestato di frequenza \nL’attestato di partecipazione nominativo sarà inviato al termine dell’evento formativo ai partecipanti che si sono regolarmente collegati all’aula virtuale. \nDiritto di recesso e modalità di disdetta \nÈ attribuita ai partecipanti la facoltà di recedere ai sensi dell’art. 1373 c.c. Il recesso dovrà essere comunicato in forma scritta almeno sette giorni prima della data di inizio dell’evento formativo (escluso il sabato e la domenica). Qualora la disdetta pervenga oltre tale termine o si verifichi di fatto con il mancato collegamento alla diretta streaming\, la quota di partecipazione sarà addebitata per intero e sarà inviato al partecipante il materiale didattico e\, se disponibile e per un periodo limitato\, la registrazione dell’evento. In qualunque momento l’azienda o lo studio potranno comunque sostituire il partecipante\, comunicando il nuovo nominativo alla nostra Segreteria Organizzativa. \nVariazioni di programma \nParadigma\, per ragioni eccezionali e imprevedibili\, si riserva di annullare o modificare la data dell’evento formativo\, dandone comunicazione agli interessati entro tre giorni dalla data di inizio prevista. In tali casi le quote di partecipazione pervenute verranno rimborsate\, con esclusione di qualsivoglia onere o obbligo a carico di Paradigma. Paradigma si riserva inoltre\, per ragioni sopravvenute e per cause di forza maggiore\, di modificare l’articolazione del programma e di sostituire i docenti previsti con altri docenti di pari livello professionale. \nPer ulteriori informazioni è possibile contattare la Segreteria Organizzativa al numero 011.538686 o all’indirizzo e-mail info@paradigma.it. \n\n\n		\n	\n\n\n	\n		\n			Quota di partecipazione\n	\n		\n			€ 1.100 + Iva\n\n		\n	\n\n	\n		\n			In caso di videoconferenza con accessi multipli è necessario contattare la Segreteria organizzativa per un preventivo personalizzato. \n\n		\n	\n\n\n		\n	\n\n	\n		\n			\n\n\n\n\n\n\n	\n		\n			Early booking -20%\nInviando il modulo di iscrizione entro il 31 marzo si avrà diritto a una riduzione del 20% sulla quota di partecipazione. \n\n		\n	\n\n\n\n		\n	\n\n	\n		\n			\n\n\n\n\n\n\n	\n		\n			Quota corporate\nIscrivi all’evento 5 o più risorse provenienti dalla stessa organizzazione con una riduzione del 50%. \n\n		\n	\n\n\n\n		\n	\n\n	\n		\n			\n\n		\n	\n\n	\n		\n			\n\n\n\n\n\n\n	\n		\n			Progetto Giovani Eccellenze -50%\nL’adesione all’evento formativo permette di iscrivere una seconda risorsa\, che non abbia compiuto il 30° anno di età e proveniente dalla stessa organizzazione\, con una riduzione del 50% sulla seconda quota di partecipazione. L’agevolazione è calcolata sulla quota ordinaria. \n\n		\n	\n\n\n\n		\n	\n\n	\n		\n			\n\n\n\n\n\n\n	\n		\n			Formazione finanziata\nLa quota di partecipazione all’iniziativa può essere completamente rimborsata tramite voucher promossi dai Fondi Paritetici Interprofessionali. Paradigma offre la completa e gratuita gestione delle spese di progettazione\, monitoraggio e rendiconto. \n\n		\n	\n\n\n\n		\n	\n\n	\n		\n			\n\n\n\n\n\n\n	\n		\n			Mercati elettronici della PA\nParadigma opera sul MePA e sui principali mercati elettronici di soggetti aggregatori e centrali di committenza. \n\n		\n	\n\n\n\n		\n	\n\n	\n		\n			\n	\n\n\n	I campi con (*) sono obbligatori\n	\n		\n		Dati relativi all'evento\n		\n		\n			Partecipazione in aula\n			Partecipazione in videoconferenza\n		\n		\n\n		Dati relativi al richiedente\n		\n		\n		\n		\n		\n		\n		\n		\n\n	\n\n	\n\n		Dati per eventuale partecipante under 30\n		\n		\n		\n\n	\n\n	\n\n		Dati per la fatturazione elettronica\n		\n		\n		\n		\n		\n		\n				\n		\n		\n		  Split Payment:\n          \n            \n              \n              Si \n            No\n          \n        \n		\n		\n		\n		\n	\n\n	\n\n		Per informazioni contattare\n		\n		\n		\n		\n		\n	\n	L'iscrizione all'evento formativo si intende perfezionata al momento del ricevimento\, da parte di Paradigma Srl\, del presente modulo di registrazione compilato in ogni sua parte\, stampato\, firmato e inviato via e-mail all'indirizzo info@paradigma.it. Riceverete via email conferma dell'avvenuta iscrizione. \n\n\n		\n	     Acconsento all'invio di comunicazioni sui servizi Paradigma Srl - Consenso finalizzato\, anche con modalità automatizzate\, all'invio di comunicazioni relative a prodotti e servizi di Paradigma Srl e al fine di ricevere materiale informativo o promozionale.\n	\n	     Acconsento alla personalizzazione delle offerte - Consenso finalizzato\, mediante modalità automatizzate\, a personalizzare i servizi forniti e meglio indirizzare le proposte promozionali grazie ad attività di profilazione.\n	\n	Inviando i dati autorizzi Paradigma Srl a utilizzare i tuoi dati personali per evadere la richiesta di partecipazione all’evento formativo e svolgere le attività a ciò connesse. I dati potranno essere trattati\, per conto di Paradigma Srl\, da dipendenti e collaboratori incaricati di svolgere specifici servizi necessari all’esecuzione delle tue richieste. Il conferimento dei tuoi dati\, pur essendo facoltativo\, si rende necessario per l’esecuzione del servizio richiesto.	\n\n\n\n\n		\n\n\n\n\n\n		\n	\n[/vc_column][/vc_row]
URL:https://paradigma.it/iniziativa/la-governance-delle-societa-non-quotate/
CATEGORIES:Governance e Diritto Societario
END:VEVENT
END:VCALENDAR