BEGIN:VCALENDAR
VERSION:2.0
PRODID:-//Paradigma srl - ECPv5.2.1//NONSGML v1.0//EN
CALSCALE:GREGORIAN
METHOD:PUBLISH
X-WR-CALNAME:Paradigma srl
X-ORIGINAL-URL:https://paradigma.it
X-WR-CALDESC:Eventi per Paradigma srl
BEGIN:VTIMEZONE
TZID:Europe/Rome
BEGIN:DAYLIGHT
TZOFFSETFROM:+0100
TZOFFSETTO:+0200
TZNAME:CEST
DTSTART:20230326T010000
END:DAYLIGHT
BEGIN:STANDARD
TZOFFSETFROM:+0200
TZOFFSETTO:+0100
TZNAME:CET
DTSTART:20231029T010000
END:STANDARD
END:VTIMEZONE
BEGIN:VEVENT
DTSTART;TZID=Europe/Rome:20231017T093000
DTEND;TZID=Europe/Rome:20231017T180000
DTSTAMP:20260421T130010
CREATED:20230825T124737Z
LAST-MODIFIED:20231013T123119Z
UID:18783-1697535000-1697565600@paradigma.it
SUMMARY:La governance  della sostenibilità
DESCRIPTION:[vc_row][vc_column]\n	\n		\n			\n		\n	\n\n	\n		\n			\nOrgani sociali e funzioni coinvolte\nAttività e definizione delle procedure\nImplementazione dei flussi informativi\nLa formazione del Report di Sostenibilità\nResponsabilità\n\nI docenti\, nel corso dell’evento formativo\, risponderanno alle domande e alle richieste di chiarimenti formulate dai partecipanti. Eventuali quesiti potranno essere anticipati inviando una email all’indirizzo asorba@paradigma.it \n \n\n		\n	\n\n	\n		\n			Evento in videoconferenza \n\n		\n	\n\n	\n		\n			17 ottobre 2023 \n\n		\n	\n\n	\n		\n			 \n\n		\n	\n\n	\n		\n			\n\n		\n	\nPresentazioneProgrammaDocentiBrochureIscrizioni e CondizioniPresentazione\n	\n		\n			Contenuti dell’evento \nNel corso della giornata di studi\, organizzata in modalità videoconferenza\, saranno analizzate le corrette modalità di “governo” della sostenibilità nelle imprese e nei gruppi societari. \nSaranno presentati il ruolo\, le attività e le responsabilità dei soggetti coinvolti\, nonché le procedure attivabili e le modalità di implementazione dei flussi informativi finalizzati all’efficace adempimento degli oneri ESG. \nDestinatari dell’evento \nL’evento formativo è rivolto ai General Counsel e ai Responsabili degli Affari Legali e Societari\, ai Direttori Amministrativi\, ai Sustainability Manager\, ai Responsabili della Compliance dei principali gruppi finanziari e industriali italiani\, nonché ai consulenti esterni in materia ESG. \nObiettivi dell’evento \nObiettivo dell’incontro è fornire ai partecipanti un modello di governance della sostenibilità\, finalizzato all’efficace adempimento degli oneri ESG\, attraverso l’analisi di casi concreti e la risoluzione di problematiche operative. \n\n\n		\n	\nProgramma\n	\n		\n			Martedì 17 ottobre 2023 \nIl quadro normativo di riferimento in materia di sostenibilità e i possibili sviluppi\nI Regolamenti UE 2019/2088 e 2020/852\, c.d. Sustainable Financial Disclosure Regulation e c.d. Regolamento Tassonomia\nLa Direttiva (UE) 2022/2464\, c.d. Corporate Sustainability Reporting Directive\nLa proposta di Direttiva “on Corporate Sustainability Due Diligence”\nIl successo sostenibile nel Codice di Autodisciplina\nProf. Avv. Marco Ventoruzzo\nUniversità Bocconi di Milano \nIl Report di Sostenibilità: soggetti coinvolti\, procedimento di formazione e implementazione dei flussi informativi\nIl superamento della NFRD e la nuova Direttiva CSRD\nI contenuti della CSRD: ambito di applicazione; le innovazioni di disciplina del reporting; la collocazione dell’informativa sulla sostenibilità; la definizione degli standard di rendicontazione; le tempistiche di recepimento\nI principi europei di rendicontazione di sostenibilità\nIl procedimento di formazione del documento\nAvv. Leonardo Benvenuto\nAssonime \nIl ruolo e le responsabilità dell’organo amministrativo e dei comitati endoconsiliari\nLa definizione della strategia di sostenibilità e delle politiche aziendali ESG\nL’impatto sul piano industriale dei temi ESG\nIl rafforzamento delle competenze sulla sostenibilità dei componenti del CdA\nLa mappatura dei rischi ESG e gli strumenti per la gestione\nL’interazione tra rischi ESG\, rischi di non conformità e rischi legali\nDott.ssa Patrizia Michela Giangualano\nGovernance & Sustainability Advisor \nIl ruolo e le responsabilità del Collegio Sindacale e delle funzioni di controllo\nIl ruolo di coordinamento e di controllo high level delle strutture impattate dalla CSRD: adeguatezze delle procedure interne e conformità alla normativa vigente\nIl coinvolgimento nel processo di redazione\, approvazione e assurance del Report di Sostenibilità\nIl ruolo delle funzioni di Risk Management\, Internal Audit e Compliance nel processo di integrazione dei rischi di sostenibilità\nProf. Giovanni Fiori\nLUISS Guido Carli di Roma \nIl ruolo e le responsabilità del Dirigente Preposto\nIl ruolo del Dirigente Preposto nella redazione dei documenti contabili e nella rendicontazione di sostenibilità nella precedente DNF\nL’implementazione della CSRD nell’azienda e il controllo sul Report di Sostenibilità\nIl nuovo ruolo del c.d. Sustainability Manager\nDott. Paolo Bertoli\nANDAF\nWidar Trust \nIl ruolo dell’Assemblea\nLa engagement policy degli investitori istituzionali: la valorizzazione del ruolo dell’Assemblea come organo di interazione tra amministratori e azionisti\nL’evoluzione del ruolo dell’Assemblea: il c.d. say on pay\nIl c.d. say on climate: il coordinamento tra la riserva esclusiva di competenza sulla gestione e il principio di tipicità delle materie assembleari\nProf. Avv. Paolo Valensise\nUniversità Roma Tre \nIl ruolo e le responsabilità del revisore\nIl ruolo di garante della conformità e coerenza della rendicontazione di sostenibilità con quella di carattere finanziario\nLa pianificazione di procedure adeguate volte alla valutazione del rischio di errori significativi nella redazione del bilancio nell’ottica dei fattori socio-ambientali\nL’obbligo di assurance per il Report di Sostenibilità\nLe recenti Linee Guida di comportamento della società di revisione indipendente: Documento di Ricerca n. 254 di ASSIREVI inerente alla relazione della società di revisione indipendente sulla Dichiarazione non Finanziaria\nDott.ssa Silvia Dallai\nDeloitte \nI soggetti coinvolti nella governance della sostenibilità\, il sistema di controllo interno e l’implementazione dei flussi informativi\nPanoramica sugli organi principali: il Consiglio di Amministrazione\, il Collegio sindacale\, l’Assemblea\, il Revisore\, il Dirigente Preposto\, il Sustainability Manager\nL’organo amministrativo e il raccordo con i lavori dei Comitati endoconsiliari con funzioni in materia di sostenibilità\nIl sistema di controllo interno della sostenibilità: il Modello delle 3 Linee e il nuovo COSO 2023\nIl ruolo delle funzioni aziendali\nIl coinvolgimento dei portatori di interessi\nDott. Silvio de Girolamo\nSustainability Advisor & Consultant \n\n\n		\n	\nDocenti\n	\n		\n			Avv. Leonardo Benvenuto\nDirigente\nArea Diritto Societario\nAssonime \nDott. Paolo Bertoli\nDirettore ANDAF Magazine\nComponente Advisory Council ANDAF\nCEO Widar Trust\nPresidente Across Fiduciaria \nDott.ssa Silvia Dallai\nPartner\nSustainability Services\nDeloitte \nDott. Silvio de Girolamo\nSustainability Advisor & Consultant \nProf. Giovanni Fiori\nOrdinario di Economia Aziendale\nLUISS Guido Carli di Roma\nPresidente Collegio Sindacale Luxottica\nPresidente Collegio Sindacale Saipem\nStudio Fiori & Associati \nDott.ssa Patrizia Michela Giangualano\nIndependent Director\nGovernance & Sustainability Advisor\nComponente Consiglio Direttivo\nNedCommunity \nProf. Avv. Paolo Valensise\nOrdinario di Diritto Commerciale\nUniversità Roma Tre\nPartner\nHead of ESG & Corporate Advisory Practice Area\nChiomenti \nProf. Avv. Marco Ventoruzzo\nOrdinario di Diritto Commerciale\nUniversità Bocconi di Milano\nPartner\nGattai\, Minoli\, Partners Studio Legale \n\n\n		\n	\nBrochure\n	\n		\n			 Scarica la brochure\n\n		\n	\nIscrizioni e Condizioni\n	\n		\n			Quota di partecipazione \nLa quota di partecipazione in aula virtuale (diretta streaming) include l’invio del materiale didattico in formato elettronico e la possibilità di sottoporre ai relatori quesiti di specifico interesse a mezzo chat. È altresì possibile anticipare domande e richieste di approfondimento inviando una e-mail a info@paradigma.it entro il giorno antecedente l’evento. \nIn caso di videoconferenza con accessi multipli è necessario contattare la Segreteria organizzativa per un preventivo personalizzato. \nModalità di funzionamento della videoconferenza \nE’ possibile accedere all’aula virtuale da qualsiasi luogo\, utilizzando il proprio PC o tablet con una semplice connessione a Internet. La piattaforma informatica utilizzata da Paradigma (Adobe Connect) non necessita di requisiti tecnici particolari. \nNei giorni antecedenti l’evento il partecipante riceverà per posta elettronica le credenziali e le istruzioni di accesso. Il giorno dell’evento sarà sufficiente selezionare il link che troverà nella mail e inserire le credenziali per accedere all’aula virtuale. \nDurante gli interventi\, oltre a vedere e sentire i docenti\, è possibile consultare simultaneamente la documentazione predisposta dal relatore. Ogni utente collegato potrà porre domande sulle tematiche affrontate a mezzo chat\, alle quali il docente risponderà nel corso dell’intervento. \nModalità di iscrizione \nL’iscrizione si perfeziona al momento del ricevimento del modulo di registrazione\, da inviare via e-mail all’indirizzo info@paradigma.it\, integralmente compilato. Il numero dei collegamenti disponibili è limitato e la priorità d’iscrizione è determinata dalla data di ricezione del modulo di registrazione. Si consiglia pertanto di effettuare una preiscrizione telefonica. \nModalità di pagamento \nLa quota di partecipazione deve essere versata all’atto della presentazione della richiesta di iscrizione e\, in ogni caso\, prima dell’effettuazione dell’evento formativo\, tramite bonifico bancario intestato a: \nParadigma Srl – Corso Vittorio Emanuele II\, 68 – 10121 Torino\nc/o Banco BPM Spa\nIBAN IT 14 V 05034 01017 000000002530 \nFormazione finanziata \nLa quota di partecipazione può essere completamente rimborsata tramite voucher promossi dai Fondi Paritetici Interprofessionali. Paradigma offre la completa e gratuita gestione delle spese di progettazione\, monitoraggio e rendicontazione. La possibilità di accedere alla formazione finanziata con partecipazione mediante videoconferenza può variare a seconda dell’Ente erogante. \nAttestato di frequenza \nL’attestato di partecipazione nominativo sarà inviato al termine dell’evento formativo ai partecipanti che si sono regolarmente collegati all’aula virtuale. \nDiritto di recesso e modalità di disdetta \nÈ attribuita ai partecipanti la facoltà di recedere ai sensi dell’art. 1373 c.c. Il recesso dovrà essere comunicato in forma scritta almeno sette giorni prima della data di inizio dell’evento formativo (escluso il sabato e la domenica). Qualora la disdetta pervenga oltre tale termine o si verifichi di fatto con il mancato collegamento alla videoconferenza\, la quota di partecipazione sarà addebitata per intero e sarà inviato al partecipante il materiale didattico. In qualunque momento l’azienda o lo studio potranno comunque sostituire il partecipante\, comunicando il nuovo nominativo alla nostra Segreteria organizzativa. \nVariazioni di programma \nParadigma\, per ragioni eccezionali e imprevedibili\, si riserva di annullare o modificare la data dell’evento formativo\, dandone comunicazione agli interessati entro tre giorni dalla data di inizio prevista. In tali casi le quote di partecipazione pervenute verranno rimborsate\, con esclusione di qualsivoglia onere o obbligo a carico di Paradigma. Paradigma si riserva inoltre\, per ragioni sopravvenute e per cause di forza maggiore\, di modificare l’articolazione del programma e di sostituire i docenti previsti con altri docenti di pari livello professionale. \nPer ulteriori informazioni è possibile contattare la Segreteria organizzativa al numero 011.538686 o all’indirizzo e-mail info@paradigma.it. \n\n\n		\n	\n\n\n	\n		\n			Quota di partecipazione\n	\n		\n			€ 1.100 + Iva\n\n		\n	\n\n	\n		\n			In caso di videoconferenza con accessi multipli è necessario contattare la Segreteria organizzativa per un preventivo personalizzato. \n\n		\n	\n\n\n		\n	\n\n	\n		\n			\n\n\n\n\n\n\n	\n		\n			Early booking -20%\nInviando il modulo di iscrizione entro il 29 settembre si avrà diritto a una riduzione del 20% sulla quota di partecipazione.\n \n\n		\n	\n\n\n\n		\n	\n\n	\n		\n			\n\n		\n	\n\n	\n		\n			\n\n		\n	\n\n	\n		\n			\n\n\n\n\n\n\n	\n		\n			Progetto Giovani Eccellenze -50%\nL’adesione all’evento formativo permette di iscrivere una seconda risorsa\, che non abbia compiuto il 30° anno di età e proveniente dalla stessa organizzazione\, con una riduzione del 50% sulla seconda quota di partecipazione. L’agevolazione è calcolata sulla quota ordinaria. \n\n		\n	\n\n\n\n		\n	\n\n	\n		\n			\n\n\n\n\n\n\n	\n		\n			Formazione finanziata\nLa quota di partecipazione all’iniziativa può essere completamente rimborsata tramite voucher promossi dai Fondi Paritetici Interprofessionali. Paradigma offre la completa e gratuita gestione delle spese di progettazione\, monitoraggio e rendiconto. \n\n		\n	\n\n\n\n		\n	\n\n	\n		\n			\n\n\n\n\n\n\n	\n		\n			Mercati elettronici della PA\nParadigma opera sul MePA e sui principali mercati elettronici di soggetti aggregatori e centrali di committenza. \n\n		\n	\n\n\n\n		\n	\n\n	\n		\n			\n	\n\n\n	I campi con (*) sono obbligatori\n	\n		\n		Dati relativi all'evento\n		\n		\n			Partecipazione in aula\n			Partecipazione in videoconferenza\n		\n		\n\n		Dati relativi al richiedente\n		\n		\n		\n		\n		\n		\n		\n		\n\n	\n\n	\n\n		Dati per eventuale partecipante under 30\n		\n		\n		\n\n	\n\n	\n\n		Dati per la fatturazione elettronica\n		\n		\n		\n		\n		\n		\n				\n		\n		\n		  Split Payment:\n          \n            \n              \n              Si \n            No\n          \n        \n		\n		\n		\n		\n	\n\n	\n\n		Per informazioni contattare\n		\n		\n		\n		\n		\n	\n	L'iscrizione all'evento formativo si intende perfezionata al momento del ricevimento\, da parte di Paradigma Srl\, del presente modulo di registrazione compilato in ogni sua parte\, stampato\, firmato e inviato via e-mail all'indirizzo info@paradigma.it. Riceverete via email conferma dell'avvenuta iscrizione. \n\n\n		\n	     Acconsento all'invio di comunicazioni sui servizi Paradigma Srl - Consenso finalizzato\, anche con modalità automatizzate\, all'invio di comunicazioni relative a prodotti e servizi di Paradigma Srl e al fine di ricevere materiale informativo o promozionale.\n	\n	     Acconsento alla personalizzazione delle offerte - Consenso finalizzato\, mediante modalità automatizzate\, a personalizzare i servizi forniti e meglio indirizzare le proposte promozionali grazie ad attività di profilazione.\n	\n	Inviando i dati autorizzi Paradigma Srl a utilizzare i tuoi dati personali per evadere la richiesta di partecipazione all’evento formativo e svolgere le attività a ciò connesse. I dati potranno essere trattati\, per conto di Paradigma Srl\, da dipendenti e collaboratori incaricati di svolgere specifici servizi necessari all’esecuzione delle tue richieste. Il conferimento dei tuoi dati\, pur essendo facoltativo\, si rende necessario per l’esecuzione del servizio richiesto.	\n\n\n\n\n		\n\n\n\n\n\n		\n	\n[/vc_column][/vc_row]
URL:https://paradigma.it/iniziativa/la-governance-della-sostenibilita/
CATEGORIES:Governance e Diritto Societario
ORGANIZER;CN="Veronica%20Spiez":MAILTO:vspiez@paradigma.it
END:VEVENT
END:VCALENDAR