BEGIN:VCALENDAR
VERSION:2.0
PRODID:-//Paradigma srl - ECPv5.2.1//NONSGML v1.0//EN
CALSCALE:GREGORIAN
METHOD:PUBLISH
X-WR-CALNAME:Paradigma srl
X-ORIGINAL-URL:https://paradigma.it
X-WR-CALDESC:Eventi per Paradigma srl
BEGIN:VTIMEZONE
TZID:Europe/Rome
BEGIN:DAYLIGHT
TZOFFSETFROM:+0100
TZOFFSETTO:+0200
TZNAME:CEST
DTSTART:20260329T010000
END:DAYLIGHT
BEGIN:STANDARD
TZOFFSETFROM:+0200
TZOFFSETTO:+0100
TZNAME:CET
DTSTART:20261025T010000
END:STANDARD
END:VTIMEZONE
BEGIN:VEVENT
DTSTART;TZID=Europe/Rome:20260409T100000
DTEND;TZID=Europe/Rome:20260409T123000
DTSTAMP:20260421T125937
CREATED:20260127T164249Z
LAST-MODIFIED:20260407T104347Z
UID:26765-1775728800-1775737800@paradigma.it
SUMMARY:La governance dei dati  nei sistemi di Intelligenza Artificiale
DESCRIPTION:[vc_row][vc_column]\n	\n		\n			\n		\n	\n\n	\n		\n			Adempimenti a carico di fornitori e deployer \n \n\n		\n	\n\n	\n		\n			10.00 – 12.30 \n\n		\n	\n\n	\n		\n			Evento in diretta streaming \n\n		\n	\n\n	\n		\n			 \n\n		\n	\n\n	\n		\n			\n\n		\n	\nPresentazioneProgrammaDocentiBrochureIscrizioni e CondizioniPresentazione\n	\n		\n			Contenuti dell’evento \nDopo un inquadramento iniziale orientato ai risultati attesi per l’organizzazione\, il webinar affronta la mappatura pratica del perimetro e delle responsabilità tra le parti\, per poi concentrarsi sull’articolo 10 dell’AI Act\, approfondendo i requisiti relativi ai dataset utilizzati per addestramento\, validazione e test\, nonché le misure richieste per garantire qualità\, adeguatezza\, tracciabilità e controllo dei rischi\, inclusi i profili di rappresentatività e mitigazione dei bias. \nLa sessione prosegue con il focus sugli obblighi del deployer connessi alla gestione dei dati “in esercizio”\, secondo l’articolo 26\, con attenzione alla governance degli input data\, all’uso conforme alle istruzioni del fornitore\, alla tenuta dei log e ai flussi organizzativi di segnalazione e cooperazione in caso di anomalie o incidenti. \nInfine\, viene analizzato il nucleo degli obblighi del fornitore che incidono direttamente sulla data governance\, in particolare per quanto riguarda il sistema di gestione della qualità\, la documentazione tecnica e le informazioni da rendere disponibili al deployer\, i requisiti di record-keeping e logging\, nonché i profili di accuratezza\, robustezza e cybersicurezza che influenzano la progettazione e la gestione delle pipeline dati. \nDestinatari dell’evento \nIl webinar è rivolto alle imprese che sviluppano o commercializzano soluzioni di IA e modelli (fornitori\, vendor\, system integrator\, software house\, società di consulenza tecnologica)\, nonché alle organizzazioni che adottano tali soluzioni come clienti o utilizzatori professionali (deployer). \nTra le figure interessate al workshop rientrano le seguenti: Responsabili Affari Legali e Affari Societari\, Privacy e Data Protection (DPO e team privacy)\, Responsabili Compliance e Risk Management\, Procurement e Vendor Management\, IT e Cybersecurity (CIO\, CISO e team security)\, nonché Responsabili Internal Audit e Quality/Process Management nelle organizzazioni strutturate. \nObiettivi dell’evento \nL’obiettivo dell’incontro è fornire un metodo operativo per definire ruoli\, responsabilità e controlli in materia di dati\, costruendo una base di governance utilizzabile sia in fase di progettazione e procurement sia nella gestione continuativa dei sistemi\, con particolare attenzione ai casi in cui l’impiego dell’IA presenta impatti rilevanti su processi\, persone e decisioni aziendali. \n\n\n		\n	\nProgramma\n	\n		\n			Giovedì 9 aprile 2026\n(10.00 – 12.30) \nLa mappatura ruoli e il perimetro di attività tra provider e deployer\nQuando la “data governance” diventa requisito di compliance\nLa qualificazione del sistema e del ruolo in filiera (provider/deployer e supply chain)\nIl riparto di attività data-related: dataset\, input data\, log\, incidenti\, aggiornamenti\nQuando scattano gli obblighi per i sistemi di IA ad alto rischio \nArticolo 10 AI Act: data e data governance per training/validation/test\nI requisiti di governance sui dataset: provenienza\, raccolta\, preparazione\, qualità e controlli su errori/gap\nLe misure anti-bias e rappresentatività: criteri pratici di valutazione e documentazione delle scelte\nData lineage e tracciabilità: come dimostrare “cosa è entrato” nel modello e “perché” (evidenze minime)\nGli allegati operativi: data sheet / dataset register\, criteri di accettazione dei dati\, change log dei dataset\nGli impatti GDPR e la governance dei dati personali sensibili \nGli obblighi del deployer (art. 26) applicati alla gestione dei dati “in esercizio”\nGovernance degli input data: qualità\, adeguatezza rispetto all’uso previsto e controlli prima dell’immissione nel sistema\nUso conforme alle istruzioni: presìdi organizzativi\, competenze\, human oversight e monitoraggio operativo\nLog e conservazione: responsabilità su generazione\, custodia e disponibilità dei log (incl. durata minima per obblighi del deployer)\nFlussi di segnalazione: gestione anomalie/incidenti e comunicazioni verso provider/autorità (impostazione procedurale) \nGli obblighi del provider che “impattano” la data governance\nQuality management e responsabilità di conformità complessiva (art. 16)\nTechnical documentation e istruzioni: cosa deve essere consegnato al deployer per rendere governabile il dato e l’uso (artt. 11 e 13)\nRecord-keeping e log: requisiti e progettazione “audit-ready” (art. 12)\nAccuratezza\, robustezza e cybersecurity: requisiti che incidono su dati\, pipeline e controlli (art. 15) \n  \nAvv. Alessandro Del Ninno\nFIVERS Studio Legale e Tributario \n\n\n		\n	\nDocenti\n	\n		\n			Avv. Alessandro del Ninno \nDocente a contratto per l’insegnamento ufficiale di Intelligenza Artificiale\, Machine Learning e Diritto.  \nAvvocato del Foro di Roma – Partner dello Studio Legale e Tributario FIVERS. \nAppointed member del Pool of Experts europei di supporto e consulenza al Comitato europeo per la protezione dei dati personali. \nPresidente del Comitato Scientifico dell’Associazione Nazionale per la protezione dei dati personali. \nMembro e Vicepresidente del Comitato Scientifico dell’Istituto Italiano Privacy. \nRelatore nell’ambito dei più importanti convegni nazionali e internazionali ove viene frequentemente invitato in qualità di esperto su tematiche legate all’Information & Communication Technology\, all’IP e alla Data Protection. \nNelle stesse materie è autore di oltre 150 tra libri\, trattati\, monografie\, saggi e articoli. \nPer Key Editore è Direttore delle due collane editoriali “GDPR: casi pratici risolti” e “Le Leggi del Decennio Digitale 2020-2030 della UE – I commentari pratici”. \n\n\n		\n	\nBrochure\n	\n		\n			 Scarica la brochure\n\n		\n	\nIscrizioni e Condizioni\n	\n		\n			Quota di partecipazione \nLa quota di partecipazione in diretta streaming include la fruizione degli interventi\, nonché la possibilità di scaricare\, in formato elettronico\, il materiale didattico che i relatori riterranno di mettere a disposizione. \nÈ inoltre prevista la possibilità di rivolgere contestualmente domande ai docenti (attivando il proprio microfono o tramite chat)\, oppure sottoporle in via preventiva\, inviando una e-mail a info@paradigma.it entro il giorno antecedente l’evento. \nIn caso di diretta streaming con accessi multipli è necessario contattare la Segreteria Organizzativa per un preventivo personalizzato. \nModalità di funzionamento della diretta streaming \nLe iniziative formative sono fruibili in diretta streaming attraverso un semplice collegamento alla piattaforma dedicata. La piattaforma è strutturata per garantire un ottimo livello di fruizione e interazione e non necessita di particolari requisiti tecnici. \nAlcuni giorni prima dell’evento il partecipante riceve le istruzioni di accesso e sarà sufficiente selezionare il link ricevuto per accedere all’aula virtuale. \nGli interventi in diretta streaming sono supportati dalle slide predisposte dal docente. Ogni utente collegato potrà intervenire formulando domande o richieste di approfondimento attivando il proprio microfono o utilizzando la chat dedicata. \nModalità di iscrizione \nL’iscrizione si perfeziona al momento del ricevimento del modulo di registrazione\, da inviare via e-mail all’indirizzo info@paradigma.it\, integralmente compilato e sottoscritto. Il numero dei collegamenti disponibili è limitato e la priorità d’iscrizione è determinata dalla data di ricezione del modulo di registrazione. Si consiglia pertanto di effettuare una preiscrizione telefonica. \nModalità di pagamento \nLa quota di partecipazione deve essere versata all’atto della presentazione della richiesta di iscrizione e\, in ogni caso\, prima dell’effettuazione dell’evento formativo\, tramite bonifico bancario intestato a: \nParadigma Srl – Corso Vittorio Emanuele II\, 68 – 10121 Torino\nc/o Banco BPM Spa\nIBAN IT 14 V 05034 01017 000000002530 \nFormazione finanziata \nLa quota di partecipazione può essere completamente rimborsata tramite voucher promossi dai Fondi Paritetici Interprofessionali. Paradigma offre la completa e gratuita gestione delle spese di progettazione\, monitoraggio e rendicontazione. La possibilità di accedere alla formazione finanziata con partecipazione mediante diretta streaming può variare a seconda dell’Ente erogante. \nAttestato di frequenza \nL’attestato di partecipazione nominativo sarà inviato al termine dell’evento formativo ai partecipanti che si sono regolarmente collegati all’aula virtuale. \nDiritto di recesso e modalità di disdetta \nÈ attribuita ai partecipanti la facoltà di recedere ai sensi dell’art. 1373 c.c. Il recesso dovrà essere comunicato in forma scritta almeno sette giorni prima della data di inizio dell’evento formativo (escluso il sabato e la domenica). Qualora la disdetta pervenga oltre tale termine o si verifichi di fatto con il mancato collegamento alla diretta streaming\, la quota di partecipazione sarà addebitata per intero e sarà inviato al partecipante il materiale didattico e\, se disponibile e per un periodo limitato\, la registrazione dell’evento. In qualunque momento l’azienda o lo studio potranno comunque sostituire il partecipante\, comunicando il nuovo nominativo alla nostra Segreteria Organizzativa. \nVariazioni di programma \nParadigma\, per ragioni eccezionali e imprevedibili\, si riserva di annullare o modificare la data dell’evento formativo\, dandone comunicazione agli interessati entro tre giorni dalla data di inizio prevista. In tali casi le quote di partecipazione pervenute verranno rimborsate\, con esclusione di qualsivoglia onere o obbligo a carico di Paradigma. Paradigma si riserva inoltre\, per ragioni sopravvenute e per cause di forza maggiore\, di modificare l’articolazione del programma e di sostituire i docenti previsti con altri docenti di pari livello professionale. \nPer ulteriori informazioni è possibile contattare la Segreteria Organizzativa al numero 011.538686 o all’indirizzo e-mail info@paradigma.it. \n\n\n		\n	\n\n\n	\n		\n			Quota di partecipazione\n	\n		\n			€ 300 + Iva\n\n		\n	\n\n	\n		\n			In caso di videoconferenza con accessi multipli è necessario contattare la Segreteria organizzativa per un preventivo personalizzato. \n\n		\n	\n\n\n		\n	\n\n	\n		\n			\n\n\n\n\n\n\n	\n		\n			Early booking -20%\nInviando il modulo di iscrizione entro il 19 marzo si avrà diritto a una riduzione del 20% sulla quota di partecipazione. \n\n		\n	\n\n\n\n		\n	\n\n	\n		\n			\n\n\n\n\n\n\n	\n		\n			Quota corporate\nIscrivi all’evento 5 o più risorse provenienti dalla stessa organizzazione con una riduzione del 50%. \n\n		\n	\n\n\n\n		\n	\n\n	\n		\n			\n\n		\n	\n\n	\n		\n			\n\n\n\n\n\n\n	\n		\n			Progetto Giovani Eccellenze -50%\nL’adesione all’evento formativo permette di iscrivere una seconda risorsa\, che non abbia compiuto il 30° anno di età e proveniente dalla stessa organizzazione\, con una riduzione del 50% sulla seconda quota di partecipazione. L’agevolazione è calcolata sulla quota ordinaria. \n\n		\n	\n\n\n\n		\n	\n\n	\n		\n			\n\n\n\n\n\n\n	\n		\n			Formazione finanziata\nLa quota di partecipazione all’iniziativa può essere completamente rimborsata tramite voucher promossi dai Fondi Paritetici Interprofessionali. Paradigma offre la completa e gratuita gestione delle spese di progettazione\, monitoraggio e rendiconto. \n\n		\n	\n\n\n\n		\n	\n\n	\n		\n			\n\n\n\n\n\n\n	\n		\n			Mercati elettronici della PA\nParadigma opera sul MePA e sui principali mercati elettronici di soggetti aggregatori e centrali di committenza. \n\n		\n	\n\n\n\n		\n	\n\n	\n		\n			\n	\n\n\n	I campi con (*) sono obbligatori\n	\n		\n		Dati relativi all'evento\n		\n		\n			Partecipazione in aula\n			Partecipazione in videoconferenza\n		\n		\n\n		Dati relativi al richiedente\n		\n		\n		\n		\n		\n		\n		\n		\n\n	\n\n	\n\n		Dati per eventuale partecipante under 30\n		\n		\n		\n\n	\n\n	\n\n		Dati per la fatturazione elettronica\n		\n		\n		\n		\n		\n		\n				\n		\n		\n		  Split Payment:\n          \n            \n              \n              Si \n            No\n          \n        \n		\n		\n		\n		\n	\n\n	\n\n		Per informazioni contattare\n		\n		\n		\n		\n		\n	\n	L'iscrizione all'evento formativo si intende perfezionata al momento del ricevimento\, da parte di Paradigma Srl\, del presente modulo di registrazione compilato in ogni sua parte\, stampato\, firmato e inviato via e-mail all'indirizzo info@paradigma.it. Riceverete via email conferma dell'avvenuta iscrizione. \n\n\n		\n	     Acconsento all'invio di comunicazioni sui servizi Paradigma Srl - Consenso finalizzato\, anche con modalità automatizzate\, all'invio di comunicazioni relative a prodotti e servizi di Paradigma Srl e al fine di ricevere materiale informativo o promozionale.\n	\n	     Acconsento alla personalizzazione delle offerte - Consenso finalizzato\, mediante modalità automatizzate\, a personalizzare i servizi forniti e meglio indirizzare le proposte promozionali grazie ad attività di profilazione.\n	\n	Inviando i dati autorizzi Paradigma Srl a utilizzare i tuoi dati personali per evadere la richiesta di partecipazione all’evento formativo e svolgere le attività a ciò connesse. I dati potranno essere trattati\, per conto di Paradigma Srl\, da dipendenti e collaboratori incaricati di svolgere specifici servizi necessari all’esecuzione delle tue richieste. Il conferimento dei tuoi dati\, pur essendo facoltativo\, si rende necessario per l’esecuzione del servizio richiesto.	\n\n\n\n\n		\n\n\n\n\n\n		\n	\n[/vc_column][/vc_row]
URL:https://paradigma.it/iniziativa/la-governance-dei-dati-nei-sistemi-di-intelligenza-artificiale/
CATEGORIES:Digitalizzazione
END:VEVENT
END:VCALENDAR