BEGIN:VCALENDAR
VERSION:2.0
PRODID:-//Paradigma srl - ECPv5.2.1//NONSGML v1.0//EN
CALSCALE:GREGORIAN
METHOD:PUBLISH
X-WR-CALNAME:Paradigma srl
X-ORIGINAL-URL:https://paradigma.it
X-WR-CALDESC:Eventi per Paradigma srl
BEGIN:VTIMEZONE
TZID:Europe/Rome
BEGIN:DAYLIGHT
TZOFFSETFROM:+0100
TZOFFSETTO:+0200
TZNAME:CEST
DTSTART:20250330T010000
END:DAYLIGHT
BEGIN:STANDARD
TZOFFSETFROM:+0200
TZOFFSETTO:+0100
TZNAME:CET
DTSTART:20251026T010000
END:STANDARD
END:VTIMEZONE
BEGIN:VEVENT
DTSTART;TZID=Europe/Rome:20250618T093000
DTEND;TZID=Europe/Rome:20250619T180000
DTSTAMP:20260421T130446
CREATED:20250519T070433Z
LAST-MODIFIED:20250616T082853Z
UID:22925-1750239000-1750356000@paradigma.it
SUMMARY:La gestione preventiva  del rischio fiscale  e il TCF certificato
DESCRIPTION:[vc_row][vc_column]\n	\n		\n			\n		\n	\n\n	\n		\n			Implementazione del sistema di rilevazione\, misurazione\, gestione e controllo (TCF) \nContenuti e modalità di redazione del TCM\nCertificazione e attestazione del sistema\nCompilazione della mappa dei rischi e dei controlli fiscali \nLinee Guida AdE (Provvedimento AdE n. 5320/2025) \n \n\n		\n	\n\n	\n		\n			09.30 - 13.30  14.30 - 18.00 \n\n		\n	\n\n	\n		\n			Evento in diretta streaming \n\n		\n	\n\n	\n		\n			 \n\n		\n	\n\n	\n		\n			\n\n		\n	\nPresentazioneProgrammaDocentiBrochureIscrizioni e CondizioniPresentazione\n	\n		\n			Contenuti dell’evento \nNel corso dell’evento saranno approfondite le principali tematiche connesse alla gestione del rischio fiscale e alla tax compliance\, alla luce delle disposizioni in tema di adempimento collaborativo introdotte dal D. Lgs. n. 221/2023\, dai relativi provvedimenti attuativi e delle nuove Linee Guida AdE (Provvedimento AdE n. 5320/2025). \nSaranno analizzate le metodologie di mappatura dei processi sensibili\, di valutazione dei rischi fiscali e di implementazione del sistema di controllo e di presidio degli stessi\, con l’apporto di esperienze\, soluzioni operative e best practice. Saranno definiti gli aspetti più problematici\, le modalità applicative e gli strumenti a supporto\, incluse le soluzioni informatiche. \nSaranno inoltre approfondite le aree di criticità nella gestione del rischio fiscale\, proponendo soluzioni operative per la definizione e l’implementazione di specifici presidi. \nDestinatari dell’evento \nL’evento formativo è rivolto ai CFO\, ai Direttori Amministrativi\, ai Responsabili dei Servizi Fiscali\, ai Responsabili dell’Internal Audit e della Compliance\, ai Risk Manager\, nonché a commercialisti e revisori contabili. \nObiettivi dell’evento \nObiettivo dell’incontro è fornire ai partecipanti un quadro dettagliato e completo sui processi di gestione del rischio fiscale\, attraverso l’analisi di casi concreti ed esperienze operative. \n\n\n		\n	\nProgramma\n	\n		\n			Prima giornata\nMercoledì 18 giugno 2025 \nQUADRO NORMATIVO DI RIFERIMENTO E REGIME DI ADEMPIMENTO COLLABORATIVO \nIl quadro normativo di riferimento del regime di adempimento collaborativo\nLegge n. 111/2023 e decreti attuativi (D. Lgs. n. 221/2023\, D. Lgs. n. 108/2024)\nLe Guidelines OCSE\nLe Linee Guida AdE (Provvedimento AdE n. 5320/2025)\nI Decreti “Certificazione” e “Attestazione” del Tax Control Framework\nIl Tax Control Framework opzionale\nDott. Luca Miele\nStudio Tributario e Societario Deloitte \n  \nPREDISPOSIZIONE E IMPLEMENTAZIONE DEL TAX CONTROL FRAMEWORK (TCF) \nL’integrazione del Tax Control Framework nel sistema di controllo interno e la definizione degli obiettivi di gestione della variabile fiscale \nL’assetto del corpus normativo interno (codice etico\, policies\, governance\, ecc.)\nI pilastri del TCF\nL’adozione del documento di Strategia Fiscale\nElementi di integrazione del TCF nel Sistema di controllo interno: informativa finanziaria\, Modello 231/2001\, ERM\, ecc.\nFlussi informativi per realizzare l’integrazione\nDott.ssa Benedetta Crimi\nPwC TLS Avvocati e Commercialisti \nLa governance del sistema di controllo e il modello di governance della tax compliance c.d. “a tre linee di controllo”\nLa definizione del ruolo e delle responsabilità dei soggetti coinvolti nella gestione del processo di risk management\nIl modello di governance “a tre linee di controllo” e la gestione dei flussi informativi\nDott.ssa Benedetta Crimi\nPwC TLS Avvocati e Commercialisti \nL’implementazione e la manutenzione del TCF: il tax risk assessment e il monitoraggio dei presidi di controllo\nLe principali attività nell’ambito del Tax Risk Assessment\nI rischi fiscali di adempimento e i rischi fiscali interpretativi\nL’integrazione di adeguati controlli in materia di informativa finanziaria-contabile\nL’istituzione della funzione di “Tax Risk Management”\nL’attività del monitoraggio del sistema di controllo interno (testing)\nTest of Design (ToD) e Test of Effectiveness (ToE)\nIl giudizio sull’efficacia del sistema di controllo interno\nDott.ssa Martina Ranzi\nNovartis Farma \n  \nIL MODELLO DI TAX CONTROL FRAMEWORK IDONEO PER LA CERTIFICAZIONE \nIl set documentale del TCF standardizzato in base alle Linee Guida\nContenuto “minimo” del Tax Compliance Model e relativi allegati\nElementi di personalizzazione del TCM in base al settore/maturità del sistema di controllo interno\nGli standard internazionali di riferimento\nLa Mappa rischi e controlli fiscali (e contabili)\nDott.ssa Elena Barbiani\nStudio Tributario e Societario Deloitte \nLa descrizione dei compiti e delle responsabilità in ambito TCF e il ruolo del Tax Risk Manager\nI flussi informativi verso gli Organi di governo\nIl ruolo delle Funzioni operative\nIl ruolo della Funzione fiscale e le interrelazioni esistenti in ambito TCF\nFunzione Tax Risk Management: il secondo livello di controllo nella prassi operativa delle società già ammesse al regime\nLa Funzione Audit e il terzo livello di difesa\nAltre funzioni di gestione rischi e compliance\, Organismi e Comitati\nSoggetti esterni\nDott.ssa Ambra Galioto\nUnipol Assicurazioni \n  \nSeconda giornata\nGiovedì 19 giugno 2025 \nLe modalità di interlocuzione e contraddittorio con l’Ufficio Adempimento Collaborativo: la gestione del rischio interpretativo\nLe comunicazioni di rischio\nL’interlocutore unico\nIl contraddittorio preventivo\nLe modalità operative di attuazione della Linea Guida sul rischio interpretativo\nLa soglia di materialità e la valutazione dell’incertezza\nEsempi di interlocuzione preventiva\nDott.ssa Lia Giusi Reitano\nStudio Tributario e Societario Deloitte \nLe soluzioni informatiche a supporto del Tax Risk Management e della Tax Compliance\nLe soluzioni tecnologiche per la gestione del Tax Control Framework\nLa pianificazione e lo svolgimento dei processi di tax risk assessment e monitoraggio: come semplificare l’interazione con le strutture aziendali e facilitare i flussi informativi\nLa gestione dei pareri e dell’attività di consulenza fiscale a supporto delle funzioni aziendali\nLe soluzioni IT a supporto della Tax Compliance\nDott. Stefano Zambelli\nStudio Tributario e Societario Deloitte\nDott.ssa Beatrice Cassinari\nStudio Tributario e Societario Deloitte\n \nRiflessioni di carattere sistematico sul nuovo regime di adempimento collaborativo\nAccertamento consensuale e similitudini con accertamento con adesione\nLa definizione del reddito in via preventiva\nLa nuova disciplina premiale riguardante la non applicazione delle sanzioni\nIl Codice di condotta di cui al DM 29/4/2024\nProf. Alessandro Vicini Ronchetti\nUniversità di Torino \n  \nL’IMPLEMENTAZIONE DEI PRESIDI PER LE PRINCIPALI AREE DI RISCHIO ALLA LUCE DELLE LINEE GUIDA ADE \nImposte dirette\nRischio fiscale\nRischio inerente e rischio residuo\nMatrice rischi e controlli\n• Presidi per le aree di rischio\n• Presidi nel campo delle ritenute\n• Presidi nel campo della determinazione della base imponibile/imposta\n• Il caso del disallineamento da ibridi (Decreto 6 dicembre 2024)\nIl rafforzamento periodico dei presidi\nDott. Giuseppe Nicosia\nSnam \nIVA e imposte indirette\nGli impatti nei processi ciclo passivo\, ciclo attivo e negli adempimenti IVA: i rischi puntuali individuati dall’Agenzia delle Entrate nelle Linee Guida\nLe caratteristiche e la struttura dei controlli a presidio del rischio\nEsempi di controlli IVA\nDott. Rosario Farina\nANORC Professioni \nOsservatorio Fatturazione Elettronica & eCommerce B2B\nSchool of Management Politecnico di Milano \nFiscalità internazionale e Transfer Pricing\nDott. Aaron Meneghin\nValentino\nDott. Simone Passante\nValentino \n  \nCERTIFICAZIONE E ATTESTAZIONE DEL SISTEMA DI CONTROLLO \nLa certificazione di idoneità e di efficacia operativa del sistema di rilevazione\, misurazione\, gestione e controllo del rischio fiscale (TCF)\nResponsabilità e requisiti dei professionisti\nContenuto della certificazione e relativo aggiornamento\nLa check-list per le verifiche “Company level” e “Activity level”\nIl TCF di Gruppo\nVerifiche “Company level”\nVerifiche “Activity level”\nLa selezione dei processi da testare\nLe fasi operative di ToD e ToE\nIl coordinamento con le attività di istruttoria dell’Agenzia delle Entrate\nDott. Marco Lio\nPwC TLS Avvocati e Commercialisti \n\n\n		\n	\nDocenti\n	\n		\n			Dott.ssa Elena Barbiani\nDirector – Tax Management Consulting\nStudio Tributario e Societario Deloitte \nDott.ssa Beatrice Cassinari\nPartner\nStudio Tributario e Societario Deloitte \nDott.ssa Benedetta Crimi\nSenior Manager\nPwC TLS Avvocati e Commercialisti \nDott. Rosario Farina\nChief Digital Officer e Componente Comitato Scientifico\nANORC Professioni\nComponente Advisory Board\nOsservatorio Fatturazione Elettronica & eCommerce B2B\nSchool of Management Politecnico di Milano \nDott.ssa Ambra Galioto\nTax Risk Officer\nUnipol Assicurazioni \nDott. Marco Lio\nPartner\nPwC TLS Avvocati e Commercialisti \nDott. Aaron Meneghin\nHead of Group Tax\nValentino \nDott. Luca Miele\nOf Counsel\nStudio Tributario e Societario Deloitte \nDott. Giuseppe Nicosia\nTax Director\nSnam \nDott. Simone Passante\nValentino \nDott.ssa Martina Ranzi\nTax Risk Manager\nNovartis Farma \nDott.ssa Lia Giusi Reitano\nOf Counsel\nStudio Tributario e Societario Deloitte \nProf. Alessandro Vicini Ronchetti\nAssociato di Diritto Tributario\nUniversità di Torino \nDott. Stefano Zambelli\nEquity Partner\nStudio Tributario e Societario Deloitte \n\n\n		\n	\nBrochure\n	\n		\n			 Scarica la brochure\n\n		\n	\nIscrizioni e Condizioni\n	\n		\n			Quota di partecipazione \nLa quota di partecipazione in aula virtuale (diretta streaming) include la fruizione in diretta delle docenze\, nonché l’invio\, in formato elettronico\, del materiale didattico che i relatori riterranno di mettere a disposizione. È inoltre prevista la possibilità di presentare in diretta domande e quesiti di specifico interesse a mezzo chat\, nonché di sottoporli in via preventiva\, inviando una email a info@paradigma.it entro il giorno antecedente l’evento. \nIn caso di videoconferenza con accessi multipli è necessario contattare la Segreteria organizzativa per un preventivo personalizzato. \nModalità di funzionamento della videoconferenza \nE’ possibile accedere all’aula virtuale da qualsiasi luogo\, utilizzando il proprio PC o tablet con una semplice connessione a Internet. La piattaforma informatica utilizzata da Paradigma (Adobe Connect) non necessita di requisiti tecnici particolari. \nNei giorni antecedenti l’evento il partecipante riceverà per posta elettronica le credenziali e le istruzioni di accesso. Il giorno dell’evento sarà sufficiente selezionare il link che troverà nella mail e inserire le credenziali per accedere all’aula virtuale. \nDurante gli interventi\, oltre a vedere e sentire i docenti\, è possibile consultare simultaneamente la documentazione predisposta dal relatore. Ogni utente collegato potrà porre domande sulle tematiche affrontate a mezzo chat\, alle quali il docente risponderà nel corso dell’intervento. \nModalità di iscrizione \nL’iscrizione si perfeziona al momento del ricevimento del modulo di registrazione\, da inviare via e-mail all’indirizzo info@paradigma.it\, integralmente compilato. Il numero dei collegamenti disponibili è limitato e la priorità d’iscrizione è determinata dalla data di ricezione del modulo di registrazione. Si consiglia pertanto di effettuare una preiscrizione telefonica. \nModalità di pagamento \nLa quota di partecipazione deve essere versata all’atto della presentazione della richiesta di iscrizione e\, in ogni caso\, prima dell’effettuazione dell’evento formativo\, tramite bonifico bancario intestato a: \nParadigma Srl – Corso Vittorio Emanuele II\, 68 – 10121 Torino\nc/o Banco BPM Spa\nIBAN IT 14 V 05034 01017 000000002530 \nFormazione finanziata \nLa quota di partecipazione può essere completamente rimborsata tramite voucher promossi dai Fondi Paritetici Interprofessionali. Paradigma offre la completa e gratuita gestione delle spese di progettazione\, monitoraggio e rendicontazione. La possibilità di accedere alla formazione finanziata con partecipazione mediante videoconferenza può variare a seconda dell’Ente erogante. \nAttestato di frequenza \nL’attestato di partecipazione nominativo sarà inviato al termine dell’evento formativo ai partecipanti che si sono regolarmente collegati all’aula virtuale. \nDiritto di recesso e modalità di disdetta \nÈ attribuita ai partecipanti la facoltà di recedere ai sensi dell’art. 1373 c.c. Il recesso dovrà essere comunicato in forma scritta almeno sette giorni prima della data di inizio dell’evento formativo (escluso il sabato e la domenica). Qualora la disdetta pervenga oltre tale termine o si verifichi di fatto con il mancato collegamento alla videoconferenza\, la quota di partecipazione sarà addebitata per intero e sarà inviato al partecipante il materiale didattico. In qualunque momento l’azienda o lo studio potranno comunque sostituire il partecipante\, comunicando il nuovo nominativo alla nostra Segreteria organizzativa. \nVariazioni di programma \nParadigma\, per ragioni eccezionali e imprevedibili\, si riserva di annullare o modificare la data dell’evento formativo\, dandone comunicazione agli interessati entro tre giorni dalla data di inizio prevista. In tali casi le quote di partecipazione pervenute verranno rimborsate\, con esclusione di qualsivoglia onere o obbligo a carico di Paradigma. Paradigma si riserva inoltre\, per ragioni sopravvenute e per cause di forza maggiore\, di modificare l’articolazione del programma e di sostituire i docenti previsti con altri docenti di pari livello professionale. \nPer ulteriori informazioni è possibile contattare la Segreteria organizzativa al numero 011.538686 o all’indirizzo e-mail info@paradigma.it. \n\n\n		\n	\n\n\n	\n		\n			Quota di partecipazione\n	\n		\n			€ 1.100 + Iva una giornata€ 2.050 + Iva due giornate\n\n		\n	\n\n	\n		\n			In caso di videoconferenza con accessi multipli è necessario contattare la Segreteria organizzativa per un preventivo personalizzato. \n\n		\n	\n\n\n		\n	\n\n	\n		\n			\n\n\n\n\n\n\n	\n		\n			Early booking -20%\nInviando il modulo di iscrizione entro il 28 maggio si avrà diritto a una riduzione del 20% sulla quota di partecipazione. \n\n		\n	\n\n\n\n		\n	\n\n	\n		\n			\n\n		\n	\n\n	\n		\n			\n\n		\n	\n\n	\n		\n			\n\n\n\n\n\n\n	\n		\n			Progetto Giovani Eccellenze -50%\nL’adesione all’evento formativo permette di iscrivere una seconda risorsa\, che non abbia compiuto il 30° anno di età e proveniente dalla stessa organizzazione\, con una riduzione del 50% sulla seconda quota di partecipazione. L’agevolazione è calcolata sulla quota ordinaria. \n\n		\n	\n\n\n\n		\n	\n\n	\n		\n			\n\n\n\n\n\n\n	\n		\n			Formazione finanziata\nLa quota di partecipazione all’iniziativa può essere completamente rimborsata tramite voucher promossi dai Fondi Paritetici Interprofessionali. Paradigma offre la completa e gratuita gestione delle spese di progettazione\, monitoraggio e rendiconto. \n\n		\n	\n\n\n\n		\n	\n\n	\n		\n			\n\n\n\n\n\n\n	\n		\n			Mercati elettronici della PA\nParadigma opera sul MePA e sui principali mercati elettronici di soggetti aggregatori e centrali di committenza. \n\n		\n	\n\n\n\n		\n	\n\n	\n		\n			\n	\n\n\n	I campi con (*) sono obbligatori\n	\n		\n		Dati relativi all'evento\n		\n		\n			Partecipazione in aula\n			Partecipazione in videoconferenza\n		\n		\n\n		Dati relativi al richiedente\n		\n		\n		\n		\n		\n		\n		\n		\n\n	\n\n	\n\n		Dati per eventuale partecipante under 30\n		\n		\n		\n\n	\n\n	\n\n		Dati per la fatturazione elettronica\n		\n		\n		\n		\n		\n		\n				\n		\n		\n		  Split Payment:\n          \n            \n              \n              Si \n            No\n          \n        \n		\n		\n		\n		\n	\n\n	\n\n		Per informazioni contattare\n		\n		\n		\n		\n		\n	\n	L'iscrizione all'evento formativo si intende perfezionata al momento del ricevimento\, da parte di Paradigma Srl\, del presente modulo di registrazione compilato in ogni sua parte\, stampato\, firmato e inviato via e-mail all'indirizzo info@paradigma.it. Riceverete via email conferma dell'avvenuta iscrizione. \n\n\n		\n	     Acconsento all'invio di comunicazioni sui servizi Paradigma Srl - Consenso finalizzato\, anche con modalità automatizzate\, all'invio di comunicazioni relative a prodotti e servizi di Paradigma Srl e al fine di ricevere materiale informativo o promozionale.\n	\n	     Acconsento alla personalizzazione delle offerte - Consenso finalizzato\, mediante modalità automatizzate\, a personalizzare i servizi forniti e meglio indirizzare le proposte promozionali grazie ad attività di profilazione.\n	\n	Inviando i dati autorizzi Paradigma Srl a utilizzare i tuoi dati personali per evadere la richiesta di partecipazione all’evento formativo e svolgere le attività a ciò connesse. I dati potranno essere trattati\, per conto di Paradigma Srl\, da dipendenti e collaboratori incaricati di svolgere specifici servizi necessari all’esecuzione delle tue richieste. Il conferimento dei tuoi dati\, pur essendo facoltativo\, si rende necessario per l’esecuzione del servizio richiesto.	\n\n\n\n\n		\n\n\n\n\n\n		\n	\n[/vc_column][/vc_row]
URL:https://paradigma.it/iniziativa/la-gestione-preventiva-del-rischio-fiscale-e-il-tcf-certificato/
CATEGORIES:Fisco e Diritto Tributario
ORGANIZER;CN="Veronica%20Spiez":MAILTO:vspiez@paradigma.it
END:VEVENT
END:VCALENDAR