BEGIN:VCALENDAR
VERSION:2.0
PRODID:-//Paradigma srl - ECPv5.2.1//NONSGML v1.0//EN
CALSCALE:GREGORIAN
METHOD:PUBLISH
X-WR-CALNAME:Paradigma srl
X-ORIGINAL-URL:https://paradigma.it
X-WR-CALDESC:Eventi per Paradigma srl
BEGIN:VTIMEZONE
TZID:Europe/Rome
BEGIN:DAYLIGHT
TZOFFSETFROM:+0100
TZOFFSETTO:+0200
TZNAME:CEST
DTSTART:20260329T010000
END:DAYLIGHT
BEGIN:STANDARD
TZOFFSETFROM:+0200
TZOFFSETTO:+0100
TZNAME:CET
DTSTART:20261025T010000
END:STANDARD
END:VTIMEZONE
BEGIN:VEVENT
DTSTART;TZID=Europe/Rome:20260512T093000
DTEND;TZID=Europe/Rome:20260512T133000
DTSTAMP:20260421T151125
CREATED:20260305T142245Z
LAST-MODIFIED:20260417T130153Z
UID:27355-1778578200-1778592600@paradigma.it
SUMMARY:La gestione e il monitoraggio  del conflitto di interessi  nelle PA e nelle società pubbliche
DESCRIPTION:[vc_row][vc_column]\n	\n		\n			\n		\n	\n\n	\n		\n			PNA 2026 – 2028\nRegolamentazione interna\nCasistica\nDichiarazioni sostitutive\nAccesso a banche dati\nFormazione e informazione \nCodice MEPA: ConflittINTER_1205\n \n \n\n		\n	\n\n	\n		\n			09.30 – 13.30 \n\n		\n	\n\n	\n		\n			Evento in diretta streaming \n\n		\n	\n\n	\n		\n			 \n\n		\n	\n\n	\n		\n			\n\n		\n	\nPresentazioneProgrammaDocentiBrochureIscrizioni e CondizioniPresentazione\n	\n		\n			Contenuti dell’evento \nNel corso del workshop sarà analizzato trasversalmente il tema del conflitto di interessi alla luce della prassi dell’Autorità Nazionale Anticorruzione\, nell’ottica di offrire importanti spunti sulla disciplina interna e sui controlli che fanno capo alle misure di prevenzione in detto ambito. \nL’approccio del workshop vuole essere immediatamente operativo\, nell’ottica di fornire ai discenti un tracciato di punti di attenzione e un valido strumento di gestione dei copiosi adempimenti trasparenza\, avuto riguardo alle implicazioni sanzionatorie. \nDestinatari dell’evento \nIl convegno si rivolge agli Organismi Indipendenti di Valutazione\, agli Responsabili della Prevenzione della Corruzione e della Trasparenza (RPCT) di pp.aa.\, società pubbliche ed enti di diritto privato soggetti alla Legge n. 190/2012\, alle relative strutture di supporto\, nonché ai dirigenti e ai funzionari tenuti all’adempimento degli obblighi anticorruzione e trasparenza\, accesso civico. L’iniziativa è altresì rivolta agli specialisti dell’auditing e del diritto amministrativo operanti nelle materie trattate. \nObiettivi dell’evento \nObiettivo del seminario è supportare operativamente gli RPCT\, fornendo ai partecipanti una rappresentazione articolata di strumenti operativi e soluzioni pratiche in tema di conflitto di interessi\, nell’ottica di un pieno adeguamento alla vigente normativa\, giurisprudenza e prassi di riferimento\, attraverso simulazioni in aula e l’analisi di best practice\, casi concreti e criticità applicative. \n\n\n		\n	\nProgramma\n	\n		\n			Martedì 12 maggio 2026 \nIl conflitto di interessi nel settore pubblico\nEvoluzione normativa: dalla L. n. 190/2012 al nuovo Codice dei contratti pubblici (D.Lgs. n. 36/2023)\nIl conflitto di interessi nel D.Lgs. n. 165/2001 e nel Codice di comportamento dei dipendenti pubblici (D.P.R. 62/2013\, come modificato)\nIl conflitto di interessi nelle società a controllo pubblico (D.Lgs. n. 175/2016)\nIl coordinamento con la disciplina in materia di inconferibilità e incompatibilità (D.Lgs. n. 39/2013) \nIl quadro regolatorio in materia di prevenzione dei rischi corruttivi e trasparenza\nIl “Sistema 190”: PTPCT\, PIAO e integrazione tra anticorruzione e performance\nIl ruolo del RPCT e degli organi di indirizzo politico-amministrativo\nIl Piano Nazionale Anticorruzione (PNA 2022 e aggiornamenti)\nObblighi di pubblicazione e trasparenza in materia di conflitto di interessi \nIl conflitto di interessi nel quadro ordinamentale e nel “Sistema 190”\nMappatura dei processi a rischio e integrazione nel sistema di risk assessment\nLa gestione del conflitto nei procedimenti amministrativi (art. 6-bis L. n. 241/1990)\nIl conflitto di interessi negli affidamenti pubblici (art. 16 D.Lgs. n. 36/2023)\nIl pantouflage e le misure preventive nei rapporti pubblico-privato \nLe diverse forme di conflitto di interessi: classificazioni\nConflitto attuale\, potenziale e apparente\nConflitto diretto e indiretto\nConflitto strutturale nelle funzioni apicali\nInteressi finanziari\, professionali\, familiari e relazionali \nGli effetti giuridici che derivano dalla cattiva gestione del conflitto di interessi\nInvalidità degli atti e vizi del procedimento\nAnnullamento in autotutela e tutela dell’affidamento\nProfili di responsabilità erariale\nRilevanza disciplinare e dirigenziale \nResponsabilità e sanzioni\nResponsabilità amministrativo-contabile\nResponsabilità disciplinare\nProfili penali nei casi di abuso d’ufficio\, turbativa o corruzione\nSanzioni ANAC e poteri di vigilanza \nLa gestione e il monitoraggio del conflitto di interessi\nRegolamentazione interna: codici di comportamento e discipline organizzative\nDichiarazioni sostitutive e controlli ex art. 71 D.P.R. 445/2000\nAccesso e interoperabilità delle banche dati per la verifica delle dichiarazioni\nSistemi digitali di tracciabilità delle decisioni\nFlussi informativi verso RPCT\, OIV e organi di controllo\nFormazione obbligatoria e misure organizzative di prevenzione \nFocus in materia di affidamenti di servizi e forniture: Linee Guida ANAC n. 15\, PNA 2022 e nuovo Codice dei contratti pubblici\nL’art. 16 del D.Lgs. n. 36/2023: obblighi dichiarativi e misure di prevenzione\nIl conflitto di interessi nelle commissioni giudicatrici\nRapporti con operatori economici e consulenti esterni\nLe verifiche nelle procedure sotto soglia e negli affidamenti diretti\nCasistica ANAC e giurisprudenza recente \nCasistica giurisprudenziale\nOrientamenti del Consiglio di Stato e della Corte dei Conti\nIl sindacato del giudice amministrativo sulla valutazione del conflitto\nProporzionalità delle misure adottate dall’Ente\nCasi pratici tratti dall’esperienza applicativa \nGli strumenti di gestione e monitoraggio del conflitto a livello di singolo Ente\nIntegrazione tra PIAO\, regolamenti interni e Modelli 231 (per le società pubbliche)\nRuolo dell’Internal Audit e dei controlli interni\nIndicatori di rischio e monitoraggio periodico\nBest practice operative e modelli organizzativi replicabili \n  \nAvv. Alessio Ubaldi\nUB LEGAL Studio Legale Ubaldi \n\n\n		\n	\nDocenti\n	\n		\n			Avv. Alessio Ubaldi \nAvvocato amministrativista\nFondatore di UB LEGAL Studio Legale Ubaldi. \nDocente esterno a contratto della Scuola Nazionale dell’Amministrazione (SNA). Componente di Organismi Indipendenti di Valutazione. Assiste primarie PP.AA.\, società pubbliche ed enti di diritto privato a rilevanza pubblicistica. \nAutore di manuali e numerosissime pubblicazioni in materia di diritto amministrativo e penale\, con particolare riferimento alla contrattualistica pubblica\, alla prevenzione della corruzione e alla trasparenza amministrativa. \n\n\n		\n	\nBrochure\n	\n		\n			 Scarica la brochure\n\n		\n	\nIscrizioni e Condizioni\n	\n		\n			Quota di partecipazione \nLa quota di partecipazione in diretta streaming include la fruizione degli interventi\, nonché la possibilità di scaricare\, in formato elettronico\, il materiale didattico che i relatori riterranno di mettere a disposizione. \nÈ inoltre prevista la possibilità di rivolgere contestualmente domande ai docenti (attivando il proprio microfono o tramite chat)\, oppure sottoporle in via preventiva\, inviando una e-mail a info@paradigma.it entro il giorno antecedente l’evento. \nIn caso di diretta streaming con accessi multipli è necessario contattare la Segreteria Organizzativa per un preventivo personalizzato. \nModalità di funzionamento della diretta streaming \nLe iniziative formative sono fruibili in diretta streaming attraverso un semplice collegamento alla piattaforma dedicata. La piattaforma è strutturata per garantire un ottimo livello di fruizione e interazione e non necessita di particolari requisiti tecnici. \nAlcuni giorni prima dell’evento il partecipante riceve le istruzioni di accesso e sarà sufficiente selezionare il link ricevuto per accedere all’aula virtuale. \nGli interventi in diretta streaming sono supportati dalle slide predisposte dal docente. Ogni utente collegato potrà intervenire formulando domande o richieste di approfondimento attivando il proprio microfono o utilizzando la chat dedicata. \nModalità di iscrizione \nL’iscrizione si perfeziona al momento del ricevimento del modulo di registrazione\, da inviare via e-mail all’indirizzo info@paradigma.it\, integralmente compilato e sottoscritto. Il numero dei collegamenti disponibili è limitato e la priorità d’iscrizione è determinata dalla data di ricezione del modulo di registrazione. Si consiglia pertanto di effettuare una preiscrizione telefonica. \nModalità di pagamento \nLa quota di partecipazione deve essere versata all’atto della presentazione della richiesta di iscrizione e\, in ogni caso\, prima dell’effettuazione dell’evento formativo\, tramite bonifico bancario intestato a: \nParadigma Srl – Corso Vittorio Emanuele II\, 68 – 10121 Torino\nc/o Banco BPM Spa\nIBAN IT 14 V 05034 01017 000000002530 \nFormazione finanziata \nLa quota di partecipazione può essere completamente rimborsata tramite voucher promossi dai Fondi Paritetici Interprofessionali. Paradigma offre la completa e gratuita gestione delle spese di progettazione\, monitoraggio e rendicontazione. La possibilità di accedere alla formazione finanziata con partecipazione mediante diretta streaming può variare a seconda dell’Ente erogante. \nAttestato di frequenza \nL’attestato di partecipazione nominativo sarà inviato al termine dell’evento formativo ai partecipanti che si sono regolarmente collegati all’aula virtuale. \nDiritto di recesso e modalità di disdetta \nÈ attribuita ai partecipanti la facoltà di recedere ai sensi dell’art. 1373 c.c. Il recesso dovrà essere comunicato in forma scritta almeno sette giorni prima della data di inizio dell’evento formativo (escluso il sabato e la domenica). Qualora la disdetta pervenga oltre tale termine o si verifichi di fatto con il mancato collegamento alla diretta streaming\, la quota di partecipazione sarà addebitata per intero e sarà inviato al partecipante il materiale didattico e\, se disponibile e per un periodo limitato\, la registrazione dell’evento. In qualunque momento l’azienda o lo studio potranno comunque sostituire il partecipante\, comunicando il nuovo nominativo alla nostra Segreteria Organizzativa. \nVariazioni di programma \nParadigma\, per ragioni eccezionali e imprevedibili\, si riserva di annullare o modificare la data dell’evento formativo\, dandone comunicazione agli interessati entro tre giorni dalla data di inizio prevista. In tali casi le quote di partecipazione pervenute verranno rimborsate\, con esclusione di qualsivoglia onere o obbligo a carico di Paradigma. Paradigma si riserva inoltre\, per ragioni sopravvenute e per cause di forza maggiore\, di modificare l’articolazione del programma e di sostituire i docenti previsti con altri docenti di pari livello professionale. \nPer ulteriori informazioni è possibile contattare la Segreteria Organizzativa al numero 011.538686 o all’indirizzo e-mail info@paradigma.it. \n\n\n		\n	\n\n\n	\n		\n			Quota di partecipazione\n	\n		\n			€ 650 + Iva\n\n		\n	\n\n	\n		\n			In caso di videoconferenza con accessi multipli è necessario contattare la Segreteria organizzativa per un preventivo personalizzato. \n\n		\n	\n\n\n		\n	\n\n	\n		\n			\n\n\n\n\n\n\n	\n		\n			Early booking -20%\nInviando il modulo di iscrizione entro il 21 aprile si avrà diritto a una riduzione del 20% sulla quota di partecipazione. \n\n		\n	\n\n\n\n		\n	\n\n	\n		\n			\n\n\n\n\n\n\n	\n		\n			Quota corporate\nIscrivi all’evento 5 o più risorse provenienti dalla stessa organizzazione con una riduzione del 50%. \n\n		\n	\n\n\n\n		\n	\n\n	\n		\n			\n\n		\n	\n\n	\n		\n			\n\n\n\n\n\n\n	\n		\n			Progetto Giovani Eccellenze -50%\nL’adesione all’evento formativo permette di iscrivere una seconda risorsa\, che non abbia compiuto il 30° anno di età e proveniente dalla stessa organizzazione\, con una riduzione del 50% sulla seconda quota di partecipazione. L’agevolazione è calcolata sulla quota ordinaria. \n\n		\n	\n\n\n\n		\n	\n\n	\n		\n			\n\n\n\n\n\n\n	\n		\n			Formazione finanziata\nLa quota di partecipazione all’iniziativa può essere completamente rimborsata tramite voucher promossi dai Fondi Paritetici Interprofessionali. Paradigma offre la completa e gratuita gestione delle spese di progettazione\, monitoraggio e rendiconto. \n\n		\n	\n\n\n\n		\n	\n\n	\n		\n			\n\n\n\n\n\n\n	\n		\n			Mercati elettronici della PA\nParadigma opera sul MePA e sui principali mercati elettronici di soggetti aggregatori e centrali di committenza. \n\n		\n	\n\n\n\n		\n	\n\n	\n		\n			\n	\n\n\n	I campi con (*) sono obbligatori\n	\n		\n		Dati relativi all'evento\n		\n		\n			Partecipazione in aula\n			Partecipazione in videoconferenza\n		\n		\n\n		Dati relativi al richiedente\n		\n		\n		\n		\n		\n		\n		\n		\n\n	\n\n	\n\n		Dati per eventuale partecipante under 30\n		\n		\n		\n\n	\n\n	\n\n		Dati per la fatturazione elettronica\n		\n		\n		\n		\n		\n		\n				\n		\n		\n		  Split Payment:\n          \n            \n              \n              Si \n            No\n          \n        \n		\n		\n		\n		\n	\n\n	\n\n		Per informazioni contattare\n		\n		\n		\n		\n		\n	\n	L'iscrizione all'evento formativo si intende perfezionata al momento del ricevimento\, da parte di Paradigma Srl\, del presente modulo di registrazione compilato in ogni sua parte\, stampato\, firmato e inviato via e-mail all'indirizzo info@paradigma.it. Riceverete via email conferma dell'avvenuta iscrizione. \n\n\n		\n	     Acconsento all'invio di comunicazioni sui servizi Paradigma Srl - Consenso finalizzato\, anche con modalità automatizzate\, all'invio di comunicazioni relative a prodotti e servizi di Paradigma Srl e al fine di ricevere materiale informativo o promozionale.\n	\n	     Acconsento alla personalizzazione delle offerte - Consenso finalizzato\, mediante modalità automatizzate\, a personalizzare i servizi forniti e meglio indirizzare le proposte promozionali grazie ad attività di profilazione.\n	\n	Inviando i dati autorizzi Paradigma Srl a utilizzare i tuoi dati personali per evadere la richiesta di partecipazione all’evento formativo e svolgere le attività a ciò connesse. I dati potranno essere trattati\, per conto di Paradigma Srl\, da dipendenti e collaboratori incaricati di svolgere specifici servizi necessari all’esecuzione delle tue richieste. Il conferimento dei tuoi dati\, pur essendo facoltativo\, si rende necessario per l’esecuzione del servizio richiesto.	\n\n\n\n\n		\n\n\n\n\n\n		\n	\n[/vc_column][/vc_row]
URL:https://paradigma.it/iniziativa/la-gestione-e-il-monitoraggio-del-conflitto-di-interessi-nelle-pa-e-nelle-societa-pubbliche-4/
CATEGORIES:Anticorruzione e Trasparenza PA
END:VEVENT
END:VCALENDAR