BEGIN:VCALENDAR
VERSION:2.0
PRODID:-//Paradigma srl - ECPv5.2.1//NONSGML v1.0//EN
CALSCALE:GREGORIAN
METHOD:PUBLISH
X-WR-CALNAME:Paradigma srl
X-ORIGINAL-URL:https://paradigma.it
X-WR-CALDESC:Eventi per Paradigma srl
BEGIN:VTIMEZONE
TZID:Europe/Rome
BEGIN:DAYLIGHT
TZOFFSETFROM:+0100
TZOFFSETTO:+0200
TZNAME:CEST
DTSTART:20260329T010000
END:DAYLIGHT
BEGIN:STANDARD
TZOFFSETFROM:+0200
TZOFFSETTO:+0100
TZNAME:CET
DTSTART:20261025T010000
END:STANDARD
END:VTIMEZONE
BEGIN:VEVENT
DTSTART;TZID=Europe/Rome:20260204T093000
DTEND;TZID=Europe/Rome:20260204T163000
DTSTAMP:20260421T145159
CREATED:20251202T132023Z
LAST-MODIFIED:20260202T114943Z
UID:26247-1770197400-1770222600@paradigma.it
SUMMARY:La gestione della governance NIS 2
DESCRIPTION:[vc_row][vc_column]\n	\n		\n			\n		\n	\n\n	\n		\n			Gap analysis\, assessment e attività di audit \n \n\n		\n	\n\n	\n		\n			09.30 - 13.30  14.30 - 16.30 \n\n		\n	\n\n	\n		\n			Evento in diretta streaming \n\n		\n	\n\n	\n		\n			 \n\n		\n	\n\n	\n		\n			\n\n		\n	\nPresentazioneProgrammaDocentiBrochureIscrizioni e CondizioniPresentazione\n	\n		\n			Contenuti dell’evento \nNel corso del workshop saranno presentate le modalità di implementazione delle misure previste dal D. Lgs. n. 138/2024 e le attività di gap analysis\, assessment e audit. \nDestinatari dell’evento \nL’evento formativo è rivolto ai Responsabili dei Sistemi Informativi e della Sicurezza Informatica\, DPO\, Responsabili del Servizio Legale e Compliance\, ai Responsabili Internal Audit\, ai e del Servizio Organizzazione\, ai Legal Operation. \nObiettivi dell’evento \nL’obiettivo del workshop è fornire le competenze e gli strumenti operativi per l’adeguamento alle nuove disposizioni\, con particolare attenzione alle determinazioni dell’ACN relative a modalità di registrazione e alle misure di sicurezza minime. \n\n\n		\n	\nProgramma\n	\n		\n			Mercoledì 4 febbraio 2026 \nI principi fondamentali della NIS 2 e le principali criticità connesse all’implementazione delle nuove regole\nLa transizione dalla Direttiva NIS al D. Lgs. n. 138/2024 e l’identificazione dei Soggetti Essenziali e Importanti (Allegati I e II)\nI compiti degli organi di gestione e l’obbligo di approvare e supervisionare le misure di gestione del rischio di cybersicurezza\nLe misure tecnico-organizzative di cui all’Art. 21 e all’Allegato I del D. Lgs. n. 138/2024\nLe procedure di reporting e le regole ENISA per la corretta segnalazione degli eventi all’ACN\nL’analisi del regime sanzionatorio per gli inadempimenti\nDott.ssa Patrizia Sormani\nPSC – Patrizia Sormani Consulting\nANORC Mercato \nIl ritardo delle organizzazioni e le possibili soluzioni\nL’adempimento di registrazione: le istruzioni operative dell’ACN per l’autovalutazione e l’iscrizione obbligatoria sul Portale\nLe problematiche legate alla registrazione sulla piattaforma: criticità legate all’autenticazione\, la delega del Punto di Contatto e la nomina del CSIRT\nLa gestione degli obblighi per le imprese collegate/associate (Art. 3\, comma 10 D. Lgs. n. 138/2024) e l’obbligo di aggiornamento annuale distinto per ciascuna persona giuridica\nDott.ssa Lorenza Settembrini\nPartners4Innovation \nGap analysis\, assessment e attività di audit\nLa metodologia per la valutazione dello stato attuale del sistema di sicurezza rispetto ai requisiti obbligatori del D. Lgs. n. 138/2024 e l’identificazione delle azioni correttive necessarie\nLa valutazione delle policy e delle misure adottate (obbligatorie da conservare internamente)\nIl rilevamento delle differenze tra lo stato attuale e lo stato desiderato in coerenza con i requisiti del D. Lgs. n. 138/2024\nLe metodologie e strumenti per l’audit: tecniche per la verifica dell’efficacia delle misure adottate e test di funzionamento\nDott.ssa Lorenza Settembrini\nPartners4Innovation \nIl ruolo dell’audit interno ed esterno\nIl ruolo dell’audit nel verificare che il sistema di gestione del rischio sia efficace e conforme ai requisiti del D. Lgs. n. 138/2024\nLa verifica della conformità del sistema di gestione documentale in relazione all’obbligo di conservazione interna dell’autovalutazione e delle policy\nLa metodologia per il rilevamento e la valutazione delle prove che dimostrino l’adozione e l’operatività delle misure di sicurezza\nDott. Edoardo Limone\nEsperto in Sicurezza Informatica \nFocus sulla supply chain\nLa gestione della catena di approvvigionamento: l’obbligo di indirizzare i rischi relativi alla supply chain\nLa prequalifica e valutazione dei fornitori di servizi critici e l’inserimento di tutele contrattuali specifiche per la cybersicurezza (security by design e by default)\nL’importanza di clausole che permettano verifiche e audit di sicurezza sui fornitori\n Dott.ssa Elena Bertolin\nPartners4Innovation \n\n\n		\n	\nDocenti\n	\n		\n			Dott.ssa Elena Bertolin\nManager\nDigital Law – Contracts\, Negotiation & Litigation\nPartners4Innovation \nDott. Edoardo Limone\nEsperto in Sicurezza Informatica \nDott.ssa Lorenza Settembrini\nInformation & Cybersecurity Advisor\nPartners4Innovation \nDott.ssa Patrizia Sormani\nExpert Digital Manager\nPSC – Patrizia Sormani Consulting\nPresidente ANORC Mercato \n\n\n		\n	\nBrochure\n	\n		\n			 Scarica la brochure\n\n		\n	\nIscrizioni e Condizioni\n	\n		\n			Quota di partecipazione \nLa quota di partecipazione in diretta streaming include la fruizione degli interventi\, nonché la possibilità di scaricare\, in formato elettronico\, il materiale didattico che i relatori riterranno di mettere a disposizione. \nÈ inoltre prevista la possibilità di rivolgere contestualmente domande ai docenti (attivando il proprio microfono o tramite chat)\, oppure sottoporle in via preventiva\, inviando una e-mail a info@paradigma.it entro il giorno antecedente l’evento. \nIn caso di diretta streaming con accessi multipli è necessario contattare la Segreteria Organizzativa per un preventivo personalizzato. \nModalità di funzionamento della diretta streaming \nLe iniziative formative sono fruibili in diretta streaming attraverso un semplice collegamento alla piattaforma dedicata. La piattaforma è strutturata per garantire un ottimo livello di fruizione e interazione e non necessita di particolari requisiti tecnici. \nAlcuni giorni prima dell’evento il partecipante riceve le istruzioni di accesso e sarà sufficiente selezionare il link ricevuto per accedere all’aula virtuale. \nGli interventi in diretta streaming sono supportati dalle slide predisposte dal docente. Ogni utente collegato potrà intervenire formulando domande o richieste di approfondimento attivando il proprio microfono o utilizzando la chat dedicata. \nModalità di iscrizione \nL’iscrizione si perfeziona al momento del ricevimento del modulo di registrazione\, da inviare via e-mail all’indirizzo info@paradigma.it\, integralmente compilato e sottoscritto. Il numero dei collegamenti disponibili è limitato e la priorità d’iscrizione è determinata dalla data di ricezione del modulo di registrazione. Si consiglia pertanto di effettuare una preiscrizione telefonica. \nModalità di pagamento \nLa quota di partecipazione deve essere versata all’atto della presentazione della richiesta di iscrizione e\, in ogni caso\, prima dell’effettuazione dell’evento formativo\, tramite bonifico bancario intestato a: \nParadigma Srl – Corso Vittorio Emanuele II\, 68 – 10121 Torino\nc/o Banco BPM Spa\nIBAN IT 14 V 05034 01017 000000002530 \nFormazione finanziata \nLa quota di partecipazione può essere completamente rimborsata tramite voucher promossi dai Fondi Paritetici Interprofessionali. Paradigma offre la completa e gratuita gestione delle spese di progettazione\, monitoraggio e rendicontazione. La possibilità di accedere alla formazione finanziata con partecipazione mediante diretta streaming può variare a seconda dell’Ente erogante. \nAttestato di frequenza \nL’attestato di partecipazione nominativo sarà inviato al termine dell’evento formativo ai partecipanti che si sono regolarmente collegati all’aula virtuale. \nDiritto di recesso e modalità di disdetta \nÈ attribuita ai partecipanti la facoltà di recedere ai sensi dell’art. 1373 c.c. Il recesso dovrà essere comunicato in forma scritta almeno sette giorni prima della data di inizio dell’evento formativo (escluso il sabato e la domenica). Qualora la disdetta pervenga oltre tale termine o si verifichi di fatto con il mancato collegamento alla diretta streaming\, la quota di partecipazione sarà addebitata per intero e sarà inviato al partecipante il materiale didattico e\, se disponibile e per un periodo limitato\, la registrazione dell’evento. In qualunque momento l’azienda o lo studio potranno comunque sostituire il partecipante\, comunicando il nuovo nominativo alla nostra Segreteria Organizzativa. \nVariazioni di programma \nParadigma\, per ragioni eccezionali e imprevedibili\, si riserva di annullare o modificare la data dell’evento formativo\, dandone comunicazione agli interessati entro tre giorni dalla data di inizio prevista. In tali casi le quote di partecipazione pervenute verranno rimborsate\, con esclusione di qualsivoglia onere o obbligo a carico di Paradigma. Paradigma si riserva inoltre\, per ragioni sopravvenute e per cause di forza maggiore\, di modificare l’articolazione del programma e di sostituire i docenti previsti con altri docenti di pari livello professionale. \nPer ulteriori informazioni è possibile contattare la Segreteria Organizzativa al numero 011.538686 o all’indirizzo e-mail info@paradigma.it. \n\n\n		\n	\n\n\n	\n		\n			Quota di partecipazione\n	\n		\n			€ 1.100 + Iva\n\n		\n	\n\n	\n		\n			In caso di videoconferenza con accessi multipli è necessario contattare la Segreteria organizzativa per un preventivo personalizzato. \n\n		\n	\n\n\n		\n	\n\n	\n		\n			\n\n\n\n\n\n\n	\n		\n			Early booking -20%\nInviando il modulo di iscrizione entro il 14 gennaio si avrà diritto a una riduzione del 20% sulla quota di partecipazione. \n\n		\n	\n\n\n\n		\n	\n\n	\n		\n			\n\n\n\n\n\n\n	\n		\n			Quota corporate\nIscrivi all’evento 5 o più risorse provenienti dalla stessa organizzazione con una riduzione del 50%. \n\n		\n	\n\n\n\n		\n	\n\n	\n		\n			\n\n		\n	\n\n	\n		\n			\n\n\n\n\n\n\n	\n		\n			Progetto Giovani Eccellenze -50%\nL’adesione all’evento formativo permette di iscrivere una seconda risorsa\, che non abbia compiuto il 30° anno di età e proveniente dalla stessa organizzazione\, con una riduzione del 50% sulla seconda quota di partecipazione. L’agevolazione è calcolata sulla quota ordinaria. \n\n		\n	\n\n\n\n		\n	\n\n	\n		\n			\n\n\n\n\n\n\n	\n		\n			Formazione finanziata\nLa quota di partecipazione all’iniziativa può essere completamente rimborsata tramite voucher promossi dai Fondi Paritetici Interprofessionali. Paradigma offre la completa e gratuita gestione delle spese di progettazione\, monitoraggio e rendiconto. \n\n		\n	\n\n\n\n		\n	\n\n	\n		\n			\n\n\n\n\n\n\n	\n		\n			Mercati elettronici della PA\nParadigma opera sul MePA e sui principali mercati elettronici di soggetti aggregatori e centrali di committenza. \n\n		\n	\n\n\n\n		\n	\n\n	\n		\n			\n	\n\n\n	I campi con (*) sono obbligatori\n	\n		\n		Dati relativi all'evento\n		\n		\n			Partecipazione in aula\n			Partecipazione in videoconferenza\n		\n		\n\n		Dati relativi al richiedente\n		\n		\n		\n		\n		\n		\n		\n		\n\n	\n\n	\n\n		Dati per eventuale partecipante under 30\n		\n		\n		\n\n	\n\n	\n\n		Dati per la fatturazione elettronica\n		\n		\n		\n		\n		\n		\n				\n		\n		\n		  Split Payment:\n          \n            \n              \n              Si \n            No\n          \n        \n		\n		\n		\n		\n	\n\n	\n\n		Per informazioni contattare\n		\n		\n		\n		\n		\n	\n	L'iscrizione all'evento formativo si intende perfezionata al momento del ricevimento\, da parte di Paradigma Srl\, del presente modulo di registrazione compilato in ogni sua parte\, stampato\, firmato e inviato via e-mail all'indirizzo info@paradigma.it. Riceverete via email conferma dell'avvenuta iscrizione. \n\n\n		\n	     Acconsento all'invio di comunicazioni sui servizi Paradigma Srl - Consenso finalizzato\, anche con modalità automatizzate\, all'invio di comunicazioni relative a prodotti e servizi di Paradigma Srl e al fine di ricevere materiale informativo o promozionale.\n	\n	     Acconsento alla personalizzazione delle offerte - Consenso finalizzato\, mediante modalità automatizzate\, a personalizzare i servizi forniti e meglio indirizzare le proposte promozionali grazie ad attività di profilazione.\n	\n	Inviando i dati autorizzi Paradigma Srl a utilizzare i tuoi dati personali per evadere la richiesta di partecipazione all’evento formativo e svolgere le attività a ciò connesse. I dati potranno essere trattati\, per conto di Paradigma Srl\, da dipendenti e collaboratori incaricati di svolgere specifici servizi necessari all’esecuzione delle tue richieste. Il conferimento dei tuoi dati\, pur essendo facoltativo\, si rende necessario per l’esecuzione del servizio richiesto.	\n\n\n\n\n		\n\n\n\n\n\n		\n	\n[/vc_column][/vc_row]
URL:https://paradigma.it/iniziativa/la-gestione-della-governance-nis-2/
CATEGORIES:Digitalizzazione
END:VEVENT
END:VCALENDAR