BEGIN:VCALENDAR
VERSION:2.0
PRODID:-//Paradigma srl - ECPv5.2.1//NONSGML v1.0//EN
CALSCALE:GREGORIAN
METHOD:PUBLISH
X-WR-CALNAME:Paradigma srl
X-ORIGINAL-URL:https://paradigma.it
X-WR-CALDESC:Eventi per Paradigma srl
BEGIN:VTIMEZONE
TZID:Europe/Rome
BEGIN:DAYLIGHT
TZOFFSETFROM:+0100
TZOFFSETTO:+0200
TZNAME:CEST
DTSTART:20260329T010000
END:DAYLIGHT
BEGIN:STANDARD
TZOFFSETFROM:+0200
TZOFFSETTO:+0100
TZNAME:CET
DTSTART:20261025T010000
END:STANDARD
END:VTIMEZONE
BEGIN:VEVENT
DTSTART;TZID=Europe/Rome:20260428T093000
DTEND;TZID=Europe/Rome:20260428T170000
DTSTAMP:20260421T145106
CREATED:20260216T154901Z
LAST-MODIFIED:20260217T152946Z
UID:27067-1777368600-1777395600@paradigma.it
SUMMARY:La gestione del concorso pubblico
DESCRIPTION:[vc_row][vc_column]\n	\n		\n			\n		\n	\n\n	\n		\n			Il decreto milleproroghe 2025 e il D.L. PA n. 25/2025 \nAccesso alla dirigenza\nLo scorrimento delle graduatorie \nLe nuove prove d’esame\nIl contenzioso \n \n\n		\n	\n\n	\n		\n			09.30 - 13.00  14.30 - 17.00 \n\n		\n	\n\n	\n		\n			Evento in diretta streaming \n\n		\n	\n\n	\n		\n			 \n\n		\n	\n\n	\n		\n			\n\n		\n	\nPresentazioneProgrammaDocentiBrochureIscrizioni e CondizioniPresentazione\n	\n		\n			Contenuti dell’evento \nIl corso offre un importante approfondimento sulla disciplina delle procedure concorsuali\, dopo le recenti novità normative (D.P.R. n. 82/2023\, il decreto milleproroghe 2025 ed il D.L. PA n. 25/2025). \nSaranno inoltre analizzate le modalità di organizzazione e la gestione dei concorsi\, le modifiche al D.L. n. 165/2001 e l’accesso alla dirigenza apportate col D.L. n. 25/2025 e le nuove prove d’esame e loro valutazione. \nDestinatari dell’evento \nL’evento formativo è rivolto ai Responsabili degli Uffici del Personale delle Pubbliche Amministrazioni e a tutte le funzioni di supporto che operano nei processi di reclutamento e gestione del personale. \nL’iniziativa è altresì rivolta agli specialisti del diritto amministrativo operanti nelle materie trattate (concorsi e pubblico impiego)\, per i quali il convegno rappresenta una importante occasione di incontro e approfondimento.  \nObiettivi dell’evento \nObiettivo dell’incontro è fornire ai partecipanti un quadro dettagliato e completo sulle modifiche normative in tema di concorsi pubblici\, presentando strumenti operativi per adeguarsi alle nuove disposizioni\, attraverso l’analisi di casi concreti e problematiche operative. \n\n\n		\n	\nProgramma\n	\n		\n			Martedì 28 aprile 2026 \nLa disciplina delle procedure concorsuali dopo il D.P.R. n. 82/2023\, il Decreto Milleproroghe 2025 e il D.L. PA n. 25/2025\nIl consolidamento della riforma dei concorsi pubblici: digitalizzazione integrale\, Portale inPA e interoperabilità delle banche dati\nLe proroghe e gli aggiustamenti transitori introdotti dal Milleproroghe 2025\nLe ulteriori modifiche al D.Lgs. n. 165/2001 operate dal D.L. n. 25/2025\nLe misure di accelerazione e semplificazione delle procedure concorsuali nel quadro degli obiettivi PNRR \nL’organizzazione e la gestione dei concorsi: concorsi singole PA\, concorsi RIPAM\, concorsi unici\nIl rafforzamento del ruolo del Dipartimento della Funzione Pubblica e della Commissione RIPAM\nLe procedure aggregate e i concorsi unici per professionalità omogenee\nL’esternalizzazione di fasi procedimentali e i limiti alla delega\nLa gestione digitale delle prove scritte e delle prove a distanza \nLe procedure obbligatorie e facoltative per la copertura del posto e i rapporti con la mobilità\nL’ordine tra mobilità obbligatoria\, volontaria e concorso\nLe novità in materia di utilizzo delle graduatorie di altre amministrazioni\nLe procedure riservate e le stabilizzazioni dopo gli interventi normativi più recenti\nIl coordinamento con i piani integrati di attività e organizzazione (PIAO) \nLe modifiche al D.Lgs. n. 165/2001 e l’accesso alla dirigenza apportate dal D.L. PA n. 25/2025\nLe nuove modalità di reclutamento della dirigenza\nIl rafforzamento dei percorsi selettivi comparativi\nIl rapporto tra concorso pubblico e incarichi dirigenziali a termine\nLe misure per il ricambio generazionale e l’attrazione di professionalità tecniche \nI requisiti di accesso al concorso e lo sbarramento per titoli\nI nuovi criteri di valorizzazione dell’esperienza professionale\nLe clausole di esclusione automatica e i profili critici\nLa compatibilità con i principi di proporzionalità e non discriminazione\nLe riserve di posti e le quote obbligatorie aggiornate \nLa Commissione e la valutazione dei titoli\nI requisiti di professionalità e imparzialità dei componenti\nLe incompatibilità e i conflitti di interesse\nLa predeterminazione dei criteri di valutazione e la trasparenza\nL’utilizzo di strumenti digitali e algoritmici nella valutazione: limiti e garanzie \nIl procedimento concorsuale\nLe fasi del procedimento dopo la completa digitalizzazione\nIl soccorso istruttorio nelle procedure concorsuali\nI termini procedimentali e la loro natura\nGli obblighi di pubblicazione e trasparenza \nLe nuove prove d’esame e loro valutazione\nLa riduzione del numero delle prove e la valorizzazione della prova unica\nLe prove digitali e le modalità di svolgimento da remoto\nLe prove situazionali e la verifica delle competenze trasversali\nI criteri di anonimato e tracciabilità delle operazioni \nLa formazione della graduatoria e lo scorrimento dopo il D.L. PA n. 25/2025\nLa durata delle graduatorie e le proroghe normative\nLo scorrimento obbligatorio e facoltativo\nL’utilizzo delle graduatorie da parte di altre amministrazioni\nI limiti allo scorrimento in presenza di nuove esigenze organizzative \nI provvedimenti di autotutela\nL’annullamento d’ufficio delle procedure concorsuali\nLa revoca e la riedizione della procedura\nI limiti derivanti dall’affidamento dei candidati\nIl coordinamento con l’art. 21-nonies della L. n. 241/1990 \nIl contenzioso concorsuale\nLa giurisdizione del giudice amministrativo e le questioni di riparto\nLe impugnazioni di bandi\, esclusioni e graduatorie\nLe misure cautelari e l’ammissione con riserva\nI più recenti orientamenti giurisprudenziali in materia di prove digitali e valutazione discrezionale \nLe responsabilità giuridiche degli operatori\nLa responsabilità amministrativo-contabile\nLa responsabilità disciplinare e dirigenziale\nI profili penali nelle procedure concorsuali\nLa responsabilità da danno erariale in caso di illegittima gestione della graduatoria \n  \nAvv. Marco Rossi\nDirigente\nPresidenza del Consiglio dei Ministri \n\n\n		\n	\nDocenti\n	\n		\n			Avv. Marco Rossi \nDirigente pubblico della Presidenza del Consiglio dei Ministri.\nAvvocato esperto di lavoro pubblico\, già Segretario Generale del Ministero del Lavoro e delle Politiche Sociali e Direttore del Servizio Affari Legali e Contenzioso del Dipartimento della Funzione Pubblica\, autore di numerose pubblicazioni in materia di concorsi pubblici. \n\n\n		\n	\nBrochure\n	\n		\n			 Scarica la brochure\n\n		\n	\nIscrizioni e Condizioni\n	\n		\n			Quota di partecipazione \nLa quota di partecipazione in diretta streaming include la fruizione degli interventi\, nonché la possibilità di scaricare\, in formato elettronico\, il materiale didattico che i relatori riterranno di mettere a disposizione. \nÈ inoltre prevista la possibilità di rivolgere contestualmente domande ai docenti (attivando il proprio microfono o tramite chat)\, oppure sottoporle in via preventiva\, inviando una e-mail a info@paradigma.it entro il giorno antecedente l’evento. \nIn caso di diretta streaming con accessi multipli è necessario contattare la Segreteria Organizzativa per un preventivo personalizzato. \nModalità di funzionamento della diretta streaming \nLe iniziative formative sono fruibili in diretta streaming attraverso un semplice collegamento alla piattaforma dedicata. La piattaforma è strutturata per garantire un ottimo livello di fruizione e interazione e non necessita di particolari requisiti tecnici. \nAlcuni giorni prima dell’evento il partecipante riceve le istruzioni di accesso e sarà sufficiente selezionare il link ricevuto per accedere all’aula virtuale. \nGli interventi in diretta streaming sono supportati dalle slide predisposte dal docente. Ogni utente collegato potrà intervenire formulando domande o richieste di approfondimento attivando il proprio microfono o utilizzando la chat dedicata. \nModalità di iscrizione \nL’iscrizione si perfeziona al momento del ricevimento del modulo di registrazione\, da inviare via e-mail all’indirizzo info@paradigma.it\, integralmente compilato e sottoscritto. Il numero dei collegamenti disponibili è limitato e la priorità d’iscrizione è determinata dalla data di ricezione del modulo di registrazione. Si consiglia pertanto di effettuare una preiscrizione telefonica. \nModalità di pagamento \nLa quota di partecipazione deve essere versata all’atto della presentazione della richiesta di iscrizione e\, in ogni caso\, prima dell’effettuazione dell’evento formativo\, tramite bonifico bancario intestato a: \nParadigma Srl – Corso Vittorio Emanuele II\, 68 – 10121 Torino\nc/o Banco BPM Spa\nIBAN IT 14 V 05034 01017 000000002530 \nFormazione finanziata \nLa quota di partecipazione può essere completamente rimborsata tramite voucher promossi dai Fondi Paritetici Interprofessionali. Paradigma offre la completa e gratuita gestione delle spese di progettazione\, monitoraggio e rendicontazione. La possibilità di accedere alla formazione finanziata con partecipazione mediante diretta streaming può variare a seconda dell’Ente erogante. \nAttestato di frequenza \nL’attestato di partecipazione nominativo sarà inviato al termine dell’evento formativo ai partecipanti che si sono regolarmente collegati all’aula virtuale. \nDiritto di recesso e modalità di disdetta \nÈ attribuita ai partecipanti la facoltà di recedere ai sensi dell’art. 1373 c.c. Il recesso dovrà essere comunicato in forma scritta almeno sette giorni prima della data di inizio dell’evento formativo (escluso il sabato e la domenica). Qualora la disdetta pervenga oltre tale termine o si verifichi di fatto con il mancato collegamento alla diretta streaming\, la quota di partecipazione sarà addebitata per intero e sarà inviato al partecipante il materiale didattico e\, se disponibile e per un periodo limitato\, la registrazione dell’evento. In qualunque momento l’azienda o lo studio potranno comunque sostituire il partecipante\, comunicando il nuovo nominativo alla nostra Segreteria Organizzativa. \nVariazioni di programma \nParadigma\, per ragioni eccezionali e imprevedibili\, si riserva di annullare o modificare la data dell’evento formativo\, dandone comunicazione agli interessati entro tre giorni dalla data di inizio prevista. In tali casi le quote di partecipazione pervenute verranno rimborsate\, con esclusione di qualsivoglia onere o obbligo a carico di Paradigma. Paradigma si riserva inoltre\, per ragioni sopravvenute e per cause di forza maggiore\, di modificare l’articolazione del programma e di sostituire i docenti previsti con altri docenti di pari livello professionale. \nPer ulteriori informazioni è possibile contattare la Segreteria Organizzativa al numero 011.538686 o all’indirizzo e-mail info@paradigma.it. \n\n\n		\n	\n\n\n	\n		\n			Quota di partecipazione\n	\n		\n			€ 1.100 + Iva\n\n		\n	\n\n	\n		\n			In caso di videoconferenza con accessi multipli è necessario contattare la Segreteria organizzativa per un preventivo personalizzato. \n\n		\n	\n\n\n		\n	\n\n	\n		\n			\n\n\n\n\n\n\n	\n		\n			Early booking -20%\nInviando il modulo di iscrizione entro il 7 aprile si avrà diritto a una riduzione del 20% sulla quota di partecipazione. \n\n		\n	\n\n\n\n		\n	\n\n	\n		\n			\n\n\n\n\n\n\n	\n		\n			Quota corporate\nIscrivi all’evento 5 o più risorse provenienti dalla stessa organizzazione con una riduzione del 50%. \n\n		\n	\n\n\n\n		\n	\n\n	\n		\n			\n\n		\n	\n\n	\n		\n			\n\n\n\n\n\n\n	\n		\n			Progetto Giovani Eccellenze -50%\nL’adesione all’evento formativo permette di iscrivere una seconda risorsa\, che non abbia compiuto il 30° anno di età e proveniente dalla stessa organizzazione\, con una riduzione del 50% sulla seconda quota di partecipazione. L’agevolazione è calcolata sulla quota ordinaria. \n\n		\n	\n\n\n\n		\n	\n\n	\n		\n			\n\n\n\n\n\n\n	\n		\n			Formazione finanziata\nLa quota di partecipazione all’iniziativa può essere completamente rimborsata tramite voucher promossi dai Fondi Paritetici Interprofessionali. Paradigma offre la completa e gratuita gestione delle spese di progettazione\, monitoraggio e rendiconto. \n\n		\n	\n\n\n\n		\n	\n\n	\n		\n			\n\n\n\n\n\n\n	\n		\n			Mercati elettronici della PA\nParadigma opera sul MePA e sui principali mercati elettronici di soggetti aggregatori e centrali di committenza. \n\n		\n	\n\n\n\n		\n	\n\n	\n		\n			\n	\n\n\n	I campi con (*) sono obbligatori\n	\n		\n		Dati relativi all'evento\n		\n		\n			Partecipazione in aula\n			Partecipazione in videoconferenza\n		\n		\n\n		Dati relativi al richiedente\n		\n		\n		\n		\n		\n		\n		\n		\n\n	\n\n	\n\n		Dati per eventuale partecipante under 30\n		\n		\n		\n\n	\n\n	\n\n		Dati per la fatturazione elettronica\n		\n		\n		\n		\n		\n		\n				\n		\n		\n		  Split Payment:\n          \n            \n              \n              Si \n            No\n          \n        \n		\n		\n		\n		\n	\n\n	\n\n		Per informazioni contattare\n		\n		\n		\n		\n		\n	\n	L'iscrizione all'evento formativo si intende perfezionata al momento del ricevimento\, da parte di Paradigma Srl\, del presente modulo di registrazione compilato in ogni sua parte\, stampato\, firmato e inviato via e-mail all'indirizzo info@paradigma.it. Riceverete via email conferma dell'avvenuta iscrizione. \n\n\n		\n	     Acconsento all'invio di comunicazioni sui servizi Paradigma Srl - Consenso finalizzato\, anche con modalità automatizzate\, all'invio di comunicazioni relative a prodotti e servizi di Paradigma Srl e al fine di ricevere materiale informativo o promozionale.\n	\n	     Acconsento alla personalizzazione delle offerte - Consenso finalizzato\, mediante modalità automatizzate\, a personalizzare i servizi forniti e meglio indirizzare le proposte promozionali grazie ad attività di profilazione.\n	\n	Inviando i dati autorizzi Paradigma Srl a utilizzare i tuoi dati personali per evadere la richiesta di partecipazione all’evento formativo e svolgere le attività a ciò connesse. I dati potranno essere trattati\, per conto di Paradigma Srl\, da dipendenti e collaboratori incaricati di svolgere specifici servizi necessari all’esecuzione delle tue richieste. Il conferimento dei tuoi dati\, pur essendo facoltativo\, si rende necessario per l’esecuzione del servizio richiesto.	\n\n\n\n\n		\n\n\n\n\n\n		\n	\n[/vc_column][/vc_row]
URL:https://paradigma.it/iniziativa/la-gestione-del-concorso-pubblico/
CATEGORIES:Pubblico Impiego
END:VEVENT
END:VCALENDAR