BEGIN:VCALENDAR
VERSION:2.0
PRODID:-//Paradigma srl - ECPv5.2.1//NONSGML v1.0//EN
CALSCALE:GREGORIAN
METHOD:PUBLISH
X-WR-CALNAME:Paradigma srl
X-ORIGINAL-URL:https://paradigma.it
X-WR-CALDESC:Eventi per Paradigma srl
BEGIN:VTIMEZONE
TZID:Europe/Rome
BEGIN:DAYLIGHT
TZOFFSETFROM:+0100
TZOFFSETTO:+0200
TZNAME:CEST
DTSTART:20240331T010000
END:DAYLIGHT
BEGIN:STANDARD
TZOFFSETFROM:+0200
TZOFFSETTO:+0100
TZNAME:CET
DTSTART:20241027T010000
END:STANDARD
END:VTIMEZONE
BEGIN:VEVENT
DTSTART;TZID=Europe/Rome:20240227T093000
DTEND;TZID=Europe/Rome:20240227T180000
DTSTAMP:20260421T151836
CREATED:20240111T143806Z
LAST-MODIFIED:20240226T095705Z
UID:19600-1709026200-1709056800@paradigma.it
SUMMARY:La gestione dei rischi  e l’attività di compliance  in caso di esternalizzazione  di funzioni e servizi ICT
DESCRIPTION:[vc_row][vc_column]\n	\n		\n			\n		\n	\n\n	\n		\n			\nLa governance delle esternalizzazioni\nI contenuti dei contratti\nLa sicurezza delle informazioni\nDisaster recovery e business continuity\nGli adempimenti data protection\nLe regole applicabili ai settori vigilati\n\nI docenti\, nel corso dell’evento formativo\, risponderanno alle domande e alle richieste di chiarimenti formulate dai partecipanti. Eventuali quesiti potranno essere anticipati inviando una email all’indirizzo asorba@paradigma.it \n \n\n		\n	\n\n	\n		\n			Evento in videoconferenza \n\n		\n	\n\n	\n		\n			27 febbraio 2024 \n\n		\n	\n\n	\n		\n			 \n\n		\n	\n\n	\n		\n			\n\n		\n	\nPresentazioneProgrammaDocentiBrochureIscrizioni e CondizioniPresentazione\n	\n		\n			Contenuti dell’evento \nNel corso della giornata di studio sarà svolta un’analisi completa e dettagliata della gestione dei rischi e dell’attività di compliance in caso di esternalizzazione di funzioni e servizi digitali\, anche alla luce del nuovo quadro normativo e regolamentare e della più recente prassi operativa. \nDestinatari dell’evento \nL’evento formativo è rivolto ai Responsabili della Compliance e del Servizio Legale\, ai Responsabili della Gestione Documentale e della Conservazione\, ai Responsabili dei Sistemi Informativi e del Servizio Organizzazione\, ai Legal Operation Manager\, ai  professionisti che operano nell’ambito della gestione dei rischi e della compliance\, ai Manager e professionisti che si occupano di esternalizzazione di banche\, intermediari e assicurazioni\, imprese industriali e commerciali\, avvocati e consulenti. Sono interessate all’evento anche le Pubbliche Amministrazioni che stanno sviluppando processi di transizione digitale e ai professionisti in genere. \nObiettivi dell’evento \nObiettivo dell’incontro è comprendere i rischi e le opportunità derivanti dall’esternalizzazione di funzioni e servizi digitali\, pianificare e gestire l’esternalizzazione in modo efficace e sicuro\, garantire la conformità dell’esternalizzazione alla normativa vigente. \n\n\n		\n	\nProgramma\n	\n		\n			Martedì 27 febbraio 2024 \nLa gestione dei rischi e l’attività di compliance in caso di esternalizzazione di funzioni e servizi digitali\nIl concetto di rischio e la gestione dei rischi\nL’attività di compliance\nAnalisi dei rischi derivanti dei servizi ICT delle terze parti\nGestione del rischio ICT delle terze parti\nDott.ssa Patrizia Sormani\nPSC\nIntesi Group \nLa gestione del contratto di esternalizzazione di servizi ICT\nI criteri di selezione del fornitore\nLa due diligence del fornitore\nGli elementi del contratto di fornitura dei servizi ICT\nGli strumenti di contrattualistica collaborativa\nIl monitoraggio del contratto\nL’individuazione e il monitoraggio dei fornitori critici di servizi ICT\nLa gestione delle modifiche al contratto\nLa risoluzione del contratto\nCause e procedure di risoluzione del contratto\nDott.ssa Patrizia Sormani\nPSC\nIntesi Group \nI contenuti del contratto di esternalizzazione di servizi ICT\nTipologie e contenuti contrattuali: dalla Circolare 285/2013 di Banca d’Italia al Regolamento DORA\nCome evolvono i rischi contrattuali\nIl controllo e la gestione degli adempimenti contrattuali in tutte le fasi del ciclo di vita della fornitura\nAvv. Maria Cristina Daga\nPartners4Innovation \nLa sicurezza della supply-chain nel mondo finanziario\nLa Circolare n. 285/2013 di Banca d’Italia\nLe Linee Guida (EBA/GL/2019/02) in materia di esternalizzazioni\nIl Regolamento UE sulla resilienza operativa digitale (DORA)\nIl Cyber Resilience Act\nAmbito di applicazione\nAvv. Federico Arcuri\nPartners4Innovation \nSicurezza delle informazioni\, disaster recovery e business continuity\nLa normativa sulla sicurezza delle informazioni\nL’esternalizzazione del sistema informativo\nLe misure di sicurezza nella gestione delle terze parti ICT\nLa corretta ed efficace gestione dei rischi ICT sulle terze parti ICT\nLa verifica e l’auditing dei sistemi e dei processi ICT sulle terze parti ICT\nLa gestione della business continuity e del disaster recovery per le terze parti ICT\nDott. Fabrizio Brioschi\nPartners4Innovation\nDott. Jusef Khamlichi\nPartners4Innovation\n \nAdempimenti privacy e protezione dei dati personali\nLa normativa sulla privacy e sulla data protection in caso di ricorso alle terze parti tra Regolamento DORA e GDPR: cybersecurity e privacy nel settore finanziario\nLa normativa sul trasferimento internazionale dei dati\nLe misure per il trasferimento internazionale dei dati per l’esternalizzazione\nAvv. Giuseppe Vaciago\n42 Law Firm \n\n\n		\n	\nDocenti\n	\n		\n			Avv. Federico Arcuri\nLegal Consultant\nPartners4Innovation \nDott. Fabrizio Brioschi\nPartners4Innovation \nAvv. Maria Cristina Daga\nPartner\nPartners4Innovation \nDott. Jusef Khamlichi\nInformation & Cyber Security Advisor\nPartners4Innovation \nDott.ssa Patrizia Sormani\nExpert Digital Manager\nPSC\nIntesi Group \nAvv. Giuseppe Vaciago\nPartner\n42 Law Firm \n\n\n		\n	\nBrochure\n	\n		\n			 Scarica la brochure\n\n		\n	\nIscrizioni e Condizioni\n	\n		\n			Quota di partecipazione \nLa quota di partecipazione in aula virtuale (diretta streaming) include l’invio del materiale didattico in formato elettronico e la possibilità di sottoporre ai relatori quesiti di specifico interesse a mezzo chat. È altresì possibile anticipare domande e richieste di approfondimento inviando una e-mail a info@paradigma.it entro il giorno antecedente l’evento. \nIn caso di videoconferenza con accessi multipli è necessario contattare la Segreteria organizzativa per un preventivo personalizzato. \nModalità di funzionamento della videoconferenza \nE’ possibile accedere all’aula virtuale da qualsiasi luogo\, utilizzando il proprio PC o tablet con una semplice connessione a Internet. La piattaforma informatica utilizzata da Paradigma (Adobe Connect) non necessita di requisiti tecnici particolari. \nNei giorni antecedenti l’evento il partecipante riceverà per posta elettronica le credenziali e le istruzioni di accesso. Il giorno dell’evento sarà sufficiente selezionare il link che troverà nella mail e inserire le credenziali per accedere all’aula virtuale. \nDurante gli interventi\, oltre a vedere e sentire i docenti\, è possibile consultare simultaneamente la documentazione predisposta dal relatore. Ogni utente collegato potrà porre domande sulle tematiche affrontate a mezzo chat\, alle quali il docente risponderà nel corso dell’intervento. \nModalità di iscrizione \nL’iscrizione si perfeziona al momento del ricevimento del modulo di registrazione\, da inviare via e-mail all’indirizzo info@paradigma.it\, integralmente compilato. Il numero dei collegamenti disponibili è limitato e la priorità d’iscrizione è determinata dalla data di ricezione del modulo di registrazione. Si consiglia pertanto di effettuare una preiscrizione telefonica. \nModalità di pagamento \nLa quota di partecipazione deve essere versata all’atto della presentazione della richiesta di iscrizione e\, in ogni caso\, prima dell’effettuazione dell’evento formativo\, tramite bonifico bancario intestato a: \nParadigma Srl – Corso Vittorio Emanuele II\, 68 – 10121 Torino\nc/o Banco BPM Spa\nIBAN IT 14 V 05034 01017 000000002530 \nFormazione finanziata \nLa quota di partecipazione può essere completamente rimborsata tramite voucher promossi dai Fondi Paritetici Interprofessionali. Paradigma offre la completa e gratuita gestione delle spese di progettazione\, monitoraggio e rendicontazione. La possibilità di accedere alla formazione finanziata con partecipazione mediante videoconferenza può variare a seconda dell’Ente erogante. \nAttestato di frequenza \nL’attestato di partecipazione nominativo sarà inviato al termine dell’evento formativo ai partecipanti che si sono regolarmente collegati all’aula virtuale. \nDiritto di recesso e modalità di disdetta \nÈ attribuita ai partecipanti la facoltà di recedere ai sensi dell’art. 1373 c.c. Il recesso dovrà essere comunicato in forma scritta almeno sette giorni prima della data di inizio dell’evento formativo (escluso il sabato e la domenica). Qualora la disdetta pervenga oltre tale termine o si verifichi di fatto con il mancato collegamento alla videoconferenza\, la quota di partecipazione sarà addebitata per intero e sarà inviato al partecipante il materiale didattico. In qualunque momento l’azienda o lo studio potranno comunque sostituire il partecipante\, comunicando il nuovo nominativo alla nostra Segreteria organizzativa. \nVariazioni di programma \nParadigma\, per ragioni eccezionali e imprevedibili\, si riserva di annullare o modificare la data dell’evento formativo\, dandone comunicazione agli interessati entro tre giorni dalla data di inizio prevista. In tali casi le quote di partecipazione pervenute verranno rimborsate\, con esclusione di qualsivoglia onere o obbligo a carico di Paradigma. Paradigma si riserva inoltre\, per ragioni sopravvenute e per cause di forza maggiore\, di modificare l’articolazione del programma e di sostituire i docenti previsti con altri docenti di pari livello professionale. \nPer ulteriori informazioni è possibile contattare la Segreteria organizzativa al numero 011.538686 o all’indirizzo e-mail info@paradigma.it. \n\n\n		\n	\n\n\n	\n		\n			Quota di partecipazione\n	\n		\n			€ 1.100 + Iva\n\n		\n	\n\n	\n		\n			In caso di videoconferenza con accessi multipli è necessario contattare la Segreteria organizzativa per un preventivo personalizzato. \n\n		\n	\n\n\n		\n	\n\n	\n		\n			\n\n\n\n\n\n\n	\n		\n			Early booking -20%\nInviando il modulo di iscrizione entro il 6 febbraio si avrà diritto a una riduzione del 20% sulla quota di partecipazione.\n \n\n		\n	\n\n\n\n		\n	\n\n	\n		\n			\n\n		\n	\n\n	\n		\n			\n\n		\n	\n\n	\n		\n			\n\n\n\n\n\n\n	\n		\n			Progetto Giovani Eccellenze -50%\nL’adesione all’evento formativo permette di iscrivere una seconda risorsa\, che non abbia compiuto il 30° anno di età e proveniente dalla stessa organizzazione\, con una riduzione del 50% sulla seconda quota di partecipazione. L’agevolazione è calcolata sulla quota ordinaria. \n\n		\n	\n\n\n\n		\n	\n\n	\n		\n			\n\n\n\n\n\n\n	\n		\n			Formazione finanziata\nLa quota di partecipazione all’iniziativa può essere completamente rimborsata tramite voucher promossi dai Fondi Paritetici Interprofessionali. Paradigma offre la completa e gratuita gestione delle spese di progettazione\, monitoraggio e rendiconto. \n\n		\n	\n\n\n\n		\n	\n\n	\n		\n			\n\n\n\n\n\n\n	\n		\n			Mercati elettronici della PA\nParadigma opera sul MePA e sui principali mercati elettronici di soggetti aggregatori e centrali di committenza. \n\n		\n	\n\n\n\n		\n	\n\n	\n		\n			\n	\n\n\n	I campi con (*) sono obbligatori\n	\n		\n		Dati relativi all'evento\n		\n		\n			Partecipazione in aula\n			Partecipazione in videoconferenza\n		\n		\n\n		Dati relativi al richiedente\n		\n		\n		\n		\n		\n		\n		\n		\n\n	\n\n	\n\n		Dati per eventuale partecipante under 30\n		\n		\n		\n\n	\n\n	\n\n		Dati per la fatturazione elettronica\n		\n		\n		\n		\n		\n		\n				\n		\n		\n		  Split Payment:\n          \n            \n              \n              Si \n            No\n          \n        \n		\n		\n		\n		\n	\n\n	\n\n		Per informazioni contattare\n		\n		\n		\n		\n		\n	\n	L'iscrizione all'evento formativo si intende perfezionata al momento del ricevimento\, da parte di Paradigma Srl\, del presente modulo di registrazione compilato in ogni sua parte\, stampato\, firmato e inviato via e-mail all'indirizzo info@paradigma.it. Riceverete via email conferma dell'avvenuta iscrizione. \n\n\n		\n	     Acconsento all'invio di comunicazioni sui servizi Paradigma Srl - Consenso finalizzato\, anche con modalità automatizzate\, all'invio di comunicazioni relative a prodotti e servizi di Paradigma Srl e al fine di ricevere materiale informativo o promozionale.\n	\n	     Acconsento alla personalizzazione delle offerte - Consenso finalizzato\, mediante modalità automatizzate\, a personalizzare i servizi forniti e meglio indirizzare le proposte promozionali grazie ad attività di profilazione.\n	\n	Inviando i dati autorizzi Paradigma Srl a utilizzare i tuoi dati personali per evadere la richiesta di partecipazione all’evento formativo e svolgere le attività a ciò connesse. I dati potranno essere trattati\, per conto di Paradigma Srl\, da dipendenti e collaboratori incaricati di svolgere specifici servizi necessari all’esecuzione delle tue richieste. Il conferimento dei tuoi dati\, pur essendo facoltativo\, si rende necessario per l’esecuzione del servizio richiesto.	\n\n\n\n\n		\n\n\n\n\n\n		\n	\n[/vc_column][/vc_row]
URL:https://paradigma.it/iniziativa/la-gestione-dei-rischi-e-lattivita-di-compliance-in-caso-di-esternalizzazione-di-funzioni-e-servizi-ict/
CATEGORIES:Digitalizzazione
ORGANIZER;CN="Veronica%20Spiez":MAILTO:vspiez@paradigma.it
END:VEVENT
END:VCALENDAR