BEGIN:VCALENDAR
VERSION:2.0
PRODID:-//Paradigma srl - ECPv5.2.1//NONSGML v1.0//EN
CALSCALE:GREGORIAN
METHOD:PUBLISH
X-WR-CALNAME:Paradigma srl
X-ORIGINAL-URL:https://paradigma.it
X-WR-CALDESC:Eventi per Paradigma srl
BEGIN:VTIMEZONE
TZID:Europe/Rome
BEGIN:DAYLIGHT
TZOFFSETFROM:+0100
TZOFFSETTO:+0200
TZNAME:CEST
DTSTART:20250330T010000
END:DAYLIGHT
BEGIN:STANDARD
TZOFFSETFROM:+0200
TZOFFSETTO:+0100
TZNAME:CET
DTSTART:20251026T010000
END:STANDARD
END:VTIMEZONE
BEGIN:VEVENT
DTSTART;TZID=Europe/Rome:20250212T093000
DTEND;TZID=Europe/Rome:20250212T170000
DTSTAMP:20260421T151058
CREATED:20250703T094913Z
LAST-MODIFIED:20250703T094913Z
UID:23680-1739352600-1739379600@paradigma.it
SUMMARY:La gestione dei processi di dematerializzazione degli archivi cartacei
DESCRIPTION:[vc_row][vc_column]\n	\n		\n			\n		\n	\n\n	\n		\n			 \n\n		\n	\n\n	\n		\n			09.30 - 13.30  14.30 - 17.00 \n\n		\n	\n\n	\n		\n			Evento in diretta streaming \n\n		\n	\n\n	\n		\n			 \n\n		\n	\n\n	\n		\n			\n\n		\n	\nPresentazioneProgrammaDocentiBrochureIscrizioni e CondizioniPresentazione\n	\n		\n			Contenuti dell’evento \nNel corso del workshop saranno analizzati i contenuti e le fasi per giungere ad implementare una dematerializzazione massiva degli archivi cartacei\, definendone le diverse fasi implementative e gli aspetti più problematici. \nI docenti coinvolti rappresentano i principali esperti in materia che si occupano di conservazione digitale secondo i massimi livelli di standard previsti dalle Linee Guida. \nDestinatari dell’evento \nL’evento formativo è rivolto ai Responsabili della Compliance e del Servizio Legale\, ai Responsabili dei Sistemi Informativi e del Servizio Organizzazione\, ai Legal Operation di banche\, intermediari e assicurazioni\, imprese industriali e commerciali\, avvocati e consulenti. Sono interessate all’evento anche le Pubbliche Amministrazioni che stanno sviluppando processi di digitalizzazione e dematerializzazione. \nObiettivi dell’evento \nObiettivo dell’incontro è fornire ai partecipanti un quadro dettagliato e completo del processo di dematerializzazione massiva degli archivi cartacei\, presentando strumenti operativi attraverso l’analisi di casi concreti. \n\n\n		\n	\nProgramma\n	\n		\n			Mercoledì 12 febbraio 2025 \nIL QUADRO NORMATIVO DI RIFERIMENTO \nLa normativa di riferimento \nCodice dell’Amministrazione Digitale\nLinee Guida AGID sulla formazione\, gestione e conservazione dei documenti informatici\nRegolamento eIDAS\nLa Circolare del Ministero della Cultura \nIl documento informatico e il documento amministrativo informatico \nIl Codice dell’Amministrazione Digitale e il TUDA n. 445/2000 a confronto \nLa disciplina delle copie e dei duplicati \nArt. 22\, 23 e seguenti del Codice dell’Amministrazione Digitale \nLa certificazione di processo: fasi\, dal raffronto al controllo a campione\nL’Allegato 3 delle Linee Guida AGID sulla formazione\, gestione e conservazione dei documenti informatici \nDott.ssa Enrica Massella Ducci Teri\nEsperta in Gestione e Conservazione Documentale Digitale \n  \nL’IMPLEMENTAZIONE DEL PROCESSO E LA CERTIFICAZIONE \nI soggetti coinvolti\, le responsabilità e le caratteristiche strutturali \nIl dematerializzatore\nIl Notaio o il Pubblico Ufficiale\nIl Committente\nIl Conservatore \nL’iter di predisposizione del processo \nDalla norma alla procedura: come implementare il processo perché sia certificabile dal lato certificatore \nL’importanza della gestione documentale per approcciare correttamente i processi di dematerializzazione \nLa creazione di un archivio digitale\nL’importanza delle logiche archivistiche\nLa classificazione documentale \nLa determinazione del campione rappresentativo \nIl raffronto a campione e la logica sottesa\nGli strumenti a supporto \nLa disciplina dei casi d’uso e la posizione attuale della giurisprudenza correlata all’analisi della tipologia documentale coinvolta\nLa copia conforme e il suo valore\nLa tipologia documentale \nIl valore probatorio dei documenti dematerializzati: distruzione della carta e analisi dei rischi correlati \nLo scarto dell’originale cartaceo\nLe autorizzazioni necessarie\nLe opportunità e i rischi \nDott.ssa Patrizia Sormani\nPSC – Patrizia Sormani Consulting\nANORC Mercato \n  \nL’AUTOMATIZZAZIONE DELLA CERTIFICAZIONE DI PROCESSO E L’IMPLEMENTAZIONE DI PROCESSI EFFICACI \nAnalisi dei requisiti\, fasi e controlli di un processo di dematerializzazione \nLa tecnologia a supporto del processo\nLe fasi strutturate\nI controlli a supporto del certificatore \nCertificazione di processo\, rapporto di verificazione e attestazione di conformità\nQuando prevedere una tipologia o l’altra\nCasi pratici e spunti di confronto \nPaolo Verrecchia \nCONSEDIN\nConsulente IT nei processi di gestione\ndocumentale e dematerializzazione massiva \n\n\n		\n	\nDocenti\n	\n		\n			Dott.ssa Enrica Massella Ducci Teri\nEsperta in Gestione e Conservazione Documentale Digitale\nGià Dirigente AGID \nDott.ssa Patrizia Sormani\nExpert Digital Manager\nPSC – Patrizia Sormani Consulting\nPresidente ANORC Mercato \nPaolo Verrecchia\nCONSEDIN\nConsulente IT nei processi di gestione\ndocumentale e dematerializzazione massiva \n\n\n		\n	\nBrochure\n	\n		\n			 Scarica la brochure\n\n		\n	\nIscrizioni e Condizioni\n	\n		\n			Quota di partecipazione \nLa quota di partecipazione in diretta streaming include la fruizione degli interventi\, nonché la possibilità di scaricare\, in formato elettronico\, il materiale didattico che i relatori riterranno di mettere a disposizione. \nÈ inoltre prevista la possibilità di rivolgere contestualmente domande ai docenti (attivando il proprio microfono o tramite chat)\, oppure sottoporle in via preventiva\, inviando una e-mail a info@optime.it entro il giorno antecedente l’evento. \nIn caso di videoconferenza con accessi multipli è necessario contattare la Segreteria Organizzativa per un preventivo personalizzato. \nModalità di funzionamento della videoconferenza \nE’ possibile accedere all’aula virtuale da qualsiasi luogo\, utilizzando il proprio PC o tablet con una semplice connessione a Internet. La piattaforma informatica utilizzata da Optime non necessita di requisiti tecnici particolari. \nNei giorni antecedenti l’evento il partecipante riceverà per posta elettronica le credenziali e le istruzioni di accesso. Il giorno dell’evento sarà sufficiente selezionare il link che troverà nella mail e inserire le credenziali per accedere all’aula virtuale. \nDurante gli interventi\, oltre a vedere e sentire i docenti\, è possibile consultare simultaneamente la documentazione predisposta dal relatore. Ogni utente collegato potrà porre domande sulle tematiche affrontate (attivando il proprio microfono o tramite chat)\, alle quali il docente risponderà nel corso dell’intervento. \nModalità di iscrizione \nL’iscrizione si perfeziona al momento del ricevimento del modulo di registrazione\, da inviare via e-mail all’indirizzo info@optime.it\, integralmente compilato e sottoscritto. Il numero dei collegamenti disponibili è limitato e la priorità d’iscrizione è determinata dalla data di ricezione del modulo di registrazione. Si consiglia pertanto di effettuare una preiscrizione telefonica. \nModalità di pagamento \nLa quota di partecipazione deve essere versata all’atto della presentazione della richiesta di iscrizione e\, in ogni caso\, prima dell’effettuazione dell’evento formativo\, tramite bonifico bancario intestato a:\nParadigma Srl – Corso Vittorio Emanuele II\, 68 – 10121 Torino\nc/o Banco BPM Spa\nIBAN IT 14 V 05034 01017 000000002530 \nFormazione finanziata \nLa quota di partecipazione può essere completamente rimborsata tramite voucher promossi dai Fondi Paritetici Interprofessionali. Optime offre la completa e gratuita gestione delle spese di progettazione\, monitoraggio e rendicontazione. La possibilità di accedere alla formazione finanziata con partecipazione mediante videoconferenza può variare a seconda dell’Ente erogante. \nAttestato di frequenza \nL’attestato di partecipazione nominativo sarà inviato al termine dell’evento formativo ai partecipanti che si sono regolarmente collegati all’aula virtuale. \nDiritto di recesso e modalità di disdetta \nÈ attribuita ai partecipanti la facoltà di recedere ai sensi dell’art. 1373 c.c. Il recesso dovrà essere comunicato in forma scritta almeno sette giorni prima della data di inizio dell’evento formativo (escluso il sabato e la domenica). Qualora la disdetta pervenga oltre tale termine o si verifichi di fatto con il mancato collegamento alla videoconferenza\, la quota di partecipazione sarà addebitata per intero e sarà inviato al partecipante il materiale didattico e\, se disponibile e per un periodo limitato\, la registrazione dell’evento. In qualunque momento l’azienda o lo studio potranno comunque sostituire il partecipante\, comunicando il nuovo nominativo alla nostra Segreteria Oorganizzativa. \nVariazioni di programma \nParadigma\, per ragioni eccezionali e imprevedibili\, si riserva di annullare o modificare la data dell’evento formativo\, dandone comunicazione agli interessati entro tre giorni dalla data di inizio prevista. In tali casi le quote di partecipazione pervenute verranno rimborsate\, con esclusione di qualsivoglia onere o obbligo a carico di Paradigma. Paradigma si riserva inoltre\, per ragioni sopravvenute e per cause di forza maggiore\, di modificare l’articolazione del programma e di sostituire i docenti previsti con altri docenti di pari livello professionale. \nPer ulteriori informazioni è possibile contattare la Segreteria Organizzativa al numero 011.538686 o all’indirizzo e-mail info@optime.it. \n\n\n		\n	\n\n\n	\n		\n			Quota di partecipazione\n	\n		\n			€ 1.100 + Iva\n\n		\n	\n\n	\n		\n			In caso di videoconferenza con accessi multipli è necessario contattare la Segreteria organizzativa per un preventivo personalizzato. \n\n		\n	\n\n\n		\n	\n\n	\n		\n			\n\n\n\n\n\n\n	\n		\n			Early booking -20%\nInviando il modulo di iscrizione entro il 22 gennaio si avrà diritto a una riduzione del 20% sulla quota di partecipazione. \n\n		\n	\n\n\n\n		\n	\n\n	\n		\n			\n\n		\n	\n\n	\n		\n			\n\n		\n	\n\n	\n		\n			\n\n\n\n\n\n\n	\n		\n			Progetto Giovani Eccellenze -50%\nL’adesione all’evento formativo permette di iscrivere una seconda risorsa\, che non abbia compiuto il 30° anno di età e proveniente dalla stessa organizzazione\, con una riduzione del 50% sulla seconda quota di partecipazione. L’agevolazione è calcolata sulla quota ordinaria. \n\n		\n	\n\n\n\n		\n	\n\n	\n		\n			\n\n\n\n\n\n\n	\n		\n			Formazione finanziata\nLa quota di partecipazione all’iniziativa può essere completamente rimborsata tramite voucher promossi dai Fondi Paritetici Interprofessionali. Optime offre la completa e gratuita gestione delle spese di progettazione\, monitoraggio e rendiconto. \n\n		\n	\n\n\n\n		\n	\n\n	\n		\n			\n\n\n\n\n\n\n	\n		\n			Mercati elettronici della PA\nParadigma opera sul MePA e sui principali mercati elettronici di soggetti aggregatori e centrali di committenza. \n\n		\n	\n\n\n\n		\n	\n\n	\n		\n			\n	\n\n\n	I campi con (*) sono obbligatori\n	\n		\n		Dati relativi all'evento\n		\n		\n			Partecipazione in aula\n			Partecipazione in videoconferenza\n		\n		\n\n		Dati relativi al richiedente\n		\n		\n		\n		\n		\n		\n		\n		\n\n	\n\n	\n\n		Dati per eventuale partecipante under 30\n		\n		\n		\n\n	\n\n	\n\n		Dati per la fatturazione elettronica\n		\n		\n		\n		\n		\n		\n				\n		\n		\n		  Split Payment:\n          \n            \n              \n              Si \n            No\n          \n        \n		\n		\n		\n		\n	\n\n	\n\n		Per informazioni contattare\n		\n		\n		\n		\n		\n	\n	L'iscrizione all'evento formativo si intende perfezionata al momento del ricevimento\, da parte di Paradigma Srl\, del presente modulo di registrazione compilato in ogni sua parte\, stampato\, firmato e inviato via e-mail all'indirizzo info@paradigma.it. Riceverete via email conferma dell'avvenuta iscrizione. \n\n\n		\n	     Acconsento all'invio di comunicazioni sui servizi Paradigma Srl - Consenso finalizzato\, anche con modalità automatizzate\, all'invio di comunicazioni relative a prodotti e servizi di Paradigma Srl e al fine di ricevere materiale informativo o promozionale.\n	\n	     Acconsento alla personalizzazione delle offerte - Consenso finalizzato\, mediante modalità automatizzate\, a personalizzare i servizi forniti e meglio indirizzare le proposte promozionali grazie ad attività di profilazione.\n	\n	Inviando i dati autorizzi Paradigma Srl a utilizzare i tuoi dati personali per evadere la richiesta di partecipazione all’evento formativo e svolgere le attività a ciò connesse. I dati potranno essere trattati\, per conto di Paradigma Srl\, da dipendenti e collaboratori incaricati di svolgere specifici servizi necessari all’esecuzione delle tue richieste. Il conferimento dei tuoi dati\, pur essendo facoltativo\, si rende necessario per l’esecuzione del servizio richiesto.	\n\n\n\n\n		\n\n\n\n\n\n		\n	\n[/vc_column][/vc_row]
URL:https://paradigma.it/iniziativa/la-gestione-dei-processi-di-dematerializzazione-degli-archivi-cartacei/
CATEGORIES:Digitalizzazione
ORGANIZER;CN="Veronica%20Spiez":MAILTO:vspiez@paradigma.it
END:VEVENT
END:VCALENDAR