BEGIN:VCALENDAR
VERSION:2.0
PRODID:-//Paradigma srl - ECPv5.2.1//NONSGML v1.0//EN
CALSCALE:GREGORIAN
METHOD:PUBLISH
X-WR-CALNAME:Paradigma srl
X-ORIGINAL-URL:https://paradigma.it
X-WR-CALDESC:Eventi per Paradigma srl
BEGIN:VTIMEZONE
TZID:Europe/Rome
BEGIN:DAYLIGHT
TZOFFSETFROM:+0100
TZOFFSETTO:+0200
TZNAME:CEST
DTSTART:20240331T010000
END:DAYLIGHT
BEGIN:STANDARD
TZOFFSETFROM:+0200
TZOFFSETTO:+0100
TZNAME:CET
DTSTART:20241027T010000
END:STANDARD
END:VTIMEZONE
BEGIN:VEVENT
DTSTART;TZID=Europe/Rome:20240415T093000
DTEND;TZID=Europe/Rome:20240415T170000
DTSTAMP:20260421T130410
CREATED:20240308T153122Z
LAST-MODIFIED:20240411T100230Z
UID:20058-1713173400-1713200400@paradigma.it
SUMMARY:La gestione dei data breach tra data protection e cybersecurity
DESCRIPTION:[vc_row][vc_column]\n	\n		\n			\n		\n	\n\n	\n		\n			\nLa casistica e le notifiche secondo le Linee Guida EDPB\nLa tassonomia degli incidenti definita dall’Agenzia per la Cybersicurezza nazionale\nPrescrizioni introdotte da altre normative UE (NIS 2\, DORA)\nAdempimenti e rimedi\n\nI docenti\, nel corso dell’evento formativo\, risponderanno alle domande e alle richieste di chiarimenti formulate dai partecipanti. Eventuali quesiti potranno essere anticipati inviando una e-mail all’indirizzo info@paradigma.it \n \n\n		\n	\n\n	\n		\n			Evento in videoconferenza \n\n		\n	\n\n	\n		\n			15 aprile 2024 \n\n		\n	\n\n	\n		\n			 \n\n		\n	\n\n	\n		\n			\n\n		\n	\nPresentazioneProgrammaDocentiBrochureIscrizioni e CondizioniPresentazione\n	\n		\n			Contenuti dell’evento \nQuello della perdita di dati personali è uno dei problemi più rilevanti che il titolare e il responsabile del trattamento possono trovarsi a dover gestire. Come noto\, infatti\, tale evento può compromettere la riservatezza\, l’integrità o la disponibilità dei dati personali trattati\, con conseguente rischio per i diritti e le libertà delle persone fisiche cui tali dati si riferiscono. \nFondamentale\, pertanto\, oltre alle attività che preventivamente possono essere realizzate per ridurre la possibilità del verificarsi di siffatto vulnus (tra cui le recenti Linee Guida per la conservazione delle password\, elaborate congiuntamente dall’Agenzia per la Cybersicurezza Nazionale (ACN) e dal Garante per la protezione dei dati personali\, che affrontano un aspetto di cruciale importanza in chiave di sicurezza dei dati\, spesso sottovalutato)\, è la compliance a tutte le prescrizioni da seguire in chiave di obblighi di comunicazione e di azioni di contenimento delle conseguenze del data breach. Le Linee Guida del WP29 prima (2018)\, e dell’EDPB più recentemente (2021; 2022)\, hanno fornito utili indicazioni per affrontare tali incidenti nella loro complessità\, per quelle che sono le relative implicazioni sul fronte GDPR. \nNondimeno\, vanno però tenute presenti le prescrizioni in materia contenute nella normativa sulla cybersecurity\, dettate dalla Direttiva “NIS” e da tutta la normativa adottata\, a valle di quest’ultima\, a livello nazionale. Su tale ultimo fronte\, rilevante è la Determina 3 gennaio 2023 del Direttore Generale dell’Agenzia per la Cybersicurezza nazionale\, che ha individuato la tassonomia degli incidenti “extra-perimetro” necessitanti in ogni caso di notifica. \nInoltre\, il quadro delle prescrizioni di sicurezza cibernetica è stato arricchito in tempi recenti dalla Direttiva “NIS 2”\, che eleva per un verso gli standard di sicurezza esigibili\, mentre per altro verso ne gradua l’entità in ragione delle dimensioni e del settore di operatività dei soggetti incisi\, nonché dal Regolamento DORA\, valevole per un numero più circoscritto ma al tempo stesso dimensionalmente significativo di destinatari (banche\, assicurazioni\, operatori in criptovalute\, partner tecnologici degli stessi)\, e contenente una serie di prescrizioni particolari su governance del rischio ICT e monitoraggio della tenuta delle infrastrutture tecnologiche. Sull’attuazione di entrambe le novità da ultimo citate interverranno\, nei prossimi mesi\, i decreti legislativi del Governo italiano\, essendo stata da poco inserita nella legge di delegazione europea (L. n. 15/2024) apposita previsione di recepimento della prima e di adattamento dell’ordinamento interno alla seconda. \nIl workshop fornirà\, previa necessaria ricostruzione della normativa applicabile e degli indirizzi interpretativi disponibili\, un’analisi approfondita dei singoli casi di perdita di dati personali e delle implicazioni giuridiche che possono derivarne\, nonché degli adempimenti conseguenti e implementabili anche in chiave prospettica. \nDestinatari dell’evento \nL’iniziativa è rivolta ai Data Protection Officer\, ai Responsabili del Trattamento dei Dati\, ai Privacy Officer\, alle persone autorizzate al trattamento dei dati e ai referenti per la privacy comunque denominati di imprese e pubbliche amministrazioni\, ai Responsabili dell’Area Marketing\, ai Social Media Manager\, agli IT Manager\, ai Security Officer\, ai Responsabili dei Servizi di Compliance\, Affari Legali\, Affari Istituzionali e Regolamentari\, nonchè a tutti i professionisti che si occupano di TMT\, IP\, ICT\, Privacy e Data Protection. \nGli obiettivi  \nL’incontro\, oltre che a fornire ai partecipanti il necessario aggiornamento sulla normativa data protection e cybersecurity e gli orientamenti delle autorità competenti in materia di data breach\, si propone di costituire un concreto ausilio in vista dell’adeguamento di soluzioni organizzative e policy interne. Verranno forniti ai partecipanti spunti operativi in relazione ai possibili interventi migliorativi da realizzare. \n\n\n		\n	\nProgramma\n	\n		\n			Lunedì 15 aprile 2024 \nDATA BREACH E GDPR \nIncidenti e breach secondo il GDPR e le indicazioni delle Autorità garanti\nCos’è un data breach: la definizione nel GDPR e nelle Linee Guida\nI tipi di violazione dei dati personali \nLa casistica di data breach individuata dall’EDPB nelle Linee Guida EDPB n. 1/2021\nAttacco ransomware\nAttacchi con estrazione di dati\nLa fonte interna di rischio di carattere umano\nDispositivi smarriti o rubati e documenti cartacei\nL’errore negli invii postali\nUlteriori casi \nI breach potenzialmente discendenti da una cattiva gestione delle password\nLa corretta policy di conservazione delle password quale misura di sicurezza\nLe recenti Linee Guida in materia elaborate congiuntamente dall’Agenzia per la Cybersicurezza Nazionale (ACN) e dal Garante per la Protezione dei Dati Personali \nAvv. Nadia Martini\nRödl & Partner \n  \nLa notifica del breach all’Autorità di controllo\, anche alla luce delle Linee Guida EDPB n. 9/2022\nQuando notificare\n– i requisiti di cui all’articolo 33 GDPR\n– quando un titolare diventa “consapevole” della violazione\n– cosa succede nei casi di contitolarità\n– gli obblighi del responsabile\nLa trasmissione delle informazioni all’Autorità di controllo\n– le informazioni da rendere\n– l’importanza della previsione di cui all’art. 33 comma 4: la possibilità di fornire informazioni in fasi successive al breach “senza ulteriore ingiustificato ritardo”\n– le notifiche ritardate\nLe condizioni nelle quali non è richiesta la notifica \nLa comunicazione all’interessato (art. 34 GDPR)\nQuando informare l’interessato\nLe informazioni da fornire\nLe condizioni al ricorrere delle quali non è richiesta la comunicazione \nDott. Riccardo Acciai\nGarante per la Protezione dei Dati Personali \n  \nLa valutazione del rischio e il rischio elevato\nIl rischio come trigger per la notifica\nI fattori da considerare nel valutare il rischio\nLa metodologia ENISA per la valutazione del rischio di sicurezza \nAccountability e conservazione dei record\nLa documentazione dei breach\nIl ruolo del responsabile della protezione dei dati \nAvv. Rocco Panetta\nPanetta & Associati \n  \nLE CONSEGUENZE SUL PIANO RIMEDIALE\, SANZIONATORIO E RISARCITORIO \nLe misure adottabili da parte delle Autorità di controllo\nL’utilizzo dei poteri correttivi di cui all’art. 58\, comma 2\, lettera d) del GDPR\nLe sanzioni amministrative irrogabili \nI profili risarcitori connessi al data breach\nIl diritto al risarcimento del danno in caso di illegittima diffusione di dati personali: recenti orientamenti giurisprudenziali \nAvv. Adriano D’Ottavio\nBird & Bird \n  \nGLI OBBLIGHI DI NOTIFICA DEI DATA BREACH NELL’OTTICA DELLE NORMATIVE SULLA SICUREZZA CIBERNETICA \nI data breach alla luce del recepimento della Direttiva NIS (D. Lgs. n. 65/2018)\, dell’istituzione del perimetro di sicurezza nazionale cibernetica (D.L. n. 105/2019 e relativi regolamenti di attuazione) e delle nuove normative UE (NIS 2\, DORA)\nI settori impattati\nGli effetti del passaggio da misure tecnico-organizzative “minime” a misure “adeguate” alla gestione dei rischi e alla prevenzione degli incidenti informatici: un cambio di filosofia in linea con il GDPR\nGli standard di compliance per la definizione dell’adeguatezza\nGli obblighi di notifica degli incidenti rilevanti\nLa tassonomia degli incidenti oggetto di notifica definita con la Determina 3 gennaio 2023 dell’Agenzia per La Cybersicurezza nazionale\nLe sanzioni previste dalla normativa cybersecurity vigente\nGli adeguamenti da pianificare dopo l’approvazione della Direttiva NIS 2 e del Regolamento DORA \nAvv. Giuseppe Vaciago\n42 Law Firm \n\n\n		\n	\nDocenti\n	\n		\n			Dott. Riccardo Acciai\nDirettore\nDipartimento Libertà di Manifestazione del Pensiero e Cyberbullismo\ne Dipartimento Reti Telematiche e Marketing\nGarante per la Protezione dei Dati Personali \nAvv. Adriano D’Ottavio\nCounsel\nCo-Head of the Italian Privacy and Data Protection Team\nBird & Bird \nAvv. Nadia Martini\nHead of Data Protection (Italy)\nCertified Privacy Officer\nPartner\nRödl & Partner \nAvv. Rocco Panetta\nManaging Partner\nPanetta & Associati\nIAPP Country Leader Italia \nAvv. Giuseppe Vaciago\nPartner\n42 Law Firm \n\n\n		\n	\nBrochure\n	\n		\n			 Scarica la brochure\n\n		\n	\nIscrizioni e Condizioni\n	\n		\n			Quota di partecipazione \nLa quota di partecipazione in aula virtuale (diretta streaming) include l’invio del materiale didattico in formato elettronico e la possibilità di sottoporre ai relatori quesiti di specifico interesse a mezzo chat. È altresì possibile anticipare domande e richieste di approfondimento inviando una e-mail a info@paradigma.it entro il giorno antecedente l’evento. \nIn caso di videoconferenza con accessi multipli è necessario contattare la Segreteria organizzativa per un preventivo personalizzato. \nModalità di funzionamento della videoconferenza \nE’ possibile accedere all’aula virtuale da qualsiasi luogo\, utilizzando il proprio PC o tablet con una semplice connessione a Internet. La piattaforma informatica utilizzata da Paradigma (Adobe Connect) non necessita di requisiti tecnici particolari. \nNei giorni antecedenti l’evento il partecipante riceverà per posta elettronica le credenziali e le istruzioni di accesso. Il giorno dell’evento sarà sufficiente selezionare il link che troverà nella mail e inserire le credenziali per accedere all’aula virtuale. \nDurante gli interventi\, oltre a vedere e sentire i docenti\, è possibile consultare simultaneamente la documentazione predisposta dal relatore. Ogni utente collegato potrà porre domande sulle tematiche affrontate a mezzo chat\, alle quali il docente risponderà nel corso dell’intervento. \nModalità di iscrizione \nL’iscrizione si perfeziona al momento del ricevimento del modulo di registrazione\, da inviare via e-mail all’indirizzo info@paradigma.it\, integralmente compilato. Il numero dei collegamenti disponibili è limitato e la priorità d’iscrizione è determinata dalla data di ricezione del modulo di registrazione. Si consiglia pertanto di effettuare una preiscrizione telefonica. \nModalità di pagamento \nLa quota di partecipazione deve essere versata all’atto della presentazione della richiesta di iscrizione e\, in ogni caso\, prima dell’effettuazione dell’evento formativo\, tramite bonifico bancario intestato a: \nParadigma Srl – Corso Vittorio Emanuele II\, 68 – 10121 Torino\nc/o Banco BPM Spa\nIBAN IT 14 V 05034 01017 000000002530 \nFormazione finanziata \nLa quota di partecipazione può essere completamente rimborsata tramite voucher promossi dai Fondi Paritetici Interprofessionali. Paradigma offre la completa e gratuita gestione delle spese di progettazione\, monitoraggio e rendicontazione. La possibilità di accedere alla formazione finanziata con partecipazione mediante videoconferenza può variare a seconda dell’Ente erogante. \nAttestato di frequenza \nL’attestato di partecipazione nominativo sarà inviato al termine dell’evento formativo ai partecipanti che si sono regolarmente collegati all’aula virtuale. \nDiritto di recesso e modalità di disdetta \nÈ attribuita ai partecipanti la facoltà di recedere ai sensi dell’art. 1373 c.c. Il recesso dovrà essere comunicato in forma scritta almeno sette giorni prima della data di inizio dell’evento formativo (escluso il sabato e la domenica). Qualora la disdetta pervenga oltre tale termine o si verifichi di fatto con il mancato collegamento alla videoconferenza\, la quota di partecipazione sarà addebitata per intero e sarà inviato al partecipante il materiale didattico. In qualunque momento l’azienda o lo studio potranno comunque sostituire il partecipante\, comunicando il nuovo nominativo alla nostra Segreteria organizzativa. \nVariazioni di programma \nParadigma\, per ragioni eccezionali e imprevedibili\, si riserva di annullare o modificare la data dell’evento formativo\, dandone comunicazione agli interessati entro tre giorni dalla data di inizio prevista. In tali casi le quote di partecipazione pervenute verranno rimborsate\, con esclusione di qualsivoglia onere o obbligo a carico di Paradigma. Paradigma si riserva inoltre\, per ragioni sopravvenute e per cause di forza maggiore\, di modificare l’articolazione del programma e di sostituire i docenti previsti con altri docenti di pari livello professionale. \nPer ulteriori informazioni è possibile contattare la Segreteria organizzativa al numero 011.538686 o all’indirizzo e-mail info@paradigma.it. \n\n\n		\n	\n\n\n	\n		\n			Quota di partecipazione\n	\n		\n			€ 1.100 + Iva\n\n		\n	\n\n	\n		\n			In caso di videoconferenza con accessi multipli è necessario contattare la Segreteria organizzativa per un preventivo personalizzato. \n\n		\n	\n\n\n		\n	\n\n	\n		\n			\n\n\n\n\n\n\n	\n		\n			Early booking -20%\nInviando il modulo di iscrizione entro il 25 marzo si avrà diritto a una riduzione del 20% sulla quota di partecipazione. \n\n		\n	\n\n\n\n		\n	\n\n	\n		\n			\n\n		\n	\n\n	\n		\n			\n\n		\n	\n\n	\n		\n			\n\n\n\n\n\n\n	\n		\n			Progetto Giovani Eccellenze -50%\nL’adesione all’evento formativo permette di iscrivere una seconda risorsa\, che non abbia compiuto il 30° anno di età e proveniente dalla stessa organizzazione\, con una riduzione del 50% sulla seconda quota di partecipazione. L’agevolazione è calcolata sulla quota ordinaria. \n\n		\n	\n\n\n\n		\n	\n\n	\n		\n			\n\n\n\n\n\n\n	\n		\n			Formazione finanziata\nLa quota di partecipazione all’iniziativa può essere completamente rimborsata tramite voucher promossi dai Fondi Paritetici Interprofessionali. Paradigma offre la completa e gratuita gestione delle spese di progettazione\, monitoraggio e rendiconto. \n\n		\n	\n\n\n\n		\n	\n\n	\n		\n			\n\n\n\n\n\n\n	\n		\n			Mercati elettronici della PA\nParadigma opera sul MePA e sui principali mercati elettronici di soggetti aggregatori e centrali di committenza. \n\n		\n	\n\n\n\n		\n	\n\n	\n		\n			\n	\n\n\n	I campi con (*) sono obbligatori\n	\n		\n		Dati relativi all'evento\n		\n		\n			Partecipazione in aula\n			Partecipazione in videoconferenza\n		\n		\n\n		Dati relativi al richiedente\n		\n		\n		\n		\n		\n		\n		\n		\n\n	\n\n	\n\n		Dati per eventuale partecipante under 30\n		\n		\n		\n\n	\n\n	\n\n		Dati per la fatturazione elettronica\n		\n		\n		\n		\n		\n		\n				\n		\n		\n		  Split Payment:\n          \n            \n              \n              Si \n            No\n          \n        \n		\n		\n		\n		\n	\n\n	\n\n		Per informazioni contattare\n		\n		\n		\n		\n		\n	\n	L'iscrizione all'evento formativo si intende perfezionata al momento del ricevimento\, da parte di Paradigma Srl\, del presente modulo di registrazione compilato in ogni sua parte\, stampato\, firmato e inviato via e-mail all'indirizzo info@paradigma.it. Riceverete via email conferma dell'avvenuta iscrizione. \n\n\n		\n	     Acconsento all'invio di comunicazioni sui servizi Paradigma Srl - Consenso finalizzato\, anche con modalità automatizzate\, all'invio di comunicazioni relative a prodotti e servizi di Paradigma Srl e al fine di ricevere materiale informativo o promozionale.\n	\n	     Acconsento alla personalizzazione delle offerte - Consenso finalizzato\, mediante modalità automatizzate\, a personalizzare i servizi forniti e meglio indirizzare le proposte promozionali grazie ad attività di profilazione.\n	\n	Inviando i dati autorizzi Paradigma Srl a utilizzare i tuoi dati personali per evadere la richiesta di partecipazione all’evento formativo e svolgere le attività a ciò connesse. I dati potranno essere trattati\, per conto di Paradigma Srl\, da dipendenti e collaboratori incaricati di svolgere specifici servizi necessari all’esecuzione delle tue richieste. Il conferimento dei tuoi dati\, pur essendo facoltativo\, si rende necessario per l’esecuzione del servizio richiesto.	\n\n\n\n\n		\n\n\n\n\n\n		\n	\n[/vc_column][/vc_row]
URL:https://paradigma.it/iniziativa/la-gestione-dei-data-breach-tra-data-protection-e-cybersecurity-2/
CATEGORIES:Privacy e tutela dei Dati Personali
ORGANIZER;CN="Angela%20Siniscalchi":MAILTO:asiniscalchi@paradigma.it
END:VEVENT
END:VCALENDAR