BEGIN:VCALENDAR
VERSION:2.0
PRODID:-//Paradigma srl - ECPv5.2.1//NONSGML v1.0//EN
CALSCALE:GREGORIAN
METHOD:PUBLISH
X-WR-CALNAME:Paradigma srl
X-ORIGINAL-URL:https://paradigma.it
X-WR-CALDESC:Eventi per Paradigma srl
BEGIN:VTIMEZONE
TZID:Europe/Rome
BEGIN:DAYLIGHT
TZOFFSETFROM:+0100
TZOFFSETTO:+0200
TZNAME:CEST
DTSTART:20250330T010000
END:DAYLIGHT
BEGIN:STANDARD
TZOFFSETFROM:+0200
TZOFFSETTO:+0100
TZNAME:CET
DTSTART:20251026T010000
END:STANDARD
END:VTIMEZONE
BEGIN:VEVENT
DTSTART;TZID=Europe/Rome:20251002T093000
DTEND;TZID=Europe/Rome:20251002T173000
DTSTAMP:20260419T172612
CREATED:20250801T074235Z
LAST-MODIFIED:20250930T111516Z
UID:24266-1759397400-1759426200@paradigma.it
SUMMARY:La gestione degli audit nelle Pubbliche Amministrazioni  e nelle società pubbliche
DESCRIPTION:[vc_row][vc_column]\n	\n		\n			\n		\n	\n\n	\n		\n			Organizzazione e pianificazione dei controlli\nDefinizione delle metodologie\nGestione del rapporto con i soggetti auditati\nRendicontazione \nIntelligenza Artificiale  \n \n\n		\n	\n\n	\n		\n			09.30 - 13.00  14.30 - 17.30 \n\n		\n	\n\n	\n		\n			Evento in diretta streaming \n\n		\n	\n\n	\n		\n			 \n\n		\n	\n\n	\n		\n			\n\n		\n	\nPresentazioneProgrammaDocentiBrochureIscrizioni e CondizioniPresentazione\n	\n		\n			Contenuti dell’evento \nIl corso professionalizzante offre una accurata disamina del ruolo delle metodologie per la pianificazione\, l’esecuzione e la rendicontazione degli audit nelle Pubbliche Amministrazioni e nelle società pubbliche. \nParticolare attenzione sarà dedicata alle metodologie di selezione degli ambiti da sottoporre a controllo\, all’organizzazione dei punti di controllo\, alle modalità di interlocuzione con gli auditati e\, comunque\, a tutti gli aspetti operativi secondo le best practice\, nazionali e internazionali. \nDestinatari dell’evento \nL´evento formativo è rivolto agli Internal Auditor e Manager di Pubbliche Amministrazioni\, società e altri enti a rilevanza pubblica e a tutti i professionisti che operano a supporto degli Internal Audit di ambito pubblico. \nObiettivi dell’evento \nObiettivo della giornata di studio è fornire ai partecipanti una rappresentazione articolata delle metodologie di auditing in ambito pubblico\, anche mediante la descrizione di esperienze\, strumenti operativi\, indicazioni pratiche e l’analisi della casistica più ricorrente. \n\n\n		\n	\nProgramma\n	\n		\n			Giovedì 2 ottobre 2025 \nL’audit come evoluzione del sistema dei controlli\nL’audit come strumento per la standardizzazione dell’azione amministrativa e miglioramento continuo nell’erogazione dei servizi pubblici\nIl superamento delle attività ispettive come mere attività di controllo repressivo ex post su processi e persone\nLa compliance come percorso verso la razionalizzazione nell’uso delle risorse pubbliche\nRelazione diretta tra attività di audit e sistema di prevenzione della corruzione e della trasparenza\nLa creazione di un sistema progressivamente orientato alla sicurezza organizzativa\nLa graduale introduzione di metodologie quantitative come strumento di conoscenza e governo dei rischi dell’organizzazione\nGli scenari del PNRR e del PNC \nLa tecnica di Internal Auditing nella Pubblica Amministrazione\nI profili evolutivi dell’Internal Auditing: control and risk assessment\nLa revisione gestionale: la revisione interna e la revisione esterna\nL’analisi e la valutazione del quadro ambientale generale: l’ambiente\, il mercato\, la concorrenza potenziale\, il monopolio pubblico delle attività\nL’analisi e la valutazione del profilo complessivo economico e gestionale\nLa contabilità analitica: contabilità per centri di costo e contabilità per attività\nL’analisi e la valutazione dei tratti significativi della gestione manageriale pubblica alla luce della recente normativa di riforma del settore pubblico\nL’analisi e la valutazione del controllo gestionale: la struttura organizzativa e i meccanismi\noperativi\nL’analisi e la valutazione del sistema informativo per il controllo gestionale: gli strumenti tecnico- contabili impiegati\, le caratteristiche di efficacia delle informazioni\nLa revisione interna: contesto funzionale e presupposti\, possibili tipologie\, istituzione della funzione di revisione interna\, revisione interna e costruzione di un sistema di controllo interno\nL’Internal Auditing nella corporate governance delle aziende private e le prospettive nella Pubblica Amministrazione \nLe possibili modalità di revisione interna negli aggregati aziendali: revisione interna ed esterna e sistemi EDP\nLa compliance nell’azione amministrativa: le strategie di attuazione delle non conformità e il ritorno sui sistemi organizzativi\nI limiti di operatività delle azioni correttive: le segnalazioni agli organi di controllo e all’Autorità giudiziaria \nI principali tipi di audit\nGli audit direzionali\nGli audit centrali\nGli audit da remoto\nContinous monitoring e Continous auditing\nIl fraud audit\nLe relazioni sistemiche \nLe tecniche di Internal Audit su:\n• controllo e revisione al ciclo degli approvvigionamenti\n• controllo e revisione al ciclo degli investimenti\n• controllo e revisione nei servizi al cittadino\n• controllo e revisione di tesoreria\n• controllo e revisione degli acquisti \nIl fraud auditing\nLa criminologia e reati economici\nLe frodi da una prospettiva civilistica\, penale e disciplinare\nLe determinanti delle frodi e relativi red flag\nIl ruolo del forensic accountant\nLe tipologie di frode nella Pubblica Amministrazione \nLe attività prodromiche al processo penale rilevanti per l’audit\nIl sistema delle segnalazioni e il whistleblowing\nLa raccolta delle prove\nLa testimonianza in corso di istruttoria\nLa segnalazione all’Autorità giudiziaria \nLe applicazioni dell’IA all’Internal Audit\nMonitoraggio e auditing automatizzato\nAlgoritmi per la trasparenza nei contratti pubblici\nDashboard e report basati su IA\nAnalisi dei flussi finanziari\nTracciabilità delle transazioni\nIdentificazione di paradisi fiscali e flussi illeciti\nPartecipazione civica e piattaforme trasparenti\nSoluzioni IA per promuovere la collaborazione con i cittadini \n  \nDott. Alessandro Pastorelli\nDirigente Pubblico \nResponsabile Servizio Ispettorato e Sicurezza e RPCT\nComponente di Organismi Indipendenti di Valutazione\nINAIL \n\n\n		\n	\nDocenti\n	\n		\n			Dott. Alessandro Pastorelli\nDirigente Pubblico\nResponsabile Servizio Ispettorato e Sicurezza e RPCT\nComponente di Organismi Indipendenti di Valutazione\nINAIL \n\n\n		\n	\nBrochure\n	\n		\n			 Scarica la brochure\n\n		\n	\nIscrizioni e Condizioni\n	\n		\n			Quota di partecipazione \nLa quota di partecipazione in diretta streaming include la fruizione degli interventi\, nonché la possibilità di scaricare\, in formato elettronico\, il materiale didattico che i relatori riterranno di mettere a disposizione. \nÈ inoltre prevista la possibilità di rivolgere contestualmente domande ai docenti (attivando il proprio microfono o tramite chat)\, oppure sottoporle in via preventiva\, inviando una e-mail a info@paradigma.it entro il giorno antecedente l’evento. \nIn caso di diretta streaming con accessi multipli è necessario contattare la Segreteria Organizzativa per un preventivo personalizzato. \nModalità di funzionamento della diretta streaming \nLe iniziative formative sono fruibili in diretta streaming attraverso un semplice collegamento alla piattaforma dedicata. La piattaforma è strutturata per garantire un ottimo livello di fruizione e interazione e non necessita di particolari requisiti tecnici. \nAlcuni giorni prima dell’evento il partecipante riceve le istruzioni di accesso e sarà sufficiente selezionare il link ricevuto per accedere all’aula virtuale. \nGli interventi in diretta streaming sono supportati dalle slide predisposte dal docente. Ogni utente collegato potrà intervenire formulando domande o richieste di approfondimento attivando il proprio microfono o utilizzando la chat dedicata. \nModalità di iscrizione \nL’iscrizione si perfeziona al momento del ricevimento del modulo di registrazione\, da inviare via e-mail all’indirizzo info@paradigma.it\, integralmente compilato e sottoscritto. Il numero dei collegamenti disponibili è limitato e la priorità d’iscrizione è determinata dalla data di ricezione del modulo di registrazione. Si consiglia pertanto di effettuare una preiscrizione telefonica. \nModalità di pagamento \nLa quota di partecipazione deve essere versata all’atto della presentazione della richiesta di iscrizione e\, in ogni caso\, prima dell’effettuazione dell’evento formativo\, tramite bonifico bancario intestato a: \nParadigma Srl – Corso Vittorio Emanuele II\, 68 – 10121 Torino\nc/o Banco BPM Spa\nIBAN IT 14 V 05034 01017 000000002530 \nFormazione finanziata \nLa quota di partecipazione può essere completamente rimborsata tramite voucher promossi dai Fondi Paritetici Interprofessionali. Paradigma offre la completa e gratuita gestione delle spese di progettazione\, monitoraggio e rendicontazione. La possibilità di accedere alla formazione finanziata con partecipazione mediante diretta streaming può variare a seconda dell’Ente erogante. \nAttestato di frequenza \nL’attestato di partecipazione nominativo sarà inviato al termine dell’evento formativo ai partecipanti che si sono regolarmente collegati all’aula virtuale. \nDiritto di recesso e modalità di disdetta \nÈ attribuita ai partecipanti la facoltà di recedere ai sensi dell’art. 1373 c.c. Il recesso dovrà essere comunicato in forma scritta almeno sette giorni prima della data di inizio dell’evento formativo (escluso il sabato e la domenica). Qualora la disdetta pervenga oltre tale termine o si verifichi di fatto con il mancato collegamento alla diretta streaming\, la quota di partecipazione sarà addebitata per intero e sarà inviato al partecipante il materiale didattico e\, se disponibile e per un periodo limitato\, la registrazione dell’evento. In qualunque momento l’azienda o lo studio potranno comunque sostituire il partecipante\, comunicando il nuovo nominativo alla nostra Segreteria Organizzativa. \nVariazioni di programma \nParadigma\, per ragioni eccezionali e imprevedibili\, si riserva di annullare o modificare la data dell’evento formativo\, dandone comunicazione agli interessati entro tre giorni dalla data di inizio prevista. In tali casi le quote di partecipazione pervenute verranno rimborsate\, con esclusione di qualsivoglia onere o obbligo a carico di Paradigma. Paradigma si riserva inoltre\, per ragioni sopravvenute e per cause di forza maggiore\, di modificare l’articolazione del programma e di sostituire i docenti previsti con altri docenti di pari livello professionale. \nPer ulteriori informazioni è possibile contattare la Segreteria Organizzativa al numero 011.538686 o all’indirizzo e-mail info@paradigma.it. \n\n\n		\n	\n\n\n	\n		\n			Quota di partecipazione\n	\n		\n			€ 1.100 + Iva\n\n		\n	\n\n	\n		\n			In caso di videoconferenza con accessi multipli è necessario contattare la Segreteria organizzativa per un preventivo personalizzato. \n\n		\n	\n\n\n		\n	\n\n	\n		\n			\n\n\n\n\n\n\n	\n		\n			Early booking -20%\nInviando il modulo di iscrizione entro l’11 settembre si avrà diritto a una riduzione del 20% sulla quota di partecipazione. \n\n		\n	\n\n\n\n		\n	\n\n	\n		\n			\n\n\n\n\n\n\n	\n		\n			Quota corporate\nIscrivi all’evento 5 o più risorse provenienti dalla stessa organizzazione con una riduzione del 50%. \n\n		\n	\n\n\n\n		\n	\n\n	\n		\n			\n\n		\n	\n\n	\n		\n			\n\n\n\n\n\n\n	\n		\n			Progetto Giovani Eccellenze -50%\nL’adesione all’evento formativo permette di iscrivere una seconda risorsa\, che non abbia compiuto il 30° anno di età e proveniente dalla stessa organizzazione\, con una riduzione del 50% sulla seconda quota di partecipazione. L’agevolazione è calcolata sulla quota ordinaria. \n\n		\n	\n\n\n\n		\n	\n\n	\n		\n			\n\n\n\n\n\n\n	\n		\n			Formazione finanziata\nLa quota di partecipazione all’iniziativa può essere completamente rimborsata tramite voucher promossi dai Fondi Paritetici Interprofessionali. Paradigma offre la completa e gratuita gestione delle spese di progettazione\, monitoraggio e rendiconto. \n\n		\n	\n\n\n\n		\n	\n\n	\n		\n			\n\n\n\n\n\n\n	\n		\n			Mercati elettronici della PA\nParadigma opera sul MePA e sui principali mercati elettronici di soggetti aggregatori e centrali di committenza. \n\n		\n	\n\n\n\n		\n	\n\n	\n		\n			\n	\n\n\n	I campi con (*) sono obbligatori\n	\n		\n		Dati relativi all'evento\n		\n		\n			Partecipazione in aula\n			Partecipazione in videoconferenza\n		\n		\n\n		Dati relativi al richiedente\n		\n		\n		\n		\n		\n		\n		\n		\n\n	\n\n	\n\n		Dati per eventuale partecipante under 30\n		\n		\n		\n\n	\n\n	\n\n		Dati per la fatturazione elettronica\n		\n		\n		\n		\n		\n		\n				\n		\n		\n		  Split Payment:\n          \n            \n              \n              Si \n            No\n          \n        \n		\n		\n		\n		\n	\n\n	\n\n		Per informazioni contattare\n		\n		\n		\n		\n		\n	\n	L'iscrizione all'evento formativo si intende perfezionata al momento del ricevimento\, da parte di Paradigma Srl\, del presente modulo di registrazione compilato in ogni sua parte\, stampato\, firmato e inviato via e-mail all'indirizzo info@paradigma.it. Riceverete via email conferma dell'avvenuta iscrizione. \n\n\n		\n	     Acconsento all'invio di comunicazioni sui servizi Paradigma Srl - Consenso finalizzato\, anche con modalità automatizzate\, all'invio di comunicazioni relative a prodotti e servizi di Paradigma Srl e al fine di ricevere materiale informativo o promozionale.\n	\n	     Acconsento alla personalizzazione delle offerte - Consenso finalizzato\, mediante modalità automatizzate\, a personalizzare i servizi forniti e meglio indirizzare le proposte promozionali grazie ad attività di profilazione.\n	\n	Inviando i dati autorizzi Paradigma Srl a utilizzare i tuoi dati personali per evadere la richiesta di partecipazione all’evento formativo e svolgere le attività a ciò connesse. I dati potranno essere trattati\, per conto di Paradigma Srl\, da dipendenti e collaboratori incaricati di svolgere specifici servizi necessari all’esecuzione delle tue richieste. Il conferimento dei tuoi dati\, pur essendo facoltativo\, si rende necessario per l’esecuzione del servizio richiesto.	\n\n\n\n\n		\n\n\n\n\n\n		\n	\n[/vc_column][/vc_row]
URL:https://paradigma.it/iniziativa/la-gestione-degli-audit-nelle-pubbliche-amministrazioni-e-nelle-societa-pubbliche-corso-professionalizzante-4/
CATEGORIES:Compliance, controlli e internal audit
ORGANIZER;CN="Veronica%20Spiez":MAILTO:vspiez@paradigma.it
END:VEVENT
END:VCALENDAR