BEGIN:VCALENDAR
VERSION:2.0
PRODID:-//Paradigma srl - ECPv5.2.1//NONSGML v1.0//EN
CALSCALE:GREGORIAN
METHOD:PUBLISH
X-WR-CALNAME:Paradigma srl
X-ORIGINAL-URL:https://paradigma.it
X-WR-CALDESC:Eventi per Paradigma srl
BEGIN:VTIMEZONE
TZID:Europe/Rome
BEGIN:DAYLIGHT
TZOFFSETFROM:+0100
TZOFFSETTO:+0200
TZNAME:CEST
DTSTART:20240331T010000
END:DAYLIGHT
BEGIN:STANDARD
TZOFFSETFROM:+0200
TZOFFSETTO:+0100
TZNAME:CET
DTSTART:20241027T010000
END:STANDARD
END:VTIMEZONE
BEGIN:VEVENT
DTSTART;TZID=Europe/Rome:20241127T093000
DTEND;TZID=Europe/Rome:20241128T180000
DTSTAMP:20260421T130556
CREATED:20241015T155233Z
LAST-MODIFIED:20241125T105251Z
UID:21595-1732699800-1732816800@paradigma.it
SUMMARY:La funzione compliance
DESCRIPTION:[vc_row][vc_column]\n	\n		\n			\n		\n	\n\n	\n		\n			\nRuolo\, funzione e collocamento in azienda\nAdempimenti\, scadenze e strumenti operativi\nGli ambiti ordinari e le nuove sfide\nImpatti ESG\nIntelligenza Artificiale\n\nI docenti\, nel corso dell’evento formativo\, risponderanno alle domande e alle richieste di chiarimenti formulate dai partecipanti. Eventuali quesiti potranno essere anticipati inviando una email all’indirizzo info@paradigma.it \n \n\n		\n	\n\n	\n		\n			Evento in videoconferenza \n\n		\n	\n\n	\n		\n			27 e 28 novembre 2024 \n\n		\n	\n\n	\n		\n			 \n\n		\n	\n\n	\n		\n			\n\n		\n	\nPresentazioneProgrammaDocentiBrochureIscrizioni e CondizioniPresentazione\n	\n		\n			Contenuti dell’evento \nNel corso del workshop sarà approfondito il ruolo\, le azioni e le nuove sfide della funzione compliance\, con particolare attenzione agli aspetti propriamente operativi\, grazie all’intervento di preziose testimonianze aziendali di primarie imprese\, nazionali e internazionali\, che rappresenteranno esperienze applicate e best practice. \nL’obiettivo è tagliare trasversalmente i principali ambiti di compliance\, ponendo l’accento sulle nuove sfide – fra tutte\, ESG e Intelligenza Artificiale – e i cantieri a regime sempre più complessi (es. whistleblowing). \nDestinatari dell’evento \nL’evento formativo è rivolto ai Compliance Officer\, ai Responsabili del Servizio Legale\, agli Internal Auditor\, ai componenti di OdV e Collegio Sindacale di imprese\, banche e assicurazioni. \nL’iniziativa è altresì rivolta ai professionisti (avvocati e consulenti) che operano nelle materie oggetto di trattazione\, per i quali il convegno rappresenta una importante occasione di incontro e approfondimento. \nObiettivi dell’evento \nObiettivo dell’incontro è presentare un quadro dettagliato e completo della materia\, mettendo a disposizione dei partecipanti strumenti operativi e indicazioni pratiche per aggiornare le proprie competenze professionali. \n\n\n		\n	\nProgramma\n	\n		\n			Prima giornata\nMercoledì 27 novembre 2024 \nIl collocamento della funzione compliance nell’organizzazione aziendale\nLa mission e i principali obiettivi della funzione compliance\nL’autovalutazione della adeguatezza della struttura della funzione compliance\nFocus su fattispecie particolari: gruppi bancari\, conglomerati con operatività cross border e gruppi internazionali\nBest practice ed esempi concreti\nAvv. Maurizio Rubini\nEmmeErre Consulting \nIl programma delle attività\nLa rappresentazione delle valutazioni sottese alla programmazione e alla individuazione delle azioni di miglioramento\nLa pianificazione delle attività sulla base delle nuove progettualità e delle innovazioni normative\nL’attività di follow up\nLa strutturazione di un adeguato programma formativo\nDott.ssa Daniela Bragante\nCassa Centrale Banca \nCompliance integrata nel Gruppo d’Amico Shipping. Un percorso di avvicinamento\nDott. Francesco Rotundo \nDott.ssa Anna Alberti\nGruppo D’Amico Shipping \nL’adeguamento alla normativa whistleblowing come protocollo multicompliance \nAvv. Milena Cirigliano\nItaliana Petroli \nLe attività di compliance nel mondo delle maison de mode: i punti di attenzione e le attività di prevenzione per la protezione dei brand\nDott.ssa Carmen Paravento\nFENDI \nIl modello di gestione del rischio di conformità: il Compliance Risk assessment e la relazione annuale\nLe attività “ordinarie”: pianificazione\, assurance\, consulenza\, verifica e formazione\nLa descrizione delle attività straordinarie e dei rapporti con le Autorità di Vigilanza\nLa gestione dei reclami\nLa rendicontazione delle attività e dei controlli effettuati\nAvv. Nicola Mitidieri\nDeA Capital RE SGR \nLa compliance antitrust\nAvv. Marco Moretti\nEsiodo \nI rapporti tra la funzione compliance e gli organi aziendali\nI rapporti con l’Internal Audit\, il Collegio Sindacale e l’OdV\nLa gestione delle ispezioni delle Autorità di Vigilanza\nI flussi informativi verso l’alta direzione e il CdA\nAvv. Maurizio Monterisi\nRPLT RP Legalitax \n  \nSeconda giornata\nGiovedì 28 novembre 2024 \nSostenibilità ESG e compliance aziendale\nI rapporti con la funzione interna responsabile dei temi ESG\nLa gestione dei rischi alla base delle strategie di sostenibilità\nLe esigenze di rendicontazione e la governance aziendale\nAvv. Elisa D’Amico\nIVECO Group \nCombined assurance: un primo passo verso la compliance integrata\nLe attività operative e la comunicazione interna per sviluppare cultura e consapevolezza nell’organizzazione aziendale e quindi di garantire l’efficace attuazione dei compliance programs\nDott. Antonio Enrico Agovino\nINWIT \nLa compliance ambientale\nLa valutazione della conformità ambientale e i processi di valutazione dei requisiti ambientali\nAvv. Cosimo Pacciolla\nQ8 Kuwait Petroleum Italia \nLa compliance antiriciclaggio: aspetti organizzativi e attività di prevenzione\nL’identificazione e la gestione dei rischi AML\nAssetti organizzativi e ruolo degli organi e delle funzioni aziendali nella prevenzione dei rischi\nDott. Roberto Aloisio\nWestern Union \nLa compliance a supporto della certificazione ISO 37001\nDott. Emanuele Filippone\nAeroporti di Roma \nLe attività di compliance e data protection nei sistemi di Intelligenza Artificiale: l’esperienza del Gruppo Ferrovie dello Stato\nDott. Massimo Restino\nRFI Rete Ferroviaria Italiana \nGli strumenti della digital transformation a supporto della funzione compliance\nDott. Agostino Carta\nOPENTECH \n\n\n		\n	\nDocenti\n	\n		\n			Dott.ssa Anna Alberti\nCorporate Legal Senior Manager\nGruppo d’Amico Shipping \nDott. Antonio Enrico Agovino\nHead of Risk & Compliance – Data Protection Officer\nINWIT \nDott. Roberto Aloisio\nCompliance Head\nWestern Union \nDott.ssa Daniela Bragante\nChief Compliance Officer\nCassa Centrale Banca \nDott. Agostino Carta\nPMP Certified – Sales Director\nOPENTECH \nAvv. Milena Cirigliano\nDPO & Compliance Officer\nItaliana Petroli \nDott.ssa Elisa D’amico\nSenior Compliance Manager EMEA\nAnticorruption & Education Governance\nIVECO Group \nDott. Emanuele Filippone\nCompliance Officer & DPO\nAeroporti di Roma \nAvv. Nicola Mitidieri\nHead of Compliance\, Anti-Money Laundering and Privacy\nDeA Capital RE SGR \nAvv. Maurizio Monterisi\nSenior Associate\nRPLT RP Legalitax \nAvv. Marco Moretti\nPartner\nEsiodo \nAvv. Cosimo Pacciolla\nHead of Legal Risk Management & Integrated Compliance\nQ8 Kuwait Petroleum Italia \nDott.ssa Carmen Paravento\nWorldwide Compliance Manager\nFENDI \nDott. Massimo Restino\nHead of Compliance & Data Protection Officer\nRFI Rete Ferroviaria Italiana \nDott. Francesco Rotundo\nHR & General Affairs Group Director\nGruppo d’Amico Shipping \nAvv. Maurizio Rubini\nFounding Partner\nEmmeErre Consulting \n\n\n		\n	\nBrochure\n	\n		\n			 Scarica la brochure\n\n		\n	\nIscrizioni e Condizioni\n	\n		\n			Quota di partecipazione \nLa quota di partecipazione in aula virtuale (diretta streaming) include la fruizione in diretta delle docenze\, nonché l’invio\, in formato elettronico\, del materiale didattico che i relatori riterranno di mettere a disposizione. È inoltre prevista la possibilità di presentare in diretta domande e quesiti di specifico interesse a mezzo chat\, nonché di sottoporli in via preventiva\, inviando una email a info@paradigma.it entro il giorno antecedente l’evento. \nIn caso di videoconferenza con accessi multipli è necessario contattare la Segreteria organizzativa per un preventivo personalizzato. \nModalità di funzionamento della videoconferenza \nE’ possibile accedere all’aula virtuale da qualsiasi luogo\, utilizzando il proprio PC o tablet con una semplice connessione a Internet. La piattaforma informatica utilizzata da Paradigma (Adobe Connect) non necessita di requisiti tecnici particolari. \nNei giorni antecedenti l’evento il partecipante riceverà per posta elettronica le credenziali e le istruzioni di accesso. Il giorno dell’evento sarà sufficiente selezionare il link che troverà nella mail e inserire le credenziali per accedere all’aula virtuale. \nDurante gli interventi\, oltre a vedere e sentire i docenti\, è possibile consultare simultaneamente la documentazione predisposta dal relatore. Ogni utente collegato potrà porre domande sulle tematiche affrontate a mezzo chat\, alle quali il docente risponderà nel corso dell’intervento. \nModalità di iscrizione \nL’iscrizione si perfeziona al momento del ricevimento del modulo di registrazione\, da inviare via e-mail all’indirizzo info@paradigma.it\, integralmente compilato. Il numero dei collegamenti disponibili è limitato e la priorità d’iscrizione è determinata dalla data di ricezione del modulo di registrazione. Si consiglia pertanto di effettuare una preiscrizione telefonica. \nModalità di pagamento \nLa quota di partecipazione deve essere versata all’atto della presentazione della richiesta di iscrizione e\, in ogni caso\, prima dell’effettuazione dell’evento formativo\, tramite bonifico bancario intestato a: \nParadigma Srl – Corso Vittorio Emanuele II\, 68 – 10121 Torino\nc/o Banco BPM Spa\nIBAN IT 14 V 05034 01017 000000002530 \nFormazione finanziata \nLa quota di partecipazione può essere completamente rimborsata tramite voucher promossi dai Fondi Paritetici Interprofessionali. Paradigma offre la completa e gratuita gestione delle spese di progettazione\, monitoraggio e rendicontazione. La possibilità di accedere alla formazione finanziata con partecipazione mediante videoconferenza può variare a seconda dell’Ente erogante. \nAttestato di frequenza \nL’attestato di partecipazione nominativo sarà inviato al termine dell’evento formativo ai partecipanti che si sono regolarmente collegati all’aula virtuale. \nDiritto di recesso e modalità di disdetta \nÈ attribuita ai partecipanti la facoltà di recedere ai sensi dell’art. 1373 c.c. Il recesso dovrà essere comunicato in forma scritta almeno sette giorni prima della data di inizio dell’evento formativo (escluso il sabato e la domenica). Qualora la disdetta pervenga oltre tale termine o si verifichi di fatto con il mancato collegamento alla videoconferenza\, la quota di partecipazione sarà addebitata per intero e sarà inviato al partecipante il materiale didattico. In qualunque momento l’azienda o lo studio potranno comunque sostituire il partecipante\, comunicando il nuovo nominativo alla nostra Segreteria organizzativa. \nVariazioni di programma \nParadigma\, per ragioni eccezionali e imprevedibili\, si riserva di annullare o modificare la data dell’evento formativo\, dandone comunicazione agli interessati entro tre giorni dalla data di inizio prevista. In tali casi le quote di partecipazione pervenute verranno rimborsate\, con esclusione di qualsivoglia onere o obbligo a carico di Paradigma. Paradigma si riserva inoltre\, per ragioni sopravvenute e per cause di forza maggiore\, di modificare l’articolazione del programma e di sostituire i docenti previsti con altri docenti di pari livello professionale. \nPer ulteriori informazioni è possibile contattare la Segreteria organizzativa al numero 011.538686 o all’indirizzo e-mail info@paradigma.it. \n\n\n		\n	\n\n\n	\n		\n			Quota di partecipazione\n	\n		\n			€ 1.100 + Iva una giornata€ 2.050 + Iva due giornate\n\n		\n	\n\n	\n		\n			In caso di videoconferenza con accessi multipli è necessario contattare la Segreteria organizzativa per un preventivo personalizzato. \n\n		\n	\n\n\n		\n	\n\n	\n		\n			\n\n\n\n\n\n\n	\n		\n			Early booking -20%\nInviando il modulo di iscrizione entro il 6 novembre si avrà diritto a una riduzione del 20% sulla quota di partecipazione. \n\n		\n	\n\n\n\n		\n	\n\n	\n		\n			\n\n		\n	\n\n	\n		\n			\n\n		\n	\n\n	\n		\n			\n\n\n\n\n\n\n	\n		\n			Progetto Giovani Eccellenze -50%\nL’adesione all’evento formativo permette di iscrivere una seconda risorsa\, che non abbia compiuto il 30° anno di età e proveniente dalla stessa organizzazione\, con una riduzione del 50% sulla seconda quota di partecipazione. L’agevolazione è calcolata sulla quota ordinaria. \n\n		\n	\n\n\n\n		\n	\n\n	\n		\n			\n\n\n\n\n\n\n	\n		\n			Formazione finanziata\nLa quota di partecipazione all’iniziativa può essere completamente rimborsata tramite voucher promossi dai Fondi Paritetici Interprofessionali. Paradigma offre la completa e gratuita gestione delle spese di progettazione\, monitoraggio e rendiconto. \n\n		\n	\n\n\n\n		\n	\n\n	\n		\n			\n\n\n\n\n\n\n	\n		\n			Mercati elettronici della PA\nParadigma opera sul MePA e sui principali mercati elettronici di soggetti aggregatori e centrali di committenza. \n\n		\n	\n\n\n\n		\n	\n\n	\n		\n			\n	\n\n\n	I campi con (*) sono obbligatori\n	\n		\n		Dati relativi all'evento\n		\n		\n			Partecipazione in aula\n			Partecipazione in videoconferenza\n		\n		\n\n		Dati relativi al richiedente\n		\n		\n		\n		\n		\n		\n		\n		\n\n	\n\n	\n\n		Dati per eventuale partecipante under 30\n		\n		\n		\n\n	\n\n	\n\n		Dati per la fatturazione elettronica\n		\n		\n		\n		\n		\n		\n				\n		\n		\n		  Split Payment:\n          \n            \n              \n              Si \n            No\n          \n        \n		\n		\n		\n		\n	\n\n	\n\n		Per informazioni contattare\n		\n		\n		\n		\n		\n	\n	L'iscrizione all'evento formativo si intende perfezionata al momento del ricevimento\, da parte di Paradigma Srl\, del presente modulo di registrazione compilato in ogni sua parte\, stampato\, firmato e inviato via e-mail all'indirizzo info@paradigma.it. Riceverete via email conferma dell'avvenuta iscrizione. \n\n\n		\n	     Acconsento all'invio di comunicazioni sui servizi Paradigma Srl - Consenso finalizzato\, anche con modalità automatizzate\, all'invio di comunicazioni relative a prodotti e servizi di Paradigma Srl e al fine di ricevere materiale informativo o promozionale.\n	\n	     Acconsento alla personalizzazione delle offerte - Consenso finalizzato\, mediante modalità automatizzate\, a personalizzare i servizi forniti e meglio indirizzare le proposte promozionali grazie ad attività di profilazione.\n	\n	Inviando i dati autorizzi Paradigma Srl a utilizzare i tuoi dati personali per evadere la richiesta di partecipazione all’evento formativo e svolgere le attività a ciò connesse. I dati potranno essere trattati\, per conto di Paradigma Srl\, da dipendenti e collaboratori incaricati di svolgere specifici servizi necessari all’esecuzione delle tue richieste. Il conferimento dei tuoi dati\, pur essendo facoltativo\, si rende necessario per l’esecuzione del servizio richiesto.	\n\n\n\n\n		\n\n\n\n\n\n		\n	\n[/vc_column][/vc_row]
URL:https://paradigma.it/iniziativa/la-funzione-compliance-4/
CATEGORIES:Compliance, controlli e internal audit
ORGANIZER;CN="Veronica%20Spiez":MAILTO:vspiez@paradigma.it
END:VEVENT
END:VCALENDAR