BEGIN:VCALENDAR
VERSION:2.0
PRODID:-//Paradigma srl - ECPv5.2.1//NONSGML v1.0//EN
CALSCALE:GREGORIAN
METHOD:PUBLISH
X-WR-CALNAME:Paradigma srl
X-ORIGINAL-URL:https://paradigma.it
X-WR-CALDESC:Eventi per Paradigma srl
BEGIN:VTIMEZONE
TZID:Europe/Rome
BEGIN:DAYLIGHT
TZOFFSETFROM:+0100
TZOFFSETTO:+0200
TZNAME:CEST
DTSTART:20220327T010000
END:DAYLIGHT
BEGIN:STANDARD
TZOFFSETFROM:+0200
TZOFFSETTO:+0100
TZNAME:CET
DTSTART:20221030T010000
END:STANDARD
END:VTIMEZONE
BEGIN:VEVENT
DTSTART;TZID=Europe/Rome:20221122T093000
DTEND;TZID=Europe/Rome:20221123T180000
DTSTAMP:20260421T145654
CREATED:20221007T134227Z
LAST-MODIFIED:20221121T135942Z
UID:16327-1669109400-1669226400@paradigma.it
SUMMARY:La funzione compliance
DESCRIPTION:[vc_row][vc_column]\n	\n		\n			\n		\n	\n\n	\n		\n			L’agenda delle priorità e la redazione della relazione annuale \n\nIl programma delle attività\nIl Compliance Risk Assessment\nLa compliance integrata\nGli strumenti di digitalizzazione\n\nI docenti\, nel corso dell’evento formativo\, risponderanno alle domande e alle richieste di chiarimenti formulate dai partecipanti. Eventuali quesiti potranno essere anticipati inviando una email all’indirizzo info@paradigma.it \n \n\n		\n	\n\n	\n		\n			Evento in videoconferenza \n\n		\n	\n\n	\n		\n			22 e 23 novembre 2022 \n\n		\n	\n\n	\n		\n			 \n\n		\n	\n\n	\n		\n			\n\n		\n	\nPresentazioneProgrammaDocentiBrochureIscrizioni e CondizioniPresentazione\n	\n		\n			Contenuti dell’evento \nIl seminario intende approfondire – anche attraverso l’esame di best practice – il ruolo\, le azioni e le nuove sfide della funzione compliance\, dedicando particolare attenzione agli aspetti propriamente operativi tra cui il programma delle attività e la relazione annuale. \nNel corso della giornata di studio saranno analizzati i temi inerenti al collocamento della funzione compliance nell’organizzazione aziendale\, ai rapporti tra la funzione compliance e gli altri attori del sistema dei controlli interni nonché – in via trasversale – le azioni di pianificazione\, programmazione e rendicontazione delle attività\, con un focus sulla relazione della compliance\, sottoforma di workshop\, nonché plurime testimonianze di primarie imprese nazionali e internazionali in merito ai propri sistemi di compliance. \nDestinatari dell’evento \nL’evento formativo è rivolto ai Compliance Officer\, ai Responsabili del Servizio Legale\, agli Internal Auditor\, ai componenti di OdV e Collegio Sindacale di imprese\, banche e assicurazioni. \nL’iniziativa è altresì rivolta ai professionisti (avvocati e consulenti) che operano nelle materie oggetto di trattazione\, per i quali il convegno rappresenta una importante occasione di incontro e approfondimento. \nObiettivi dell’evento \nObiettivo dell’incontro è presentare un quadro dettagliato e completo della materia\, mettendo a disposizione dei partecipanti strumenti operativi e indicazioni pratiche per aggiornare le proprie competenze professionali. \n\n\n		\n	\nProgramma\n	\n		\n			PRIMA GIORNATA \nMartedì 22 novembre 2022 \nIl collocamento della funzione compliance nell’organizzazione aziendale\nLa mission e i principali obiettivi della funzione compliance\nL’autovalutazione della adeguatezza della struttura della funzione compliance\nFocus su fattispecie particolari: gruppi bancari\, conglomerati con operatività cross border e gruppi internazionali\nBest practice ed esempi concreti\nAvv. Maurizio Rubini\nEmmeErre Consulting \nIl programma delle attività\nLa rappresentazione delle valutazioni sottese alla programmazione e alla individuazione delle azioni di miglioramento\nLa pianificazione delle attività sulla base delle nuove progettualità e delle innovazioni normative\nL’attività di follow up\nLa strutturazione di un adeguato programma formativo\nDott. Daniela Bragante\nNEXI \nI rapporti tra la funzione compliance e gli organi aziendali\nI rapporti con l’Internal Audit\, il Collegio Sindacale e l’OdV\nLa gestione delle ispezioni delle Autorità di Vigilanza\nI flussi informativi verso l’alta direzione e il CdA\nAvv. Raffaele Gnazzi\nNovomatic Italia \nIl modello e le attività di compliance nel gruppo Ferrovie dello Stato\nDott. Massimo Restino\nRete Ferroviaria Italiana \nLa pianificazione delle attività della funzione compliance\nStrumenti di lavoro e rappresentazione dei rischi\nLe attività di verifica operativa: tecniche redazionali\, valutazioni sintetiche e presentazione agli organi aziendali\nLa gestione delle segnalazioni interne\nDott.ssa Elisa Tarantola\nITA Airways \nLa relazione annuale della funzione compliance\nLa descrizione del modello di gestione del rischio di non conformità\nIl Compliance Risk Assessment\nLe attività “ordinarie”: pianificazione\, assurance\, consulenza\, verifica e formazione\nLa descrizione delle attività straordinarie e dei rapporti con le Autorità di Vigilanza\nLa gestione dei reclami\nLa valutazione del sistema di controllo interno riguardo alla conformità alle norme\nLa rendicontazione delle attività e dei controlli effettuati\nDott. Nicola Mitidieri\nDeA Capital RE SGR\n \nIl ruolo della compliance nella diffusione della cultura della business integrity \nLe attività di training e la comunicazione interna in un’ottica di creare cultura e consapevolezza e quindi di garantire l’efficace attuazione dei compliance programs\nDott. Antonio Enrico Agovino\nINWIT \n  \nSECONDA GIORNATA \nMercoledì 23 novembre 2022 \nIl programma di adeguamento al GDPR in ottica di compliance integrata e il ruolo del DPO e Compliance Officer\nAvv. Milena Cirigliano\nItaliana Petroli\n \nLa trasformazione digitale delle attività di compliance\nLe relazioni tra il Codice Etico e sviluppo dell’intelligenza artificiale\nDott. Giampaolo Leone\nTIM \nLa compliance nel mondo healtcare\nGovernare e controllare i rischi emergenti ed evitare sanzioni deontologiche\, penali e danni reputazionali: l’esperienza di una società di Medical Devices\nDott.ssa Nadia Bonizzi\nFresenius Medical Care \nGruppi multinazionali e sistemi di compliance integrata\nAvv. Gabriella Porcelli\nIVECO Group \nLa tecnologia a supporto della funzione compliance\nDott. Agostino Carta\nOPENTECH \nLa compliance 231 alla luce delle recenti novità normative\nL’applicazione della 231 nei gruppi di società\nI flussi informativi\nIl raccordo tra OdV e funzione compliance\nAvv. Antonio Cristodoro\nENI Group\n \nLa compliance antitrust\nAvv. Marco Moretti\nLegalitax Studio Legale e Tributario \n\n\n		\n	\nDocenti\n	\n		\n			Dott. Antonio Enrico Agovino\nHead of Risk & Compliance – Data Protection Officer\nINWIT \nDott.ssa Nadia Bonizzi\nLocal Compliance Officer Italy\nFresenius Medical Care \nDott.ssa Daniela Bragante\nChief Compliance Officer\nNEXI \nDott. Agostino Carta\nPMP Certified – Sales Director\nOPENTECH \nAvv. Milena Cirigliano\nDPO & Compliance Officer\nItaliana Petroli \nAvv. Antonio Cristodoro\nSenior Manager\nCompliance Management\nENI Group \nAvv. Raffaele Gnazzi\nLegal e Compliance Director\nNovomatic Italia \nDott. Giampaolo Leone\nGroup Compliance Officer\nTIM \nDott. Nicola Mitidieri\nHead of Compliance\, Anti-money Laundering and Privacy\nDeA Capital RE SGR \nAvv. Marco Moretti\nPartner\nLegalitax Studio Legale e Tributario \nAvv. Gabriella Porcelli\nGeneral Counsel e Chief Compliance Officer\nIVECO Group \nDott. Massimo Restino\nResponsabile Direzione Affari Societari e Compliance\nRete Ferroviaria Italiana \nAvv. Maurizio Rubini\nFounding Partner\nEmmeErre Consulting \nDott.ssa Elisa Tarantola\nHead of Compliance e Internal Audit\nITA Airways \n\n\n		\n	\nBrochure\n	\n		\n			 Scarica la brochure\n\n		\n	\nIscrizioni e Condizioni\n	\n		\n			Quota di partecipazione \nLa quota di partecipazione in aula virtuale (diretta streaming) include l’invio del materiale didattico in formato elettronico e la possibilità di sottoporre ai relatori quesiti di specifico interesse a mezzo chat. È altresì possibile anticipare domande e richieste di approfondimento inviando una e-mail a info@paradigma.it entro il giorno antecedente l’evento. \nIn caso di videoconferenza con accessi multipli è necessario contattare la Segreteria organizzativa per un preventivo personalizzato. \nModalità di funzionamento della videoconferenza \nE’ possibile accedere all’aula virtuale da qualsiasi luogo\, utilizzando il proprio PC o tablet con una semplice connessione a Internet. La piattaforma informatica utilizzata da Paradigma (Adobe Connect) non necessita di requisiti tecnici particolari. \nNei giorni antecedenti l’evento il partecipante riceverà per posta elettronica le credenziali e le istruzioni di accesso. Il giorno dell’evento sarà sufficiente selezionare il link che troverà nella mail e inserire le credenziali per accedere all’aula virtuale. \nDurante gli interventi\, oltre a vedere e sentire i docenti\, è possibile consultare simultaneamente la documentazione predisposta dal relatore. Ogni utente collegato potrà porre domande sulle tematiche affrontate a mezzo chat\, alle quali il docente risponderà nel corso dell’intervento. \nModalità di iscrizione \nL’iscrizione si perfeziona al momento del ricevimento del modulo di registrazione\, da inviare via e-mail all’indirizzo info@paradigma.it\, integralmente compilato. Il numero dei collegamenti disponibili è limitato e la priorità d’iscrizione è determinata dalla data di ricezione del modulo di registrazione. Si consiglia pertanto di effettuare una preiscrizione telefonica. \nModalità di pagamento \nLa quota di partecipazione deve essere versata all’atto della presentazione della richiesta di iscrizione e\, in ogni caso\, prima dell’effettuazione dell’intervento formativo\, tramite bonifico bancario intestato a: \nParadigma Srl – Corso Vittorio Emanuele II\, 68 – 10121 Torino\nc/o Banco BPM Spa\nIBAN IT 14 V 05034 01017 000000002530 \nFormazione finanziata \nLa quota di partecipazione può essere completamente rimborsata tramite voucher promossi dai Fondi Paritetici Interprofessionali. Paradigma offre la completa e gratuita gestione delle spese di progettazione\, monitoraggio e rendicontazione. La possibilità di accedere alla formazione finanziata con partecipazione mediante videoconferenza può variare a seconda dell’Ente erogante. \nAttestato di frequenza \nL’attestato di partecipazione nominativo sarà inviato al termine dell’evento formativo ai partecipanti che si sono regolarmente collegati all’aula virtuale. \nDiritto di recesso e modalità di disdetta \nÈ attribuita ai partecipanti la facoltà di recedere ai sensi dell’art. 1373 c.c. Il recesso dovrà essere comunicato in forma scritta almeno sette giorni prima della data di inizio dell’evento formativo (escluso il sabato e la domenica). Qualora la disdetta pervenga oltre tale termine o si verifichi di fatto con il mancato collegamento alla videoconferenza\, la quota di partecipazione sarà addebitata per intero e sarà inviato al partecipante il materiale didattico. In qualunque momento l’azienda o lo studio potranno comunque sostituire il partecipante\, comunicando il nuovo nominativo alla nostra Segreteria organizzativa. \nVariazioni di programma \nParadigma\, per ragioni eccezionali e imprevedibili\, si riserva di annullare o modificare la data dell’evento formativo\, dandone comunicazione agli interessati entro tre giorni dalla data di inizio prevista. In tali casi le quote di partecipazione pervenute verranno rimborsate\, con esclusione di qualsivoglia onere o obbligo a carico di Paradigma. Paradigma si riserva inoltre\, per ragioni sopravvenute e per cause di forza maggiore\, di modificare l’articolazione del programma e di sostituire i docenti previsti con altri docenti di pari livello professionale. \nPer ulteriori informazioni è possibile contattare la Segreteria organizzativa al numero 011.538686 o all’indirizzo e-mail info@paradigma.it. \n\n\n		\n	\n\n\n	\n		\n			Quota di partecipazione\n	\n		\n			€ 1.100 + Iva una giornata€ 2.050 + Iva due giornate\n\n		\n	\n\n	\n		\n			In caso di videoconferenza con accessi multipli è necessario contattare la Segreteria organizzativa per un preventivo personalizzato. \n\n		\n	\n\n\n		\n	\n\n	\n		\n			\n\n\n\n\n\n\n	\n		\n			Early booking -20%\nInviando il modulo di iscrizione entro il 2 novembre  si avrà diritto a una riduzione del 20% sulla quota di partecipazione. \n\n		\n	\n\n\n\n		\n	\n\n	\n		\n			\n\n		\n	\n\n	\n		\n			\n\n		\n	\n\n	\n		\n			\n\n\n\n\n\n\n	\n		\n			Progetto Giovani Eccellenze -50%\nL’adesione all’evento formativo permette di iscrivere una seconda risorsa\, che non abbia compiuto il 30° anno di età e proveniente dalla stessa organizzazione\, con una riduzione del 50% sulla seconda quota di partecipazione. L’agevolazione è calcolata sulla quota ordinaria. \n\n		\n	\n\n\n\n		\n	\n\n	\n		\n			\n\n\n\n\n\n\n	\n		\n			Formazione finanziata\nLa quota di partecipazione all’iniziativa può essere completamente rimborsata tramite voucher promossi dai Fondi Paritetici Interprofessionali. Paradigma offre la completa e gratuita gestione delle spese di progettazione\, monitoraggio e rendiconto. \n\n		\n	\n\n\n\n		\n	\n\n	\n		\n			\n\n\n\n\n\n\n	\n		\n			Mercati elettronici della PA\nParadigma opera sul MePA e sui principali mercati elettronici di soggetti aggregatori e centrali di committenza. \n\n		\n	\n\n\n\n		\n	\n\n	\n		\n			\n	\n\n\n	I campi con (*) sono obbligatori\n	\n		\n		Dati relativi all'evento\n		\n		\n			Partecipazione in aula\n			Partecipazione in videoconferenza\n		\n		\n\n		Dati relativi al richiedente\n		\n		\n		\n		\n		\n		\n		\n		\n\n	\n\n	\n\n		Dati per eventuale partecipante under 30\n		\n		\n		\n\n	\n\n	\n\n		Dati per la fatturazione elettronica\n		\n		\n		\n		\n		\n		\n				\n		\n		\n		  Split Payment:\n          \n            \n              \n              Si \n            No\n          \n        \n		\n		\n		\n		\n	\n\n	\n\n		Per informazioni contattare\n		\n		\n		\n		\n		\n	\n	L'iscrizione all'evento formativo si intende perfezionata al momento del ricevimento\, da parte di Paradigma Srl\, del presente modulo di registrazione compilato in ogni sua parte\, stampato\, firmato e inviato via e-mail all'indirizzo info@paradigma.it. Riceverete via email conferma dell'avvenuta iscrizione. \n\n\n		\n	     Acconsento all'invio di comunicazioni sui servizi Paradigma Srl - Consenso finalizzato\, anche con modalità automatizzate\, all'invio di comunicazioni relative a prodotti e servizi di Paradigma Srl e al fine di ricevere materiale informativo o promozionale.\n	\n	     Acconsento alla personalizzazione delle offerte - Consenso finalizzato\, mediante modalità automatizzate\, a personalizzare i servizi forniti e meglio indirizzare le proposte promozionali grazie ad attività di profilazione.\n	\n	Inviando i dati autorizzi Paradigma Srl a utilizzare i tuoi dati personali per evadere la richiesta di partecipazione all’evento formativo e svolgere le attività a ciò connesse. I dati potranno essere trattati\, per conto di Paradigma Srl\, da dipendenti e collaboratori incaricati di svolgere specifici servizi necessari all’esecuzione delle tue richieste. Il conferimento dei tuoi dati\, pur essendo facoltativo\, si rende necessario per l’esecuzione del servizio richiesto.	\n\n\n\n\n		\n\n\n\n\n\n		\n	\n[/vc_column][/vc_row]
URL:https://paradigma.it/iniziativa/la-funzione-compliance-2/
CATEGORIES:Compliance, controlli e internal audit
ORGANIZER;CN="Angela%20Siniscalchi":MAILTO:asiniscalchi@paradigma.it
END:VEVENT
END:VCALENDAR