BEGIN:VCALENDAR
VERSION:2.0
PRODID:-//Paradigma srl - ECPv5.2.1//NONSGML v1.0//EN
CALSCALE:GREGORIAN
METHOD:PUBLISH
X-WR-CALNAME:Paradigma srl
X-ORIGINAL-URL:https://paradigma.it
X-WR-CALDESC:Eventi per Paradigma srl
BEGIN:VTIMEZONE
TZID:Europe/Rome
BEGIN:DAYLIGHT
TZOFFSETFROM:+0100
TZOFFSETTO:+0200
TZNAME:CEST
DTSTART:20230326T010000
END:DAYLIGHT
BEGIN:STANDARD
TZOFFSETFROM:+0200
TZOFFSETTO:+0100
TZNAME:CET
DTSTART:20231029T010000
END:STANDARD
END:VTIMEZONE
BEGIN:VEVENT
DTSTART;TZID=Europe/Rome:20230606T093000
DTEND;TZID=Europe/Rome:20230607T180000
DTSTAMP:20260421T151512
CREATED:20230112T152413Z
LAST-MODIFIED:20230601T092832Z
UID:17063-1686043800-1686160800@paradigma.it
SUMMARY:La fiscalità internazionale  delle imprese e dei gruppi
DESCRIPTION:[vc_row][vc_column]\n	\n		\n			\n		\n	\n\n	\n		\n			\nPianificazione fiscale e gestione del rischio\nFiscalità dei flussi reddituali e delle operazioni di riorganizzazione\nContrasto alle strategie di pianificazione fiscale aggressiva\n\nI docenti\, nel corso dell’evento formativo\, risponderanno alle domande e alle richieste di chiarimenti formulate dai partecipanti. Eventuali quesiti potranno essere anticipati inviando una email all’indirizzo asorba@paradigma.it \n \n\n		\n	\n\n	\n		\n			Evento in videoconferenza \n\n		\n	\n\n	\n		\n			6 e 7 giugno 2023 \n\n		\n	\n\n	\n		\n			 \n\n		\n	\n\n	\n		\n			\n\n		\n	\nPresentazioneProgrammaDocentiBrochureIscrizioni e CondizioniPresentazione\n	\n		\n			Contenuti dell’evento \nNel corso delle giornate di studio saranno presentate le principali criticità e le più diffuse problematiche relative alla fiscalità dei gruppi societari\, al fine di una corretta determinazione del reddito imponibile e di una efficace gestione del rischio fiscale. \nDestinatari dell’evento \nL’evento formativo è rivolto ai Responsabili Amministrativi\, ai Responsabili del Servizio Fiscale\, nonché ad Avvocati\, Commercialisti e consulenti in materia fiscale. \nObiettivi dell’evento \nObiettivo dell’incontro è presentare un quadro dettagliato e completo delle principali criticità e problematiche relative alla fiscalità dei gruppi societari\, mettendo a disposizione dei partecipanti strumenti operativi e indicazioni pratiche per aggiornare le proprie competenze professionali. \n\n\n		\n	\nProgramma\n	\n		\n			Prima giornata\nMartedì 6 giugno 2023 \nPIANIFICAZIONE FISCALE INTERNAZIONALE NEI GRUPPI SOCIETARI \nLa pianificazione fiscale internazionale delle imprese e dei gruppi: confine tra pianificazione fiscale e abuso del diritto\nGli spazi per la pianificazione fiscale nell’attuale contesto normativo italiano e internazionale\nLe misure da adottare in vista dei futuri sviluppi a livello internazionale : Pillar One\, Pillar Two\, ATAD III\nL’applicazione delle norme anti-abuso interne in fattispecie cross-border: casi recenti\nL’abuso delle convenzioni contro le doppie imposizioni: norme specifiche e PPT in attesa della ratifica del MLI da parte dell’Italia\nL’evoluzione a livello comunitario: art. 6 Direttiva ATAD e recente giurisprudenza della Corte di Giustizia UE\nProf. Paolo Arginelli\nUniversità Cattolica del Sacro Cuore di Piacenza \nNORME FISCALI RILEVANTI NEI RAPPORTI CON CONSOCIATE ESTERE E OPERAZIONI CON FINALITÀ RIORGANIZZATIVA \nLa normativa in materia di Controlled Foreign Companies\nIl mutato quadro normativo a seguito del D. Lgs. n. 142/2018: nuove definizioni di controllo\, unificazione dei regimi CFC\, nuove condizioni di accesso ed esimente unica\nI chiarimenti della prassi dell’Agenzia delle Entrate\nProblematiche operative nell’effettuazione del tax rate test\nLa nuova posizione di prassi in materia di detassazione dei redditi già assoggettati a tassazione per trasparenza ai sensi della disciplina CFC\nLe regole speciali per gli OICR\nProf. Paolo Arginelli\nUniversità Cattolica del Sacro Cuore di Piacenza \nDividendi\, interessi e royalties infragruppo alla luce della giurisprudenza della Corte di Cassazione e della Corte di Giustizia UE\nLa recente giurisprudenza della Corte di Giustizia UE rilevante per i flussi infragruppo (es. Viva Telecom Bulgaria)\nIl concetto di beneficiario effettivo secondo la Corte di Cassazione e la prassi dell’Agenzia delle Entrate\, nel modello OCSE\, nelle Direttive UE e nell’interpretazione della CGUE (cause “danesi”)\nL’applicazione del concetto di beneficiario effettivo alle società holding\nCenni in merito alle norme di esenzione per i fondi di investimento esteri e ai possibili risvolti sulle strutture di investimento e sulle contestazioni di abuso/assenza di beneficiario effettivo da parte dell’Amministrazione finanziaria\nDott. Fabio Brunelli\nDi Tanno Associati \nIl transfer pricing dei beni immateriali: analisi delle implicazioni pratiche e dei problemi applicativi delle indicazioni OCSE\nL’identificazione degli intangibles ai fini del transfer pricing\nLa contrapposizione tra economic owner e legal owner\nLa determinazione dei prezzi di trasferimento nelle operazioni che coinvolgono beni immateriali\nGli Hard-to-value intangibles\nDott. Sergio Marchese\nMarchese Zanardi & Partners\nDott. Giuseppe Carucci\nMarchese Zanardi & Partners \nLe misure di contrasto ai disallineamenti da ibridi\nI presupposti applicativi\nI disallineamenti\nLe regole di contrasto: norme preventive\, misure di reazione primaria e secondaria\nI chiarimenti dell’Agenzia delle Entrate nella Circolare n. 2/E del 2022\nLe cautele procedurali. Come “mappare” gli ibridi ed in particolare i c.d. “ibridi importati”?\nDott. Michele Gusmeroli\nPwC TLS Avvocati e Commercialisti \nDividendi e plusvalenze su partecipazioni e identificazione della “provenienza” da regimi black list: temi interpretativi aperti e possibili soluzioni\nLa nuova definizione di regime fiscale privilegiato ai sensi dell’art. 47-bis TUIR e la distinzione tra partecipazioni di controllo e non di controllo\nIl criterio del tax rate effettivo: coordinamento con la disciplina CFC e l’incerto confine con la seconda esimente di cui all’art. 47-bis\, comma 2\, lett. b)\, TUIR. Quale concreto ambito di applicazione per tale esimente?\nRequisiti e dubbi applicativi della c.d. “semi pex” e del credito di imposta indiretto\nProblematiche specifiche legate alle plusvalenze e all’assenza di discipline transitorie\nL’introduzione di un regime di affrancamento degli utili esteri ex art. 1\, commi 87-95 della legge 29 dicembre 2022\, n. 197\nDott. Alberto Trabucchi\nSCGT – Studio di Consulenza Giuridico-Tributaria \n  \nSeconda giornata\nMercoledì 7 giugno 2023 \nLa riorganizzazione funzionale dei gruppi mediante il trasferimento internazionale di funzioni/rischi: indicazioni dell’OCSE in materia di business restructuring\nIl Capitolo IX delle Linee Guida OCSE e i presupposti per la sussistenza di un business restructuring\nL’analisi delle opzioni realisticamente disponibili nell’ambito dei business restructuring\nLe modalità di determinazione dell’eventuale indennizzo in caso di business restructuring\nBusiness restructuring e DAC6\nAvv. Massimo Antonini\nChiomenti\nAvv. Raul-Angelo Papotti\nChiomenti \nLa riorganizzazione territoriale/societaria dei gruppi ed Exit ed Entry Tax\nI principi generali dell’exit tax e dell’entry tax\nI problemi interpretativi aperti in materia di exit tax ed entry tax e il coordinamento con la disciplina CFC\nL’exit tax applicabile alle holding: analisi del Principio di Diritto n. 10/2021 e della prassi pubblicata dall’Agenzia delle Entrate\nRisvolti fiscali dell’evoluzione del diritto societario a livello unionale\nLe potenziali implicazioni della disciplina Pillar II\nAvv. Cesare Silvani\nMaisto e Associati \nEVOLUZIONE NORMATIVA A LIVELLO INTERNAZIONALE  \nI nuovi orientamenti OCSE sulla fiscalità dei gruppi societari: Pillar One e Pillar Two\nI fondamenti della two-pillar solution elaborata dall’Inclusive Framework dell’OCSE\nPillar One: status del processo di implementazione; ambito applicativo e specifiche esclusioni; i criteri di determinazione dell’Amount A e dell’Amount B\nPillar Two: ambito applicativo delle GloBE rules (Income Inclusion Rule e Undertaxed Payment Rule) e della Subject to tax rule; le model GloBE rules; la proposta di Direttiva COM (2021) 823 del 22 dicembre 2021 e successive evoluzioni\nProf. Stefano Grilli\nUniversità di Milano Bicocca \nLa proposta di Direttiva sulle shell entities (ATAD III)\nRatio e obiettivi della proposta di Direttiva\nIl processo a 7 step previsto dalla Commissione\nFocus sulle condizioni di accesso (c.d. “gateways”) e sulle esclusioni soggettive\nObblighi di reporting e conseguenze per la shell entity\nAlcune incoerenze e punti aperti nella proposta della Commissione\nLe possibili interazioni con altre disposizioni anti-abuso esistenti o in corso di discussione: beneficiario effettivo\, CFC\, Pillar Two\nAvv. Riccardo Michelutti\nFacchini Rossi Michelutti Studio Legale Tributario \nLa sentenza della Corte di Giustizia nelle cause riunite C-885/19 e C-898/19 e il rapporto tra i ruling fiscali e la normativa in materia di aiuti di Stato\nDott. Aurelio Massimiano\nMaisto e Associati \nObblighi di segnalazione degli schemi di pianificazione fiscale aggressiva per effetto della Direttiva DAC 6\nI meccanismi transfrontalieri: aspetti definitori\, elementi distintivi (Hallmarks) e i criteri della potenziale riduzione di imposta e del vantaggio principale\nSoggetti tenuti agli adempimenti DAC 6: ambito soggettivo (intermediari e contribuenti) e standard di conoscenza\nI chiarimenti di prassi dell’Agenzia delle Entrate: Circolare n. 2/E del 2021 e Circolare n. 12/E del 2022\nFocus su alcune casistiche di maggior interesse per gli operatori\nDott. Enrico Macario\nPwC TLS Avvocati e Commercialisti \n\n\n		\n	\nDocenti\n	\n		\n			Avv. Massimo Antonini\nPartner\nChiomenti \nProf. Paolo Arginelli\nProfessore di Diritto Tributario\nUniversità Cattolica del Sacro Cuore di Piacenza\nOf Counsel\nPirola Pennuto Zei & Associati \nDott. Fabio Brunelli\nPartner Equity\nDi Tanno Associati \nDott. Giuseppe Carucci\nPartner\nMarchese Zanardi & Partners \nProf. Stefano Grilli\nDocente a contratto di Diritto Tributario Internazionale\nUniversità di Milano Bicocca\nPartner\nHead of Corporate Tax\nWithersworldwide \nDott. Michele Gusmeroli\nDirector\nPwC TLS Avvocati e Commercialisti \nDott. Enrico Macario\nPartner\nPwC TLS Avvocati e Commercialisti \nDott. Sergio Marchese\nFounding Partner\nMarchese Zanardi & Partners \nDott. Aurelio Massimiano\nPartner\nMaisto e Associati \nAvv. Riccardo Michelutti\nFounding Partner\nFacchini Rossi Michelutti Studio Legale Tributario \nAvv. Raul-Angelo Papotti\nPartner\nChiomenti \nAvv. Cesare Silvani\nPartner\nMaisto e Associati \nDott. Alberto Trabucchi\nEquity Partner\nSCGT – Studio di Consulenza Giuridico-Tributaria \n\n\n		\n	\nBrochure\n	\n		\n			 Scarica la brochure\n\n		\n	\nIscrizioni e Condizioni\n	\n		\n			Quota di partecipazione \nLa quota di partecipazione in aula virtuale (diretta streaming) include l’invio del materiale didattico in formato elettronico e la possibilità di sottoporre ai relatori quesiti di specifico interesse a mezzo chat. È altresì possibile anticipare domande e richieste di approfondimento inviando una e-mail a info@paradigma.it entro il giorno antecedente l’evento. \nIn caso di videoconferenza con accessi multipli è necessario contattare la Segreteria organizzativa per un preventivo personalizzato. \nModalità di funzionamento della videoconferenza \nE’ possibile accedere all’aula virtuale da qualsiasi luogo\, utilizzando il proprio PC o tablet con una semplice connessione a Internet. La piattaforma informatica utilizzata da Paradigma (Adobe Connect) non necessita di requisiti tecnici particolari. \nNei giorni antecedenti l’evento il partecipante riceverà per posta elettronica le credenziali e le istruzioni di accesso. Il giorno dell’evento sarà sufficiente selezionare il link che troverà nella mail e inserire le credenziali per accedere all’aula virtuale. \nDurante gli interventi\, oltre a vedere e sentire i docenti\, è possibile consultare simultaneamente la documentazione predisposta dal relatore. Ogni utente collegato potrà porre domande sulle tematiche affrontate a mezzo chat\, alle quali il docente risponderà nel corso dell’intervento. \nModalità di iscrizione \nL’iscrizione si perfeziona al momento del ricevimento del modulo di registrazione\, da inviare via e-mail all’indirizzo info@paradigma.it\, integralmente compilato. Il numero dei collegamenti disponibili è limitato e la priorità d’iscrizione è determinata dalla data di ricezione del modulo di registrazione. Si consiglia pertanto di effettuare una preiscrizione telefonica. \nModalità di pagamento \nLa quota di partecipazione deve essere versata all’atto della presentazione della richiesta di iscrizione e\, in ogni caso\, prima dell’effettuazione dell’evento formativo\, tramite bonifico bancario intestato a: \nParadigma Srl – Corso Vittorio Emanuele II\, 68 – 10121 Torino\nc/o Banco BPM Spa\nIBAN IT 14 V 05034 01017 000000002530 \nFormazione finanziata \nLa quota di partecipazione può essere completamente rimborsata tramite voucher promossi dai Fondi Paritetici Interprofessionali. Paradigma offre la completa e gratuita gestione delle spese di progettazione\, monitoraggio e rendicontazione. La possibilità di accedere alla formazione finanziata con partecipazione mediante videoconferenza può variare a seconda dell’Ente erogante. \nAttestato di frequenza \nL’attestato di partecipazione nominativo sarà inviato al termine dell’evento formativo ai partecipanti che si sono regolarmente collegati all’aula virtuale. \nDiritto di recesso e modalità di disdetta \nÈ attribuita ai partecipanti la facoltà di recedere ai sensi dell’art. 1373 c.c. Il recesso dovrà essere comunicato in forma scritta almeno sette giorni prima della data di inizio dell’evento formativo (escluso il sabato e la domenica). Qualora la disdetta pervenga oltre tale termine o si verifichi di fatto con il mancato collegamento alla videoconferenza\, la quota di partecipazione sarà addebitata per intero e sarà inviato al partecipante il materiale didattico. In qualunque momento l’azienda o lo studio potranno comunque sostituire il partecipante\, comunicando il nuovo nominativo alla nostra Segreteria organizzativa. \nVariazioni di programma \nParadigma\, per ragioni eccezionali e imprevedibili\, si riserva di annullare o modificare la data dell’evento formativo\, dandone comunicazione agli interessati entro tre giorni dalla data di inizio prevista. In tali casi le quote di partecipazione pervenute verranno rimborsate\, con esclusione di qualsivoglia onere o obbligo a carico di Paradigma. Paradigma si riserva inoltre\, per ragioni sopravvenute e per cause di forza maggiore\, di modificare l’articolazione del programma e di sostituire i docenti previsti con altri docenti di pari livello professionale. \nPer ulteriori informazioni è possibile contattare la Segreteria organizzativa al numero 011.538686 o all’indirizzo e-mail info@paradigma.it. \n\n\n		\n	\n\n\n	\n		\n			Quota di partecipazione\n	\n		\n			€ 1.100 + Iva una giornata€ 2.050 + Iva due giornate\n\n		\n	\n\n	\n		\n			In caso di videoconferenza con accessi multipli è necessario contattare la Segreteria organizzativa per un preventivo personalizzato. \n\n		\n	\n\n\n		\n	\n\n	\n		\n			\n\n\n\n\n\n\n	\n		\n			Early booking -20%\nInviando il modulo di iscrizione entro il 16 maggio si avrà diritto a una riduzione del 20% sulla quota di partecipazione. \n\n		\n	\n\n\n\n		\n	\n\n	\n		\n			\n\n		\n	\n\n	\n		\n			\n\n		\n	\n\n	\n		\n			\n\n\n\n\n\n\n	\n		\n			Progetto Giovani Eccellenze -50%\nL’adesione all’evento formativo permette di iscrivere una seconda risorsa\, che non abbia compiuto il 30° anno di età e proveniente dalla stessa organizzazione\, con una riduzione del 50% sulla seconda quota di partecipazione. L’agevolazione è calcolata sulla quota ordinaria. \n\n		\n	\n\n\n\n		\n	\n\n	\n		\n			\n\n\n\n\n\n\n	\n		\n			Formazione finanziata\nLa quota di partecipazione all’iniziativa può essere completamente rimborsata tramite voucher promossi dai Fondi Paritetici Interprofessionali. Paradigma offre la completa e gratuita gestione delle spese di progettazione\, monitoraggio e rendiconto. \n\n		\n	\n\n\n\n		\n	\n\n	\n		\n			\n\n\n\n\n\n\n	\n		\n			Mercati elettronici della PA\nParadigma opera sul MePA e sui principali mercati elettronici di soggetti aggregatori e centrali di committenza. \n\n		\n	\n\n\n\n		\n	\n\n	\n		\n			\n	\n\n\n	I campi con (*) sono obbligatori\n	\n		\n		Dati relativi all'evento\n		\n		\n			Partecipazione in aula\n			Partecipazione in videoconferenza\n		\n		\n\n		Dati relativi al richiedente\n		\n		\n		\n		\n		\n		\n		\n		\n\n	\n\n	\n\n		Dati per eventuale partecipante under 30\n		\n		\n		\n\n	\n\n	\n\n		Dati per la fatturazione elettronica\n		\n		\n		\n		\n		\n		\n				\n		\n		\n		  Split Payment:\n          \n            \n              \n              Si \n            No\n          \n        \n		\n		\n		\n		\n	\n\n	\n\n		Per informazioni contattare\n		\n		\n		\n		\n		\n	\n	L'iscrizione all'evento formativo si intende perfezionata al momento del ricevimento\, da parte di Paradigma Srl\, del presente modulo di registrazione compilato in ogni sua parte\, stampato\, firmato e inviato via e-mail all'indirizzo info@paradigma.it. Riceverete via email conferma dell'avvenuta iscrizione. \n\n\n		\n	     Acconsento all'invio di comunicazioni sui servizi Paradigma Srl - Consenso finalizzato\, anche con modalità automatizzate\, all'invio di comunicazioni relative a prodotti e servizi di Paradigma Srl e al fine di ricevere materiale informativo o promozionale.\n	\n	     Acconsento alla personalizzazione delle offerte - Consenso finalizzato\, mediante modalità automatizzate\, a personalizzare i servizi forniti e meglio indirizzare le proposte promozionali grazie ad attività di profilazione.\n	\n	Inviando i dati autorizzi Paradigma Srl a utilizzare i tuoi dati personali per evadere la richiesta di partecipazione all’evento formativo e svolgere le attività a ciò connesse. I dati potranno essere trattati\, per conto di Paradigma Srl\, da dipendenti e collaboratori incaricati di svolgere specifici servizi necessari all’esecuzione delle tue richieste. Il conferimento dei tuoi dati\, pur essendo facoltativo\, si rende necessario per l’esecuzione del servizio richiesto.	\n\n\n\n\n		\n\n\n\n\n\n		\n	\n[/vc_column][/vc_row]
URL:https://paradigma.it/iniziativa/la-fiscalita-internazionale-delle-imprese-e-dei-gruppi-6/
CATEGORIES:Fisco e Diritto Tributario
ORGANIZER;CN="Angela%20Siniscalchi":MAILTO:asiniscalchi@paradigma.it
END:VEVENT
END:VCALENDAR