BEGIN:VCALENDAR
VERSION:2.0
PRODID:-//Paradigma srl - ECPv5.2.1//NONSGML v1.0//EN
CALSCALE:GREGORIAN
METHOD:PUBLISH
X-WR-CALNAME:Paradigma srl
X-ORIGINAL-URL:https://paradigma.it
X-WR-CALDESC:Eventi per Paradigma srl
BEGIN:VTIMEZONE
TZID:Europe/Rome
BEGIN:DAYLIGHT
TZOFFSETFROM:+0100
TZOFFSETTO:+0200
TZNAME:CEST
DTSTART:20240331T010000
END:DAYLIGHT
BEGIN:STANDARD
TZOFFSETFROM:+0200
TZOFFSETTO:+0100
TZNAME:CET
DTSTART:20241027T010000
END:STANDARD
END:VTIMEZONE
BEGIN:VEVENT
DTSTART;TZID=Europe/Rome:20240926T093000
DTEND;TZID=Europe/Rome:20240926T180000
DTSTAMP:20260421T171825
CREATED:20240716T144542Z
LAST-MODIFIED:20240924T110347Z
UID:21116-1727343000-1727373600@paradigma.it
SUMMARY:La fiscalità delle operazioni  straordinarie alla luce delle novità  introdotte dalla Riforma fiscale
DESCRIPTION:[vc_row][vc_column]\n	\n		\n			\n		\n	\n\n	\n		\n			I docenti\, nel corso dell’evento formativo\, risponderanno alle domande e alle richieste di chiarimenti formulate dai partecipanti. Eventuali quesiti potranno essere anticipati inviando una email all’indirizzo asorba@paradigma.it \n \n\n		\n	\n\n	\n		\n			Evento in videoconferenza \n\n		\n	\n\n	\n		\n			26 settembre 2024 \n\n		\n	\n\n	\n		\n			 \n\n		\n	\n\n	\n		\n			\n\n		\n	\nPresentazioneProgrammaDocentiBrochureIscrizioni e CondizioniPresentazione\n	\n		\n			Contenuti dell’evento \nNel corso della giornata di studi saranno approfondite le principali novità in tema di operazioni straordinarie introdotte dalla Riforma fiscale\, valutandone l’impatto sulla pianificazione fiscale delle imprese e dei gruppi e individuando le criticità derivanti dall’entrata in vigore delle nuove disposizioni. \nDestinatari dell’evento \nL’evento formativo è rivolto ai Responsabili Amministrativi\, ai Responsabili del Servizio Fiscale\, nonché ad Avvocati\, Commercialisti e consulenti in materia fiscale. \nObiettivi dell’evento \nObiettivo dell’incontro è presentare un quadro dettagliato e completo delle principali criticità e problematiche derivanti dall’entrata in vigore delle nuove disposizioni\, mettendo a disposizione dei partecipanti strumenti operativi e indicazioni pratiche per aggiornare le proprie competenze professionali. \n\n\n		\n	\nProgramma\n	\n		\n			Giovedì 26 settembre 2024 \nIl nuovo regime fiscale dei conferimenti di partecipazioni (art. 177 TUIR)\nLe novità in materia di conferimenti (disciplina dei conferimenti di partecipazione effettuati nell’esercizio dell’attività di impresa ex art. 175 del TUIR; disciplina dei conferimenti di partecipazioni di controllo e qualificate effettuati da soggetti non nell’esercizio dell’attività di impresa ex art. 177\, commi 2 e 2-bis\, del TUIR)\nIl regime del realizzo controllato alla luce dell’attuale prassi amministrativa\nLe novità apportate dallo schema di Decreto Legislativo all’articolo 177 commi 2 e 2-bis TUIR: l’estensione dell’ambito oggettivo di applicazione\nConferimenti di controllo e “qualificate” in società estere: le possibili frizioni dell’attuale disciplina con i principi UE\nDott. Luca Miele\nStudio Tributario e Societario Deloitte \nIl regime fiscale della scissione mediante scorporo\nI profili civilistici della scissione mediante scorporo ex articolo 2506.1 c.c. e le differenze rispetto ai conferimenti in natura\nFinalità e neutralità fiscale dell’operazione\nI profili applicativi: sovrapposizioni e differenze rispetto alla disciplina fiscale della scissione\nIl trattamento fiscale delle partecipazioni ricevute a seguito di scorporo\nLa scissione di stabile organizzazione\nScissione mediante scorporo nel contesto della fiscalità indiretta\nScissione mediante scorporo e possibili profili elusivi alla luce dell’attuale prassi\nProf. Paolo Arginelli\nUniversità Cattolica del Sacro Cuore di Piacenza \nPirola Pennuto Zei & Associati \nIl nuovo regime di riporto delle perdite nel caso di trasferimento del controllo della società dotata di perdite fiscali\nGli attuali limiti recati dall’articolo 84 del TUIR al “commercio di bare fiscali”\nL’attuale prassi in tema di modifica dell’attività principale\nLe modifiche alla luce dei principi sanciti dalla Legge Delega e il superamento delle attuali incertezze normative\nIl trasferimento della maggioranza delle partecipazioni e l’approccio seguito dalla prassi amministrativa\nIl concetto di cambiamento dell’attività economico e le novità apportate nel contesto della Riforma\nAvv. Cesare Silvani\nMaisto e Associati \nLe nuove condizioni e limiti di riportabilità delle perdite in caso di fusioni e scissioni\nGli attuali limiti alla “riportabilità” delle perdite nell’ambito delle operazioni straordinarie anche alla luce dell’attuale prassi amministrativa\nI principi “guida” delineati dalla Legge Delega e la strada verso l’omogeneizzazione dei limiti e delle condizioni di riporto delle perdite fiscali e degli altri tax asset tra articoli 84\, 172 e 173 TUIR\nIl limite del patrimonio netto: dal valore contabile a quello economico\nI profili applicativi della nuova norma\nPeriodo interinale e applicazione dei test\nAvv. Riccardo Michelutti\nFacchini Rossi Michelutti Studio Legale Tributario \nL’esclusione dell’applicazione dei limiti al riporto delle perdite per le fusioni/scissioni tra società appartenenti allo stesso gruppo\nL’attuale scenario alla luce della prassi dell’Agenzia delle Entrate\nOperazioni straordinarie e riporto di tax assets nell’ambito del consolidato fiscale\nI principi dettati dalla Legge delega e finalità della modifica\nIl gruppo come entità economica autonoma\nRegolamentazione dei casi di perdite formatesi prima e dopo l’ingresso e priorità nell’utilizzo\nCoordinamento con l’articolo 84 TUIR\nLe disposizioni transitorie\nDott. Sergio Marchese\nMarchese Zanardi & Partners \nIl riallineamento dei valori nelle operazioni straordinarie\nI principi dettati dalla Legge delega in tema di riallineamento dei valori contabili e fiscali\nLe nuove regole di riallineamento e le differenze rispetto alla disciplina precedente\nIl riallineamento delle operazioni straordinarie nel contesto delle “transizioni contabili”\nLa decorrenza delle nuove disposizioni\nDott. Guerino Russetti\nStudio Tributario e Societario Deloitte \nLa nuova disciplina della liquidazione ordinaria\nI principi e criteri direttivi contenuti nella Legge delega\nLe regole precedenti e le novità introdotte\nLa definitività dei redditi nel periodo di liquidazione\nIl trattamento delle perdite ai fini fiscali\nDott. Francesco Nobili\nBiscozzi Nobili & Partners \n\n\n		\n	\nDocenti\n	\n		\n			Prof. Paolo Arginelli\nProfessore di Diritto Tributario\nUniversità Cattolica del Sacro Cuore di Piacenza\nPartner\nPirola Pennuto Zei & Associati \nDott. Sergio Marchese\nFounding Partner\nMarchese Zanardi & Partners \nAvv. Riccardo Michelutti\nFounding Partner\nFacchini Rossi Michelutti Studio Legale Tributario \nDott. Luca Miele\nOf Counsel\nStudio Tributario e Societario Deloitte \nDott. Francesco Nobili\nPartner\nBiscozzi Nobili & Partners \nDott. Guerino Russetti\nOf Counsel\nStudio Tributario e Societario Deloitte \nAvv. Cesare Silvani\nPartner\nMaisto e Associati \n\n\n		\n	\nBrochure\n	\n		\n			 Scarica la brochure\n\n		\n	\nIscrizioni e Condizioni\n	\n		\n			Quota di partecipazione \nLa quota di partecipazione in aula virtuale (diretta streaming) include la fruizione in diretta delle docenze\, nonché l’invio\, in formato elettronico\, del materiale didattico che i relatori riterranno di mettere a disposizione. È inoltre prevista la possibilità di presentare in diretta domande e quesiti di specifico interesse a mezzo chat\, nonché di sottoporli in via preventiva\, inviando una email a info@paradigma.it entro il giorno antecedente l’evento. \nIn caso di videoconferenza con accessi multipli è necessario contattare la Segreteria organizzativa per un preventivo personalizzato. \nModalità di funzionamento della videoconferenza \nE’ possibile accedere all’aula virtuale da qualsiasi luogo\, utilizzando il proprio PC o tablet con una semplice connessione a Internet. La piattaforma informatica utilizzata da Paradigma (Adobe Connect) non necessita di requisiti tecnici particolari. \nNei giorni antecedenti l’evento il partecipante riceverà per posta elettronica le credenziali e le istruzioni di accesso. Il giorno dell’evento sarà sufficiente selezionare il link che troverà nella mail e inserire le credenziali per accedere all’aula virtuale. \nDurante gli interventi\, oltre a vedere e sentire i docenti\, è possibile consultare simultaneamente la documentazione predisposta dal relatore. Ogni utente collegato potrà porre domande sulle tematiche affrontate a mezzo chat\, alle quali il docente risponderà nel corso dell’intervento. \nModalità di iscrizione \nL’iscrizione si perfeziona al momento del ricevimento del modulo di registrazione\, da inviare via e-mail all’indirizzo info@paradigma.it\, integralmente compilato. Il numero dei collegamenti disponibili è limitato e la priorità d’iscrizione è determinata dalla data di ricezione del modulo di registrazione. Si consiglia pertanto di effettuare una preiscrizione telefonica. \nModalità di pagamento \nLa quota di partecipazione deve essere versata all’atto della presentazione della richiesta di iscrizione e\, in ogni caso\, prima dell’effettuazione dell’evento formativo\, tramite bonifico bancario intestato a: \nParadigma Srl – Corso Vittorio Emanuele II\, 68 – 10121 Torino\nc/o Banco BPM Spa\nIBAN IT 14 V 05034 01017 000000002530 \nFormazione finanziata \nLa quota di partecipazione può essere completamente rimborsata tramite voucher promossi dai Fondi Paritetici Interprofessionali. Paradigma offre la completa e gratuita gestione delle spese di progettazione\, monitoraggio e rendicontazione. La possibilità di accedere alla formazione finanziata con partecipazione mediante videoconferenza può variare a seconda dell’Ente erogante. \nAttestato di frequenza \nL’attestato di partecipazione nominativo sarà inviato al termine dell’evento formativo ai partecipanti che si sono regolarmente collegati all’aula virtuale. \nDiritto di recesso e modalità di disdetta \nÈ attribuita ai partecipanti la facoltà di recedere ai sensi dell’art. 1373 c.c. Il recesso dovrà essere comunicato in forma scritta almeno sette giorni prima della data di inizio dell’evento formativo (escluso il sabato e la domenica). Qualora la disdetta pervenga oltre tale termine o si verifichi di fatto con il mancato collegamento alla videoconferenza\, la quota di partecipazione sarà addebitata per intero e sarà inviato al partecipante il materiale didattico. In qualunque momento l’azienda o lo studio potranno comunque sostituire il partecipante\, comunicando il nuovo nominativo alla nostra Segreteria organizzativa. \nVariazioni di programma \nParadigma\, per ragioni eccezionali e imprevedibili\, si riserva di annullare o modificare la data dell’evento formativo\, dandone comunicazione agli interessati entro tre giorni dalla data di inizio prevista. In tali casi le quote di partecipazione pervenute verranno rimborsate\, con esclusione di qualsivoglia onere o obbligo a carico di Paradigma. Paradigma si riserva inoltre\, per ragioni sopravvenute e per cause di forza maggiore\, di modificare l’articolazione del programma e di sostituire i docenti previsti con altri docenti di pari livello professionale. \nPer ulteriori informazioni è possibile contattare la Segreteria organizzativa al numero 011.538686 o all’indirizzo e-mail info@paradigma.it. \n\n\n		\n	\n\n\n	\n		\n			Quota di partecipazione\n	\n		\n			€ 1.100 + Iva\n\n		\n	\n\n	\n		\n			In caso di videoconferenza con accessi multipli è necessario contattare la Segreteria organizzativa per un preventivo personalizzato. \n\n		\n	\n\n\n		\n	\n\n	\n		\n			\n\n\n\n\n\n\n	\n		\n			Early booking -20%\nInviando il modulo di iscrizione entro il 5 settembre si avrà diritto a una riduzione del 20% sulla quota di partecipazione. \n\n		\n	\n\n\n\n		\n	\n\n	\n		\n			\n\n		\n	\n\n	\n		\n			\n\n		\n	\n\n	\n		\n			\n\n\n\n\n\n\n	\n		\n			Progetto Giovani Eccellenze -50%\nL’adesione all’evento formativo permette di iscrivere una seconda risorsa\, che non abbia compiuto il 30° anno di età e proveniente dalla stessa organizzazione\, con una riduzione del 50% sulla seconda quota di partecipazione. L’agevolazione è calcolata sulla quota ordinaria. \n\n		\n	\n\n\n\n		\n	\n\n	\n		\n			\n\n\n\n\n\n\n	\n		\n			Formazione finanziata\nLa quota di partecipazione all’iniziativa può essere completamente rimborsata tramite voucher promossi dai Fondi Paritetici Interprofessionali. Paradigma offre la completa e gratuita gestione delle spese di progettazione\, monitoraggio e rendiconto. \n\n		\n	\n\n\n\n		\n	\n\n	\n		\n			\n\n\n\n\n\n\n	\n		\n			Mercati elettronici della PA\nParadigma opera sul MePA e sui principali mercati elettronici di soggetti aggregatori e centrali di committenza. \n\n		\n	\n\n\n\n		\n	\n\n	\n		\n			\n	\n\n\n	I campi con (*) sono obbligatori\n	\n		\n		Dati relativi all'evento\n		\n		\n			Partecipazione in aula\n			Partecipazione in videoconferenza\n		\n		\n\n		Dati relativi al richiedente\n		\n		\n		\n		\n		\n		\n		\n		\n\n	\n\n	\n\n		Dati per eventuale partecipante under 30\n		\n		\n		\n\n	\n\n	\n\n		Dati per la fatturazione elettronica\n		\n		\n		\n		\n		\n		\n				\n		\n		\n		  Split Payment:\n          \n            \n              \n              Si \n            No\n          \n        \n		\n		\n		\n		\n	\n\n	\n\n		Per informazioni contattare\n		\n		\n		\n		\n		\n	\n	L'iscrizione all'evento formativo si intende perfezionata al momento del ricevimento\, da parte di Paradigma Srl\, del presente modulo di registrazione compilato in ogni sua parte\, stampato\, firmato e inviato via e-mail all'indirizzo info@paradigma.it. Riceverete via email conferma dell'avvenuta iscrizione. \n\n\n		\n	     Acconsento all'invio di comunicazioni sui servizi Paradigma Srl - Consenso finalizzato\, anche con modalità automatizzate\, all'invio di comunicazioni relative a prodotti e servizi di Paradigma Srl e al fine di ricevere materiale informativo o promozionale.\n	\n	     Acconsento alla personalizzazione delle offerte - Consenso finalizzato\, mediante modalità automatizzate\, a personalizzare i servizi forniti e meglio indirizzare le proposte promozionali grazie ad attività di profilazione.\n	\n	Inviando i dati autorizzi Paradigma Srl a utilizzare i tuoi dati personali per evadere la richiesta di partecipazione all’evento formativo e svolgere le attività a ciò connesse. I dati potranno essere trattati\, per conto di Paradigma Srl\, da dipendenti e collaboratori incaricati di svolgere specifici servizi necessari all’esecuzione delle tue richieste. Il conferimento dei tuoi dati\, pur essendo facoltativo\, si rende necessario per l’esecuzione del servizio richiesto.	\n\n\n\n\n		\n\n\n\n\n\n		\n	\n[/vc_column][/vc_row]
URL:https://paradigma.it/iniziativa/la-fiscalita-delle-operazioni-straordinarie-alla-luce-delle-novita-introdotte-dalla-riforma-fiscale/
CATEGORIES:Fisco
ORGANIZER;CN="Angela%20Siniscalchi":MAILTO:asiniscalchi@paradigma.it
END:VEVENT
END:VCALENDAR