BEGIN:VCALENDAR
VERSION:2.0
PRODID:-//Paradigma srl - ECPv5.2.1//NONSGML v1.0//EN
CALSCALE:GREGORIAN
METHOD:PUBLISH
X-WR-CALNAME:Paradigma srl
X-ORIGINAL-URL:https://paradigma.it
X-WR-CALDESC:Eventi per Paradigma srl
BEGIN:VTIMEZONE
TZID:Europe/Rome
BEGIN:DAYLIGHT
TZOFFSETFROM:+0100
TZOFFSETTO:+0200
TZNAME:CEST
DTSTART:20230326T010000
END:DAYLIGHT
BEGIN:STANDARD
TZOFFSETFROM:+0200
TZOFFSETTO:+0100
TZNAME:CET
DTSTART:20231029T010000
END:STANDARD
END:VTIMEZONE
BEGIN:VEVENT
DTSTART;TZID=Europe/Rome:20230523T093000
DTEND;TZID=Europe/Rome:20230524T180000
DTSTAMP:20260421T151517
CREATED:20230112T102653Z
LAST-MODIFIED:20230522T160358Z
UID:17050-1684834200-1684951200@paradigma.it
SUMMARY:La fiscalità dei soggetti IAS/IFRS
DESCRIPTION:[vc_row][vc_column]\n	\n		\n			\n		\n	\n\n	\n		\n			\nPianificazione fiscale\, gestione del rischio e sostenibilità\nEvoluzione normativa e chiarimenti ministeriali\nDeterminazione del reddito imponibile\n\nI docenti\, nel corso dell’evento formativo\, risponderanno alle domande e alle richieste di chiarimenti formulate dai partecipanti. Eventuali quesiti potranno essere anticipati inviando una email all’indirizzo asorba@paradigma.it \n \n\n		\n	\n\n	\n		\n			Evento in videoconferenza \n\n		\n	\n\n	\n		\n			23 e 24 maggio 2023 \n\n		\n	\n\n	\n		\n			 \n\n		\n	\n\n	\n		\n			\n\n		\n	\nPresentazioneProgrammaDocentiBrochureIscrizioni e CondizioniPresentazione\n	\n		\n			Contenuti dell’evento \nNel corso delle giornate di studio saranno presentate le principali criticità e le più diffuse problematiche relative alla fiscalità del bilancio IAS/IFRS compliant\, al fine di una corretta determinazione del reddito imponibile e di una efficace gestione del rischio fiscale. \nDestinatari dell’evento \nL’evento formativo è rivolto ai Responsabili Amministrativi\, ai Responsabili del Servizio Fiscale\, nonché ad Avvocati\, Commercialisti e consulenti in materia fiscale. \nObiettivi dell’evento \nObiettivo dell’incontro è presentare un quadro dettagliato e completo delle principali criticità e problematiche relative alla fiscalità del bilancio IAS/IFRS compliant\, mettendo a disposizione dei partecipanti strumenti operativi e indicazioni pratiche per aggiornare le proprie competenze professionali. \n\n\n		\n	\nProgramma\n	\n		\n			Prima giornata\nMartedì 23 maggio 2023 \nLa derivazione rafforzata: significato e limiti della prevalenza ai fini tributari della qualificazione\, classificazione e imputazione temporale IAS/IFRS\nIl rinvio ai criteri di qualificazione IAS/IFRS come rinvio al criterio della prevalenza della sostanza sulla forma\nLe operazioni relative ad azioni o a obbligazioni proprie\nImputazione\, deroga all’art. 109\, commi 1 e 2\, TUIR e fattispecie in cui le regole fiscali prescindono dalle risultanze di bilancio\nLa rilevanza fiscale della “corretta” rappresentazione in bilancio dei fatti aziendali nella prassi dell’Agenzia delle Entrate\nLa rappresentazione contabile IAS/IFRS e l’abuso del diritto\nDott. Sergio Marchese\nMarchese Zanardi & Partners \nTax compliance\, gestione del rischio fiscale e implementazione dei fattori di sostenibilità\nL’individuazione delle aree di maggior criticità e l’implementazione dei presidi\nGli impatti sul Tax Control Framework (TCF)\nIl coordinamento del sistema di controllo e l’implementazione dei flussi informativi\nIl bilancio IAS/IFRS\, i fattori ESG e l’informativa sulla sostenibilità\nLe dimensioni fiscali della sostenibilità: la fiscalità tra i fattori ESG\nIl percorso verso il disegno degli indicatori di governance fiscale sostenibile\nExposure Draft IFRS-S1\, Exposure Draft IFRS-S2 e le evoluzioni a livello ISSB\nDott. Marco Lio\nPwC TLS Avvocati e Commercialisti \nI profili fiscali dell’IFRS 15\nIl criterio di rilevazione dei ricavi: regole contabili\, fattispecie e prassi dell’Agenzia delle Entrate\nIdentificazione del contratto e delle performance obligations\nLe penali legali e/o contrattuali\nI resi\nDott.ssa Valeria Russo\nKPMG \nI profili fiscali dell’IFRS 16\nLa qualificazione e la classificazione del “right of use” asset\nL’ammortamento e la svalutazione del “right of use” asset\nLa rilevanza fiscale delle valutazioni della passività\nLa gestione fiscale delle modifiche successive del valore della passività\nL’assoggettamento degli interessi passivi relativi ai leasing operativi ai limiti di cui all’articolo 96 TUIR\nProfili fiscali del sale and lease back\nDott. Sergio Marchese\nMarchese Zanardi & Partners\nDott. Giuseppe Carucci\nMarchese Zanardi & Partners \nIl regime fiscale delle attività immateriali\nLa nozione di attività immateriale ai sensi dello IAS 38 e cenni sul regime contabile\nIl valore fiscalmente riconosciuto e l’ammortamento fiscale delle attività materiali\nLa riclassificazione delle attività immateriali in occasione di FTA e business combinations\nI regimi di riallineamento tra valori contabili e valori fiscali delle attività immateriali\nAvv. Cesare Silvani\nMaisto e Associati \nI profili fiscali dell’IFRS 9: la classificazione e la valutazione degli strumenti finanziari\nL’individuazione delle attività immobilizzate e delle attività circolanti in assenza del portafoglio held for trading\nI profili fiscali della riclassificazione degli strumenti finanziari nel caso di cambiamento del modello di business\nLa rinegoziazione di attività e passività con cancellazione (cd. derecognition)\nLa rinegoziazione di attività o passività senza cancellazione (cd. modification)\nI profili fiscali della cessazione della relazione di copertura\nI profili fiscali dello scorporo del derivato dal contratto primario\nIl cd. rebalancing dei derivati di copertura\nI profili fiscali dell’hedging di una posizione netta\nDott. Ivan Guerci\nIntesa Sanpaolo \n  \nSeconda giornata\nMercoledì 24 maggio 2023 \nI profili fiscali delle operazioni under common control\nIl nuovo progetto dello IASB per le “business combinations under common control” nel bilancio d’esercizio e nel bilancio consolidato: il Discussion Paper dello IASB\nLe soluzioni contabili identificate nel Discussion Paper\nI riflessi fiscali delle nuove modalità di contabilizzazione previste dal Discussion Paper\nProf. Stefano Grilli\nUniversità di Milano Bicocca \nI profili fiscali dell’IFRS 2\nLe finalità e i principi dell’IFRS 2\nLa deducibilità dei pagamenti basati su azioni per servizi forniti da dipendenti e amministratori\nL’utilizzo dei piani azionari nell’ambito dei gruppi multinazionali\nStock options e mancato esercizio del diritto di opzione\nProf. Paolo Arginelli\nUniversità Cattolica del Sacro Cuore di Piacenza \nLa determinazione del reddito imponibile IRAP per i soggetti IAS/IFRS adopter\nLe modalità di determinazione del valore della produzione IRAP per i soggetti IAS adopter\nLa rilevanza ai fini IRAP dei criteri di qualificazione\, imputazione temporale e classificazione previsti dai principi IAS/IFRS\nI riflessi sulla determinazione del valore della produzione IRAP delle valutazioni al fair value\nIl regime fiscale IRAP dei componenti di reddito imputati direttamente a patrimonio netto\nDott. Alberto Trabucchi\nSCGT – Studio di Consulenza Giuridico-Tributaria \nGli effetti fiscali relativi al trattamento degli immobili\nGli immobili nell’ambito IAS/IFRS: IAS 16\, IAS 40 e IFRS 5\nLa nozione di immobili “patrimonio” e di immobili strumentali ai fini della determinazione dell’imponibile dei soggetti IAS/IFRS\nLa (ir)rilevanza fiscale della valutazione degli immobili\nLa deducibilità fiscale degli interessi passivi relativi a mutui ipotecari o leasing su immobili destinati alla locazione\nDott. Fabio Brunelli\nDi Tanno Associati \nLe problematiche relative ai profili fiscali dell’IFRS 3 per le operazioni di riorganizzazione aziendale costituenti una business combination\nLa contabilizzazione delle operazioni straordinarie qualificabili come business combination\nIl regime realizzativo delle cessioni di azienda\nIl regime di neutralità fiscale della fusione\, scissione e del conferimento di azienda\nIl regime di “realizzo controllato” per i conferimenti di partecipazioni di cui agli articoli 175 e 177 del TUIR\nIl trattamento fiscale dell’avviamento e del cosiddetto negative goodwill\nLa nozione di avanzo e disavanzo di fusione e scissione per i soggetti IAS/IFRS adopter\nL’obbligo di ricostituzione delle riserve in sospensione d’imposta\nAvv. Riccardo Michelutti\nFacchini Rossi Michelutti Studio Legale Tributario \nFirst time adoption\, modifica di principio contabile\, regimi di riallineamento e last time adoption\nFirst time adoption (FTA) e modifica di principio contabile IAS/IFRS: impatti contabili e considerazioni tributarie\nIndividuazione delle operazioni\, neutralità e doppio binario\nI regimi di riallineamento (metodo del saldo globale e per singola fattispecie)\nLe implicazioni contabili e fiscali della last time adoption (LTA)\nProfili dichiarativi\nDott. Guerino Russetti\nStudio Tributario e Societario Deloitte \n\n\n		\n	\nDocenti\n	\n		\n			Prof. Paolo Arginelli\nProfessore di Diritto Tributario\nUniversità Cattolica del Sacro Cuore di Piacenza\nOf Counsel\nPirola Pennuto Zei & Associati \nDott. Fabio Brunelli\nEquity Partner\nDi Tanno Associati \nDott. Giuseppe Carucci\nPartner\nMarchese Zanardi & Partners \nProf. Stefano Grilli\nDocente a contratto di Diritto Tributario Internazionale\nUniversità di Milano Bicocca\nPartner\nHead of Corporate Tax\nWithersworldwide \nDott. Ivan Guerci\nDirector\nHead of Corporate Taxation\nIntesa Sanpaolo \nDott. Marco Lio\nPartner\nTax Risk Prevention\nPwC TLS Avvocati e Commercialisti \nDott. Sergio Marchese\nFounding Partner\nMarchese Zanardi & Partners \nAvv. Riccardo Michelutti\nFounding Partner\nFacchini Rossi Michelutti Studio Legale Tributario \nDott. Guerino Russetti\nOf Counsel\nStudio Tributario e Societario Deloitte \nDott.ssa Valeria Russo\nSenior Manager\nKPMG \nAvv. Cesare Silvani\nPartner\nMaisto e Associati \nDott. Alberto Trabucchi\nEquity Partner\nSCGT – Studio di Consulenza Giuridico-Tributaria \n\n\n		\n	\nBrochure\n	\n		\n			 Scarica la brochure\n\n		\n	\nIscrizioni e Condizioni\n	\n		\n			Quota di partecipazione \nLa quota di partecipazione in aula virtuale (diretta streaming) include l’invio del materiale didattico in formato elettronico e la possibilità di sottoporre ai relatori quesiti di specifico interesse a mezzo chat. È altresì possibile anticipare domande e richieste di approfondimento inviando una e-mail a info@paradigma.it entro il giorno antecedente l’evento. \nIn caso di videoconferenza con accessi multipli è necessario contattare la Segreteria organizzativa per un preventivo personalizzato. \nModalità di funzionamento della videoconferenza \nE’ possibile accedere all’aula virtuale da qualsiasi luogo\, utilizzando il proprio PC o tablet con una semplice connessione a Internet. La piattaforma informatica utilizzata da Paradigma (Adobe Connect) non necessita di requisiti tecnici particolari. \nNei giorni antecedenti l’evento il partecipante riceverà per posta elettronica le credenziali e le istruzioni di accesso. Il giorno dell’evento sarà sufficiente selezionare il link che troverà nella mail e inserire le credenziali per accedere all’aula virtuale. \nDurante gli interventi\, oltre a vedere e sentire i docenti\, è possibile consultare simultaneamente la documentazione predisposta dal relatore. Ogni utente collegato potrà porre domande sulle tematiche affrontate a mezzo chat\, alle quali il docente risponderà nel corso dell’intervento. \nModalità di iscrizione \nL’iscrizione si perfeziona al momento del ricevimento del modulo di registrazione\, da inviare via e-mail all’indirizzo info@paradigma.it\, integralmente compilato. Il numero dei collegamenti disponibili è limitato e la priorità d’iscrizione è determinata dalla data di ricezione del modulo di registrazione. Si consiglia pertanto di effettuare una preiscrizione telefonica. \nModalità di pagamento \nLa quota di partecipazione deve essere versata all’atto della presentazione della richiesta di iscrizione e\, in ogni caso\, prima dell’effettuazione dell’evento formativo\, tramite bonifico bancario intestato a: \nParadigma Srl – Corso Vittorio Emanuele II\, 68 – 10121 Torino\nc/o Banco BPM Spa\nIBAN IT 14 V 05034 01017 000000002530 \nFormazione finanziata \nLa quota di partecipazione può essere completamente rimborsata tramite voucher promossi dai Fondi Paritetici Interprofessionali. Paradigma offre la completa e gratuita gestione delle spese di progettazione\, monitoraggio e rendicontazione. La possibilità di accedere alla formazione finanziata con partecipazione mediante videoconferenza può variare a seconda dell’Ente erogante. \nAttestato di frequenza \nL’attestato di partecipazione nominativo sarà inviato al termine dell’evento formativo ai partecipanti che si sono regolarmente collegati all’aula virtuale. \nDiritto di recesso e modalità di disdetta \nÈ attribuita ai partecipanti la facoltà di recedere ai sensi dell’art. 1373 c.c. Il recesso dovrà essere comunicato in forma scritta almeno sette giorni prima della data di inizio dell’evento formativo (escluso il sabato e la domenica). Qualora la disdetta pervenga oltre tale termine o si verifichi di fatto con il mancato collegamento alla videoconferenza\, la quota di partecipazione sarà addebitata per intero e sarà inviato al partecipante il materiale didattico. In qualunque momento l’azienda o lo studio potranno comunque sostituire il partecipante\, comunicando il nuovo nominativo alla nostra Segreteria organizzativa. \nVariazioni di programma \nParadigma\, per ragioni eccezionali e imprevedibili\, si riserva di annullare o modificare la data dell’evento formativo\, dandone comunicazione agli interessati entro tre giorni dalla data di inizio prevista. In tali casi le quote di partecipazione pervenute verranno rimborsate\, con esclusione di qualsivoglia onere o obbligo a carico di Paradigma. Paradigma si riserva inoltre\, per ragioni sopravvenute e per cause di forza maggiore\, di modificare l’articolazione del programma e di sostituire i docenti previsti con altri docenti di pari livello professionale. \nPer ulteriori informazioni è possibile contattare la Segreteria organizzativa al numero 011.538686 o all’indirizzo e-mail info@paradigma.it. \n\n\n		\n	\n\n\n	\n		\n			Quota di partecipazione\n	\n		\n			€ 1.100 + Iva una giornata€ 2.050 + Iva due giornate\n\n		\n	\n\n	\n		\n			In caso di videoconferenza con accessi multipli è necessario contattare la Segreteria organizzativa per un preventivo personalizzato. \n\n		\n	\n\n\n		\n	\n\n	\n		\n			\n\n\n\n\n\n\n	\n		\n			Early booking -20%\nInviando il modulo di iscrizione entro il 2 maggio si avrà diritto a una riduzione del 20% sulla quota di partecipazione. \n\n		\n	\n\n\n\n		\n	\n\n	\n		\n			\n\n		\n	\n\n	\n		\n			\n\n		\n	\n\n	\n		\n			\n\n\n\n\n\n\n	\n		\n			Progetto Giovani Eccellenze -50%\nL’adesione all’evento formativo permette di iscrivere una seconda risorsa\, che non abbia compiuto il 30° anno di età e proveniente dalla stessa organizzazione\, con una riduzione del 50% sulla seconda quota di partecipazione. L’agevolazione è calcolata sulla quota ordinaria. \n\n		\n	\n\n\n\n		\n	\n\n	\n		\n			\n\n\n\n\n\n\n	\n		\n			Formazione finanziata\nLa quota di partecipazione all’iniziativa può essere completamente rimborsata tramite voucher promossi dai Fondi Paritetici Interprofessionali. Paradigma offre la completa e gratuita gestione delle spese di progettazione\, monitoraggio e rendiconto. \n\n		\n	\n\n\n\n		\n	\n\n	\n		\n			\n\n\n\n\n\n\n	\n		\n			Mercati elettronici della PA\nParadigma opera sul MePA e sui principali mercati elettronici di soggetti aggregatori e centrali di committenza. \n\n		\n	\n\n\n\n		\n	\n\n	\n		\n			\n	\n\n\n	I campi con (*) sono obbligatori\n	\n		\n		Dati relativi all'evento\n		\n		\n			Partecipazione in aula\n			Partecipazione in videoconferenza\n		\n		\n\n		Dati relativi al richiedente\n		\n		\n		\n		\n		\n		\n		\n		\n\n	\n\n	\n\n		Dati per eventuale partecipante under 30\n		\n		\n		\n\n	\n\n	\n\n		Dati per la fatturazione elettronica\n		\n		\n		\n		\n		\n		\n				\n		\n		\n		  Split Payment:\n          \n            \n              \n              Si \n            No\n          \n        \n		\n		\n		\n		\n	\n\n	\n\n		Per informazioni contattare\n		\n		\n		\n		\n		\n	\n	L'iscrizione all'evento formativo si intende perfezionata al momento del ricevimento\, da parte di Paradigma Srl\, del presente modulo di registrazione compilato in ogni sua parte\, stampato\, firmato e inviato via e-mail all'indirizzo info@paradigma.it. Riceverete via email conferma dell'avvenuta iscrizione. \n\n\n		\n	     Acconsento all'invio di comunicazioni sui servizi Paradigma Srl - Consenso finalizzato\, anche con modalità automatizzate\, all'invio di comunicazioni relative a prodotti e servizi di Paradigma Srl e al fine di ricevere materiale informativo o promozionale.\n	\n	     Acconsento alla personalizzazione delle offerte - Consenso finalizzato\, mediante modalità automatizzate\, a personalizzare i servizi forniti e meglio indirizzare le proposte promozionali grazie ad attività di profilazione.\n	\n	Inviando i dati autorizzi Paradigma Srl a utilizzare i tuoi dati personali per evadere la richiesta di partecipazione all’evento formativo e svolgere le attività a ciò connesse. I dati potranno essere trattati\, per conto di Paradigma Srl\, da dipendenti e collaboratori incaricati di svolgere specifici servizi necessari all’esecuzione delle tue richieste. Il conferimento dei tuoi dati\, pur essendo facoltativo\, si rende necessario per l’esecuzione del servizio richiesto.	\n\n\n\n\n		\n\n\n\n\n\n		\n	\n[/vc_column][/vc_row]
URL:https://paradigma.it/iniziativa/la-fiscalita-dei-soggetti-ias-ifrs-9/
CATEGORIES:Fisco e Diritto Tributario
ORGANIZER;CN="Angela%20Siniscalchi":MAILTO:asiniscalchi@paradigma.it
END:VEVENT
END:VCALENDAR