BEGIN:VCALENDAR
VERSION:2.0
PRODID:-//Paradigma srl - ECPv5.2.1//NONSGML v1.0//EN
CALSCALE:GREGORIAN
METHOD:PUBLISH
X-WR-CALNAME:Paradigma srl
X-ORIGINAL-URL:https://paradigma.it
X-WR-CALDESC:Eventi per Paradigma srl
BEGIN:VTIMEZONE
TZID:Europe/Rome
BEGIN:DAYLIGHT
TZOFFSETFROM:+0100
TZOFFSETTO:+0200
TZNAME:CEST
DTSTART:20240331T010000
END:DAYLIGHT
BEGIN:STANDARD
TZOFFSETFROM:+0200
TZOFFSETTO:+0100
TZNAME:CET
DTSTART:20241027T010000
END:STANDARD
END:VTIMEZONE
BEGIN:VEVENT
DTSTART;TZID=Europe/Rome:20241113T093000
DTEND;TZID=Europe/Rome:20241114T180000
DTSTAMP:20260421T151636
CREATED:20240725T135817Z
LAST-MODIFIED:20241108T084534Z
UID:21151-1731490200-1731607200@paradigma.it
SUMMARY:La distribuzione  dei prodotti bancari\,  finanziari e assicurativi
DESCRIPTION:[vc_row][vc_column]\n	\n		\n			\n		\n	\n\n	\n		\n			\nEvoluzione del quadro normativo\, impatto sui contratti e sugli obblighi dei distributori\n\nI docenti\, nel corso dell’evento formativo\, risponderanno alle domande e alle richieste di chiarimenti formulate dai partecipanti. Eventuali quesiti potranno essere anticipati inviando una email all’indirizzo info@paradigma.it \n \n\n		\n	\n\n	\n		\n			Evento in videoconferenza \n\n		\n	\n\n	\n		\n			13 e 14 novembre 2024 \n\n		\n	\n\n	\n		\n			 \n\n		\n	\n\n	\n		\n			\n\n		\n	\nPresentazioneProgrammaDocentiBrochureIscrizioni e CondizioniPresentazione\n	\n		\n			Contenuti dell’evento  \nLe giornate di studio sono dedicate all’analisi dell’impatto delle recenti novità normative\, regolamentari e giurisprudenziali sui modelli di distribuzione dei prodotti bancari\, finanziari e assicurativi. \nL’entrata in vigore e i provvedimenti attuativi di numerosi e rilevanti interventi normativi impone alle banche e agli altri intermediari finanziari di individuare e valutare le conseguenze sugli attuali modelli distributivi. \nNel corso di tale analisi sarà fondamentale individuare le opportunità connesse all’entrata in vigore delle nuove disposizioni\, nonché le soluzioni alle criticità e alle problematiche nell’implementazione delle stesse. \nDestinatari dell’evento  \nL’evento formativo è rivolto ai Responsabili degli Affari Legali\, ai Responsabili della Compliance e dell’Internal Audit\, ai Responsabili dell´Area Crediti e ai Responsabili Commerciali e della Gestione della Rete di banche e intermediari finanziari. \nObiettivi dell’evento  \nObiettivo dell’incontro è fornire ai partecipanti un quadro dettagliato e completo degli impatti del nuovo quadro normativo e regolamentare\, attraverso l’analisi di casi concreti e di aspetti operativi. \n\n\n		\n	\nProgramma\n	\n		\n			Prima giornata\nMercoledì 13 novembre 2024 \nIl nuovo quadro normativo e l’evoluzione dei modelli distributivi\nIl collocamento degli strumenti finanziari: dallo ius poenitendi alla MiFID 2 fino alla MiFID 3\, anche alla luce della posizione del Parlamento Europeo del 2 marzo 2023\nConsulenza e distribuzione: due modelli integrati o integrabili\nLa direttiva Quick Fix e il suo recepimento in Italia\nLe proposte di modifica della MIFID2 e della IDD nella c.d. “Retail Investment Strategy” (RIS)\nESG\, SFDR e le misure per la finanza sostenibile anche alla luce delle Q&A delle ESAs\nProf. Avv. Andrea Gemma\nUniversità Roma Tre\nGemma Provaggi De Andrè Studio Legale Tributario \nLe regole di product governance nell’attività distributiva\nLe “ex ante rules” a confronto delle “ex post rules” di product intervention\nLe nuove Linee Guida dell’ESMA in materia di product governance del 27 marzo 2023 egli Orientamenti relativi ai distributori\nL’identificazione del mercato di riferimento\nLe analisi di scenario\nI doveri dell’intermediario distributore\nIl riparto di responsabilità e le clausole negoziali\nL’impatto delle misure ESG sulla policy\nLa Call for Evidence dell’ESMA del 16 giugno 2023 sull’integrazione delle preferenze di sostenibilità nella disciplina della product governance\nLe novità della c.d. “Retail Investment Strategy” (RIS)\nAvv. Francesco Mocci\nADVANT Nctm \nLa disciplina delle operazioni eseguite in conflitto di interesse e l’informativa su costi\, oneri e inducements nella MiFID 2\nLa prevenzione e la gestione dei conflitti di interesse nella fase distributiva\nLa disciplina dei costi\, degli oneri e degli inducements alla luce degli aggiornamenti delle Q&A dell’ESMA in materia di investor protection\nLe indicazioni della CONSOB del febbraio 2019 e del maggio 2020\nLa Call for evidence dell’ESMA del 2019 e il Technical Advice del 2020 sull’impatto dei requisiti di trasparenza previsti dalla MiFID 2 in tema di inducements\, costi e oneri\nLe novità introdotte con il D. Lgs. n. 31/2023\, di attuazione della MiFID Quick Fix\nLe novità della c.d. “Retail Investment Strategy” (RIS)\nAvv. Giorgio Gasparri\nCONSOB \nIl servizio di consulenza e i consulenti finanziari abilitati all’offerta fuori sede\nLa disciplina dettata dal Regolamento Intermediari\nLe novità della c.d. “Retail Investment Strategy” (RIS)\nLa consulenza su base indipendente e la consulenza su base non indipendente\nLa disciplina degli inducements\, le politiche di remunerazione e gli obblighi di trasparenza verso l’investitore\nIl ruolo delle preferenze di sostenibilità\nI nuovi Orientamenti dell’ESMA su alcuni aspetti dei requisiti di adeguatezza del 3 aprile 2023\nLa Call for Evidence dell’ESMA sull’integrazione delle preferenze di sostenibilità nell’adeguatezza e nella product governance\nAvv. Fabrizio Cascinelli\nPwC TLS Avvocati e Commercialisti \nLa distribuzione dei contratti bancari\nLa Product Oversight Governance e gli obblighi dei produttori e dei distributori nelle Linee Guida dell’EBA e nella disciplina sulla trasparenza\nOfferta fuori sede e a distanza di prodotti bancari e relative regole di trasparenza\nSpecificità legate alla distribuzione di taluni contratti di credito: credito immobiliare\, credito al consumo\nLa disciplina in materia di politiche e prassi di remunerazione degli addetti alla rete di vendita e il recepimento degli Orientamenti dell’EBA\nProf. Avv. Valerio Lemma\nUniversità Guglielmo Marconi di Roma \nDentons \nLa distribuzione dei PRIIPs: il KID e gli altri adempimenti per gli operatori\nQuadro normativo unionale e nazionale\nLa responsabilità dei soggetti coinvolti\nLe informazioni chiave\nI fondi comuni di investimento nel Regolamento PRIIPs\nLe novità della c.d. “Retail Investment Strategy” (RIS)\nAvv. Nicolò Matteo Bonaldo\nPwC TLS Avvocati e Commercialisti \n  \nSeconda giornata\nGiovedì 14 novembre 2024 \nLa disciplina della distribuzione assicurativa a seguito del recepimento della IDD\nIl quadro normativo e regolamentare in tema di distribuzione dei prodotti e servizi assicurativi alla luce dell’evoluzione europea e domestica\nLe regole di condotta per i prodotti danni e per i prodotti vita e l’applicazione delle regole in tema di POG tra produttori e distributori\nI prodotti di investimento assicurativi e gli specifici obblighi di informazione e di condotta per la distribuzione di IBIPs\nLe disposizioni Consob e IVASS in materia di distribuzione di prodotti di investimento assicurativi da parte delle banche: opportunità e profili evolutivi\nLe preferenze di sostenibilità e gli impatti sulla distribuzione assicurativa: le novità del Provvedimento IVASS n. 131 del 10 maggio 2023\nLe proposte di modifica della IDD nella c.d. “Retail Investment Strategy” (RIS)\nAvv. Andrea Polizzi\nStudio Legale D’Argenio Polizzi e Associati\n \nLa conclusione dei contratti dematerializzati nell’ambito della distribuzione dei servizi bancari\, finanziari e assicurativi\nLe modalità e le criticità per la conclusione del contratto mediante le diverse tipologie di firme elettroniche\nLe modalità di consegna elettronica dell’esemplare del contratto\nL’identità digitale nel Regolamento eIDAS e nel CAD\nLa proposta di modifica del Regolamento eIDAS in tema di identità digitale europea\nLa firma dei documenti tramite SPID\nIl valore probatorio di documenti informatici\, copie e duplicati\nI processi di formazione\, gestione e conservazione dei documenti informatici nelle Linee Guida dell’AgID\nAvv. Fabio Coco\nADVANT Nctm \nI recenti orientamenti giurisprudenziali in materia di distribuzione di prodotti bancari\, finanziari e assicurativi\nI rapporti con le reti di vendita\nGli orientamenti dell’ABF e dell’ACF e le responsabilità degli intermediari nella fase di distribuzione\nLa vendita di polizze abbinate a finanziamenti\nLe principali contestazioni dei clienti con riferimento alla fase precontrattuale\nLa gestione del contenzioso nella distribuzione di prodotti bancari\, finanziari e assicurativi\nI recenti orientamenti giurisprudenziali\nPolizze linked e controversie in tema di prodotti misti finanziario-assicurativi\nAvv. Valerio Sangiovanni\nAvvocato in Milano \nIl ruolo degli intermediari del credito nella distribuzione dei prodotti bancari\nGli intermediari del credito: mediatori creditizi\, agenti in attività finanziaria\, dipendenti e collaboratori\, agenti nei servizi di pagamento\nI poteri dell’OAM e gli strumenti di soft law a tutela del mercato:\n-controlli cartolari\n-controlli ispettivi\n-comunicazioni al mercato\nLo sviluppo dell’innovazione tecnologica e gli impatti nella distribuzione dei prodotti bancari\nI controlli degli intermediari bancari e finanziari sulle reti\nL’abusivismo nell’intermediazione del credito e il contributo dell’OAM\nAvv. Benedetto Camastra\nOAM – Organismo degli Agenti e Mediatori \nIl trattamento dei dati personali in ambito bancario\, finanziario e assicurativo: Regolamento UE n. 679/2016 (GDPR) e Codice della Privacy\nIl DPO tra Linee Guida del Working Party 29 e le FAQ del Garante Privacy\nIl trattamento dei dati personali ai fini delle segnalazioni ai sistemi di informazioni creditizie anche alla luce del Codice di condotta dei SIC del 12 settembre 2019\nLe Linee Guida dell’EDPB in materia di consenso\, di rapporti tra GDPR e PSD2 e diritto di accesso\nIl ruolo privacy degli istituti di credito che distribuiscono polizze assicurative alla luce del parere del Garante Privacy\nAvv. Nicola Sandon\nRödl & Partner \nL’assolvimento degli obblighi antiriciclaggio nei processi distributivi alla luce delle ultime novità normative\nLa distribuzione in presenza fisica e a distanza: peculiarità e aspetti operativi\nLa distribuzione diretta e tramite reti: aspetti contrattuali e normativi connessi con la disciplina AML\nIl rischio AML nei rapporti di gruppo o tra società prodotto e distributore\nLe novità del c.d. “AML Package” della Commissione Europea\nLe Linee Guida EBA in materia di customer remote onboarding e l’attuazione da parte di Banca d’Italia\nIl Regolamento IVASS n. 44/2019 e le novità in materia di antiriciclaggio introdotte dall’IVASS\nL’esecuzione da parte di terzi degli obblighi di adeguata verifica e il ricorso all’esternalizzazione\nI presidi antiriciclaggio sulle reti distributive e altri aspetti organizzativi\nDott. Toni Atrigna\nAtrigna & Partners Studio Legale \n\n\n		\n	\nDocenti\n	\n		\n			Dott. Toni Atrigna\nPartner\nAtrigna & Partners \nAvv. Nicolò Matteo Bonaldo\nSenior Associate\nPwC TLS Avvocati e Commercialisti \nAvv. Benedetto Camastra *\nResponsabile Ufficio Vigilanza\nOAM – Organismo degli Agenti e Mediatori \nAvv. Fabrizio Cascinelli\nPartner\nFinancial Regulation\nPwC TLS Avvocati e Commercialisti \nAvv. Fabio Coco\nPartner\nADVANT Nctm \nAvv. Giorgio Gasparri *\nUfficio di Segreteria della Commissione\nCONSOB \nProf. Avv. Andrea Gemma\nAssociato di Diritto Privato\nUniversità Roma Tre\nSocio Fondatore\nGemma Provaggi De Andrè Studio Legale Tributario \nProf. Avv. Valerio Lemma\nOrdinario di Diritto dell’Economia\nUniversità Guglielmo Marconi di Roma\nCounsel\nDentons \nAvv. Francesco Mocci\nPartner\nADVANT Nctm \nAvv. Andrea Polizzi\nFounding Partner\nStudio Legale D’Argenio Polizzi e Associati \nAvv. Nicola Sandon\nSenior Associate\nRödl & Partner \nAvv. Valerio Sangiovanni\nAvvocato in Milano \n  \n* La relazione è presentata a titolo personale e non impegna l’Ente di appartenenza. In attesa di autorizzazione. \n\n\n		\n	\nBrochure\n	\n		\n			 Scarica la brochure\n\n		\n	\nIscrizioni e Condizioni\n	\n		\n			Quota di partecipazione \nLa quota di partecipazione in aula virtuale (diretta streaming) include la fruizione in diretta delle docenze\, nonché l’invio\, in formato elettronico\, del materiale didattico che i relatori riterranno di mettere a disposizione. È inoltre prevista la possibilità di presentare in diretta domande e quesiti di specifico interesse a mezzo chat\, nonché di sottoporli in via preventiva\, inviando una email a info@paradigma.it entro il giorno antecedente l’evento. \nIn caso di videoconferenza con accessi multipli è necessario contattare la Segreteria organizzativa per un preventivo personalizzato. \nModalità di funzionamento della videoconferenza \nE’ possibile accedere all’aula virtuale da qualsiasi luogo\, utilizzando il proprio PC o tablet con una semplice connessione a Internet. La piattaforma informatica utilizzata da Paradigma (Adobe Connect) non necessita di requisiti tecnici particolari. \nNei giorni antecedenti l’evento il partecipante riceverà per posta elettronica le credenziali e le istruzioni di accesso. Il giorno dell’evento sarà sufficiente selezionare il link che troverà nella mail e inserire le credenziali per accedere all’aula virtuale. \nDurante gli interventi\, oltre a vedere e sentire i docenti\, è possibile consultare simultaneamente la documentazione predisposta dal relatore. Ogni utente collegato potrà porre domande sulle tematiche affrontate a mezzo chat\, alle quali il docente risponderà nel corso dell’intervento. \nModalità di iscrizione \nL’iscrizione si perfeziona al momento del ricevimento del modulo di registrazione\, da inviare via e-mail all’indirizzo info@paradigma.it\, integralmente compilato. Il numero dei collegamenti disponibili è limitato e la priorità d’iscrizione è determinata dalla data di ricezione del modulo di registrazione. Si consiglia pertanto di effettuare una preiscrizione telefonica. \nModalità di pagamento \nLa quota di partecipazione deve essere versata all’atto della presentazione della richiesta di iscrizione e\, in ogni caso\, prima dell’effettuazione dell’evento formativo\, tramite bonifico bancario intestato a: \nParadigma Srl – Corso Vittorio Emanuele II\, 68 – 10121 Torino\nc/o Banco BPM Spa\nIBAN IT 14 V 05034 01017 000000002530 \nFormazione finanziata \nLa quota di partecipazione può essere completamente rimborsata tramite voucher promossi dai Fondi Paritetici Interprofessionali. Paradigma offre la completa e gratuita gestione delle spese di progettazione\, monitoraggio e rendicontazione. La possibilità di accedere alla formazione finanziata con partecipazione mediante videoconferenza può variare a seconda dell’Ente erogante. \nAttestato di frequenza \nL’attestato di partecipazione nominativo sarà inviato al termine dell’evento formativo ai partecipanti che si sono regolarmente collegati all’aula virtuale. \nDiritto di recesso e modalità di disdetta \nÈ attribuita ai partecipanti la facoltà di recedere ai sensi dell’art. 1373 c.c. Il recesso dovrà essere comunicato in forma scritta almeno sette giorni prima della data di inizio dell’evento formativo (escluso il sabato e la domenica). Qualora la disdetta pervenga oltre tale termine o si verifichi di fatto con il mancato collegamento alla videoconferenza\, la quota di partecipazione sarà addebitata per intero e sarà inviato al partecipante il materiale didattico. In qualunque momento l’azienda o lo studio potranno comunque sostituire il partecipante\, comunicando il nuovo nominativo alla nostra Segreteria organizzativa. \nVariazioni di programma \nParadigma\, per ragioni eccezionali e imprevedibili\, si riserva di annullare o modificare la data dell’evento formativo\, dandone comunicazione agli interessati entro tre giorni dalla data di inizio prevista. In tali casi le quote di partecipazione pervenute verranno rimborsate\, con esclusione di qualsivoglia onere o obbligo a carico di Paradigma. Paradigma si riserva inoltre\, per ragioni sopravvenute e per cause di forza maggiore\, di modificare l’articolazione del programma e di sostituire i docenti previsti con altri docenti di pari livello professionale. \nPer ulteriori informazioni è possibile contattare la Segreteria organizzativa al numero 011.538686 o all’indirizzo e-mail info@paradigma.it. \n\n\n		\n	\n\n\n	\n		\n			Quota di partecipazione\n	\n		\n			€ 1.100 + Iva una giornata€ 2.050 + Iva due giornate\n\n		\n	\n\n	\n		\n			In caso di videoconferenza con accessi multipli è necessario contattare la Segreteria organizzativa per un preventivo personalizzato. \n\n		\n	\n\n\n		\n	\n\n	\n		\n			\n\n\n\n\n\n\n	\n		\n			Early booking -20%\nInviando il modulo di iscrizione entro il 23 ottobre si avrà diritto a una riduzione del 20% sulla quota di partecipazione. \n\n		\n	\n\n\n\n		\n	\n\n	\n		\n			\n\n		\n	\n\n	\n		\n			\n\n		\n	\n\n	\n		\n			\n\n\n\n\n\n\n	\n		\n			Progetto Giovani Eccellenze -50%\nL’adesione all’evento formativo permette di iscrivere una seconda risorsa\, che non abbia compiuto il 30° anno di età e proveniente dalla stessa organizzazione\, con una riduzione del 50% sulla seconda quota di partecipazione. L’agevolazione è calcolata sulla quota ordinaria. \n\n		\n	\n\n\n\n		\n	\n\n	\n		\n			\n\n\n\n\n\n\n	\n		\n			Formazione finanziata\nLa quota di partecipazione all’iniziativa può essere completamente rimborsata tramite voucher promossi dai Fondi Paritetici Interprofessionali. Paradigma offre la completa e gratuita gestione delle spese di progettazione\, monitoraggio e rendiconto. \n\n		\n	\n\n\n\n		\n	\n\n	\n		\n			\n\n\n\n\n\n\n	\n		\n			Mercati elettronici della PA\nParadigma opera sul MePA e sui principali mercati elettronici di soggetti aggregatori e centrali di committenza. \n\n		\n	\n\n\n\n		\n	\n\n	\n		\n			\n	\n\n\n	I campi con (*) sono obbligatori\n	\n		\n		Dati relativi all'evento\n		\n		\n			Partecipazione in aula\n			Partecipazione in videoconferenza\n		\n		\n\n		Dati relativi al richiedente\n		\n		\n		\n		\n		\n		\n		\n		\n\n	\n\n	\n\n		Dati per eventuale partecipante under 30\n		\n		\n		\n\n	\n\n	\n\n		Dati per la fatturazione elettronica\n		\n		\n		\n		\n		\n		\n				\n		\n		\n		  Split Payment:\n          \n            \n              \n              Si \n            No\n          \n        \n		\n		\n		\n		\n	\n\n	\n\n		Per informazioni contattare\n		\n		\n		\n		\n		\n	\n	L'iscrizione all'evento formativo si intende perfezionata al momento del ricevimento\, da parte di Paradigma Srl\, del presente modulo di registrazione compilato in ogni sua parte\, stampato\, firmato e inviato via e-mail all'indirizzo info@paradigma.it. Riceverete via email conferma dell'avvenuta iscrizione. \n\n\n		\n	     Acconsento all'invio di comunicazioni sui servizi Paradigma Srl - Consenso finalizzato\, anche con modalità automatizzate\, all'invio di comunicazioni relative a prodotti e servizi di Paradigma Srl e al fine di ricevere materiale informativo o promozionale.\n	\n	     Acconsento alla personalizzazione delle offerte - Consenso finalizzato\, mediante modalità automatizzate\, a personalizzare i servizi forniti e meglio indirizzare le proposte promozionali grazie ad attività di profilazione.\n	\n	Inviando i dati autorizzi Paradigma Srl a utilizzare i tuoi dati personali per evadere la richiesta di partecipazione all’evento formativo e svolgere le attività a ciò connesse. I dati potranno essere trattati\, per conto di Paradigma Srl\, da dipendenti e collaboratori incaricati di svolgere specifici servizi necessari all’esecuzione delle tue richieste. Il conferimento dei tuoi dati\, pur essendo facoltativo\, si rende necessario per l’esecuzione del servizio richiesto.	\n\n\n\n\n		\n\n\n\n\n\n		\n	\n[/vc_column][/vc_row]
URL:https://paradigma.it/iniziativa/la-distribuzione-dei-prodotti-bancari-finanziari-e-assicurativi-9/
CATEGORIES:Diritto Bancario
ORGANIZER;CN="Veronica%20Spiez":MAILTO:vspiez@paradigma.it
END:VEVENT
END:VCALENDAR