BEGIN:VCALENDAR
VERSION:2.0
PRODID:-//Paradigma srl - ECPv5.2.1//NONSGML v1.0//EN
CALSCALE:GREGORIAN
METHOD:PUBLISH
X-WR-CALNAME:Paradigma srl
X-ORIGINAL-URL:https://paradigma.it
X-WR-CALDESC:Eventi per Paradigma srl
BEGIN:VTIMEZONE
TZID:Europe/Rome
BEGIN:DAYLIGHT
TZOFFSETFROM:+0100
TZOFFSETTO:+0200
TZNAME:CEST
DTSTART:20220327T010000
END:DAYLIGHT
BEGIN:STANDARD
TZOFFSETFROM:+0200
TZOFFSETTO:+0100
TZNAME:CET
DTSTART:20221030T010000
END:STANDARD
END:VTIMEZONE
BEGIN:VEVENT
DTSTART;TZID=Europe/Rome:20221004T093000
DTEND;TZID=Europe/Rome:20221005T180000
DTSTAMP:20260419T172913
CREATED:20220718T143403Z
LAST-MODIFIED:20220930T122009Z
UID:15822-1664875800-1664992800@paradigma.it
SUMMARY:La distribuzione  dei prodotti bancari\,  finanziari e assicurativi
DESCRIPTION:[vc_row][vc_column]\n	\n		\n			\n		\n	\n\n	\n		\n			\nEvoluzione del quadro normativo\nImpatto sui contratti e sugli obblighi dei distributori\n\nI docenti\, nel corso dell’evento formativo\, risponderanno alle domande e alle richieste di chiarimenti formulate dai partecipanti. Eventuali quesiti potranno essere anticipati inviando una email all’indirizzo asorba@paradigma.it \n \n\n		\n	\n\n	\n		\n			Evento in videoconferenza \n\n		\n	\n\n	\n		\n			4 e 5 ottobre 2022 \n\n		\n	\n\n	\n		\n			 \n\n		\n	\n\n	\n		\n			\n\n		\n	\nPresentazioneProgrammaDocentiBrochureIscrizioni e CondizioniPresentazione\n	\n		\n			Contenuti dell’evento  \nLe giornate di studio sono dedicate all´analisi dell´impatto delle recenti novità normative\, regolamentari e giurisprudenziali sui modelli di distribuzione dei prodotti bancari\, finanziari e assicurativi. \nL’entrata in vigore e i provvedimenti attuativi di numerosi e rilevanti interventi normativi impone alle banche e agli altri intermediari finanziari di individuare e valutare le conseguenze sugli attuali modelli distributivi. \nNel corso di tale analisi sarà fondamentale individuare le opportunità connesse all’entrata in vigore delle nuove disposizioni\, nonché le soluzioni alle criticità e alle problematiche nell’implementazione delle stesse. \nDestinatari dell’evento  \nL´evento formativo è rivolto ai Responsabili degli Affari Legali\, ai Responsabili della Compliance e dell’Internal Audit\, ai Responsabili dell´Area Crediti e ai Responsabili Commerciali e della Gestione della Rete di banche e intermediari finanziari. \nObiettivi dell’evento  \nObiettivo dell´incontro è fornire ai partecipanti un quadro dettagliato e completo degli impatti del nuovo quadro normativo e regolamentare\, attraverso l´analisi di casi concreti e di aspetti operativi. \n\n\n		\n	\nProgramma\n	\n		\n			Prima giornata\nMartedì 4 ottobre 2022 \nIl nuovo quadro normativo e l’evoluzione dei modelli distributivi\nIl collocamento degli strumenti finanziari: dallo ius poenitendi a MiFID 2\nProduct governance e product intervention: una “nuova frontiera” delle regole sulla distribuzione?\nLa distribuzione dei prodotti assicurativi e finanziari assicurativi\nConsulenza e distribuzione: due modelli integrati o integrabili\nLe criticità sollevate dall’applicazione (o dalla mancata applicazione) della MiFID 2 e le prime discussioni sulla MiFID 3\nLe proposte di modifica della MiFID 2 elaborata dalla Commissione europea per sostenere la ripresa dalla pandemia di COViD-19\nLa direttiva Quick Fix\nESG\, SFDR e le misure per la finanza sostenibile\nProf. Filippo Annunziata\nUniversità Bocconi di Milano \nLe peculiarità della product governance nell’ambito dell’attività distributiva: impatto su manifacturers e distributors\nLe “ex ante rules” a confronto delle “ex post rules” di product intervention\nI doveri dell’intermediario distributore: l’esempio dei derivati\nL’identificazione del mercato di riferimento\nLe analisi di scenario\nI doveri dell’intermediario distributore\nIl riparto di responsabilità e le clausole negoziali\nL’impatto delle misure ESG sulla policy\nProf. Avv. Daniele Maffeis\nUniversità di Brescia\n \nLa disciplina delle operazioni eseguite in conflitto di interesse e l’informativa su costi\, oneri e inducements nella MiFID 2\nLa prevenzione e la gestione dei conflitti di interesse nella fase distributiva\nLa disciplina dei costi\, degli oneri e degli inducements alla luce dei recenti aggiornamenti delle Q&A dell’ESMA in materia di investor protection\nLe ultime indicazioni della CONSOB del febbraio 2019 e del maggio 2020\nLa Call for evidence dell’ESMA del 2019 e il Technical Advice del 2020 sull’impatto dei requisiti di trasparenza previsti dalla MiFID 2 in tema di inducements\, costi e oneri\nLe novità introdotte con la direttiva Quick Fix\nAvv. Giorgio Gasparri\nCONSOB\n \nIl servizio di consulenza e i consulenti finanziari abilitati all’offerta fuori sede\nLa disciplina dettata dal Regolamento Intermediari\nLa consulenza su base indipendente e la consulenza su base non indipendente\nIl posizionamento attuale delle reti dei consulenti finanziari abilitati all’offerta fuori sede\nLa disciplina degli inducements\, le politiche di remunerazione e gli obblighi di trasparenza verso l’investitore\nLe tendenze evolutive del mercato della consulenza: il robo-advisory anche alla luce degli Orientamenti dell’ESMA su alcuni aspetti dei requisiti di adeguatezza\nLe preferenze di sostenibilità: la consultazione per l’aggiornamento degli Orientamenti ESMA in materia di adeguatezza\nIl questionario della Commissione Europea sulla valutazione di adeguatezza e la risposta dell’ESMA\nAvv. Francesco Mocci\nZitiello Associati Studio Legale \nLa distribuzione dei contratti bancari\nLa Product Oversight Governance e gli obblighi dei produttori e dei distributori nelle Linee Guida dell’EBA e nella disciplina sulla trasparenza\nOfferta fuori sede e a distanza di prodotti bancari e relative regole di trasparenza\nLa distribuzione delle particolari categorie di credito (credito al consumo e credito immobiliare)\, dei servizi di pagamento e degli altri servizi bancari\nLa disciplina in materia di politiche e prassi di remunerazione degli addetti alla rete di vendita e il recepimento degli Orientamenti dell’EBA\nProf. Avv. Valerio Lemma\nUniversità Guglielmo Marconi di Roma \nLa distribuzione dei PRIIPs: il KID e gli altri adempimenti per gli operatori\nQuadro normativo unionale e nazionale e le tempistiche attese\nLe informazioni chiave\nLa responsabilità dei soggetti coinvolti\nFondi comuni di investimento nel Regolamento PRIIPs\nModifiche al Regolamento 2017/653\nAvv. Mario Zanin\nPwC TLS Avvocati e Commercialisti \n  \nSeconda giornata\nMercoledì 5 ottobre 2022 \nLa disciplina della distribuzione assicurativa a seguito del recepimento della IDD\nIl progressivo completamento del quadro normativo e regolamentare in tema di distribuzione dei prodotti e servizi assicurativi\nLe regole di condotta per i prodotti danni e per i prodotti vita e l’applicazione delle regole in tema di POG tra produttori e distributori\nI prodotti di investimento assicurativi e gli specifici obblighi di informazione e di condotta per la distribuzione di IBIPs\nLe nuove disposizioni della Consob e dell’IVASS in materia di distribuzione di prodotti di investimento assicurativi\nLa distribuzione bancaria dei prodotti assicurativi tra novità\, opportunità e profili critici\nLe preferenze di sostenibilità e gli impatti sulla distribuzione assicurativa\nAvv. Andrea Polizzi\nD’Argenio Polizzi e Associati Studio Legale \nLa conclusione dei contratti dematerializzati nell’ambito della distribuzione dei servizi bancari\, finanziari e assicurativi\nLe modalità e le criticità per la conclusione del contratto mediante le diverse tipologie di firme elettroniche\nLe modalità di consegna elettronica dell’esemplare del contratto\nL’identità digitale nel Regolamento eIDAS e nel CAD\, le novità sul rilascio dello SPID e le nuove iniziative della Commissione Europea\nI processi di formazione\, gestione e conservazione dei documenti informatici nelle recenti Linee guida dell’AgID\nLa conclusione dei contratti a distanza nel Decreto Liquidità e nel Decreto Rilancio\nAvv. Fabio Coco\nZitiello Associati Studio Legale \nIl ruolo degli intermediari del credito e lo sviluppo fintech nella distribuzione dei prodotti bancari\nIntermediari del credito: Mediatori creditizi\, agenti in attività finanziaria\, dipendenti e collaboratori\, agenti nei servizi di pagamento\nGli obblighi del mediatore creditizio ai fini del corretto calcolo del TAEG\nMediatori creditizi e agenti immobiliari dopo la Legge Europea 2018\nI poteri dell’OAM e gli strumenti di soft low a tutela del mercato:\n• I chiarimenti dell’OAM sullo svolgimento dell’attività di consulenza da parte dei mediatori creditizi (Comunicazione n. 22/19)\n• I chiarimenti dell’OAM in materia di trasparenza per i mediatori creditizi che operano tramite strumenti informatici o telematici (Comunicazione n. 24/19)\n• I chiarimenti dell’OAM sul ruolo degli intermediari del credito nell’ambito dell’estinzione anticipata e rinnovo di finanziamenti contro cessione del quinto dello stipendio o della pensione (Comunicazione n. 26/20)\nLo sviluppo dell’innovazione tecnologica e gli impatti nella distribuzione\nL’abusivismo nell’intermediazione del credito e il contributo dell’OAM\, anche alla luce delle Comunicazioni nn. 19/18 e 25/20\nAvv. Benedetto Camastra\nOAM – Organismo degli Agenti e Mediatori \nGli intermediari del credito qualificati nel contesto dell’esperienza bancaria\nAgenti vs mediatori: profili di trattamento commerciale e di controllo\nL’agente in attività finanziaria nell’ambito del Gruppo Bancario\nIl sistema dei controlli interni dell’agente in attività finanziaria\nIl contenzioso giuslavoristico agenziale\nAvv. Mirko Lanzafame\nCompass Banca \nI recenti orientamenti giurisprudenziali in materia di distribuzione di prodotti bancari\, finanziari e assicurativi\nI rapporti con le reti di vendita\nGli orientamenti dell’ABF e dell’ACF e le responsabilità degli intermediari nella fase di distribuzione\nLa vendita di polizze abbinate a finanziamenti\nLe principali contestazioni dei clienti con riferimento alla fase precontrattuale\nLa gestione del contenzioso nella distribuzione di prodotti bancari\, finanziari e assicurativi\nI recenti orientamenti giurisprudenziali\nPolizze linked e controversie in tema di prodotti misti finanziario-assicurativi\nAvv. Valerio Sangiovanni\nAvvocato in Milano \nIl trattamento dei dati personali in ambito bancario\, finanziario e assicurativo: Regolamento UE n. 679/2016 (GDPR) e Codice della Privacy\nL’applicazione pratica del Regolamento UE 2016/679 ai processi distributivi\nDefinizione dei ruoli privacy nell’ambito degli accordi di distribuzione e difficoltà interpretative\nIl DPO tra Linee Guida del Working Party 29 e le FAQ del Garante Privacy\nQuestioni rilevanti in tema di conservazione dei dati personali\nTrattamento di dati biometrici e firma grafometrica tra il GDPR e il provvedimento del Garante Privacy del 12 novembre 2014\nAspetti da analizzare nell’ambito dei processi di negoziazione e contrattualizzazione per il collocamento e la vendita/distribuzione dei prodotti bancari\, finanziari e assicurativi\nIl trattamento dei dati personali ai fini delle segnalazioni ai sistemi di informazioni creditizie anche alla luce del nuovo Codice di condotta dei SIC del 12 settembre 2019\nLe Linee Guida poste in consultazione dall’EDPB in materia di consenso e di rapporti tra il GDPR e al PSD2\nIl nuovo parere del Garante Privacy sulla corretta individuazione del ruolo soggettivo da attribuire agli istituti di credito che distribuiscono polizze assicurative\nProf. Avv. Alessandro Del Ninno\nLUISS Guido Carli di Roma\n \nL’assolvimento degli obblighi antiriciclaggio nei processi distributivi alla luce delle novità introdotte dalla V Direttiva\nDistribuzione in presenza fisica e a distanza: peculiarità e aspetti operativi\nLa distribuzione diretta vs tramite reti: aspetti contrattuali e normativi connessi con la disciplina AML\nRischio AML nei rapporti di gruppo o tra società prodotto e distributore\nIl Regolamento IVASS n. 44/2019 in materia di organizzazione\, procedure\, controlli interni e adeguata verifica della clientela\nI fattori di rischio relativi ai canali di distribuzione negli Orientamenti delle ESAs del 2018 e nei nuovi Orientamenti posti in consultazione nel 2020\nL’esecuzione da parte di terzi degli obblighi di adeguata verifica e il ricorso all’esternalizzazione\nI presidi antiriciclaggio sulle reti distributive ed altri aspetti organizzativi\nDott. Toni Atrigna\nAtrigna & Partners Studio Legale \n\n\n		\n	\nDocenti\n	\n		\n			Prof. Filippo Annunziata\nAssociato di Diritto dei Mercati e degli Intermediari Finanziari\nUniversità Bocconi di Milano\nAnnunziata & Conso \nDott. Toni Atrigna\nPartner\nAtrigna & Partners Studio Legale \nAvv. Benedetto Camastra\nResponsabile Ufficio Vigilanza\nOAM – Organismo degli Agenti e Mediatori \nAvv. Fabio Coco\nPartner\nZitiello Associati Studio Legale \nProf. Avv. Alessandro Del Ninno\nDocente a contratto di Informatica Giuridica\nLUISS Guido Carli di Roma\nPartner\nStudio Legale Tonucci & Partners \nAvv. Giorgio Gasparri *\nUfficio Studi Giuridici\nCONSOB\nDocente a contratto di Diritto dei Mercati Finanziari\nUniversità di Napoli Federico II \nAvv. Mirko Lanzafame\nLegal Manager\nCompass Banca\nGruppo Mediobanca \nProf. Avv. Valerio Lemma\nOrdinario di Diritto dell’Economia\nUniversità Guglielmo Marconi di Roma\nCounsel\nDentons \nProf. Avv. Daniele Maffeis\nOrdinario di Diritto Privato\nUniversità di Brescia\nStudio Legale Maffeis Milano \nAvv. Francesco Mocci\nPartner\nZitiello Associati Studio Legale \nAvv. Andrea Polizzi\nPartner\nD’Argenio Polizzi e Associati Studio Legale \nAvv. Valerio Sangiovanni\nAvvocato in Milano \nAvv. Mario Zanin\nDirector\nPwC TLS Avvocati e Commercialisti \n  \n* La relazione è presentata a titolo personale e non impegna l’Ente di appartenenza. In attesa di autorizzazione. \n\n\n		\n	\nBrochure\n	\n		\n			 Scarica la brochure\n\n		\n	\nIscrizioni e Condizioni\n	\n		\n			Quota di partecipazione \nLa quota di partecipazione in aula virtuale (diretta streaming) include l’invio del materiale didattico in formato elettronico e la possibilità di sottoporre ai relatori quesiti di specifico interesse a mezzo chat. E’ altresì possibile anticipare domande e richieste di approfondimento inviando una email a info@paradigma.it entro il giorno antecedente l’evento. \nIn caso di videoconferenza con accessi multipli è necessario contattare la Segreteria organizzativa per un preventivo personalizzato. \nModalità di funzionamento della videoconferenza \nE’ possibile accedere all’aula virtuale da qualsiasi luogo\, utilizzando il proprio PC o tablet con una semplice connessione a Internet. La piattaforma informatica utilizzata da Paradigma (Adobe Connect) non necessita di requisiti tecnici particolari. \nNei giorni antecedenti l’evento il partecipante riceverà per posta elettronica le credenziali e le istruzioni di accesso. Il giorno dell’evento sarà sufficiente selezionare il link che troverà nella mail e inserire le credenziali per accedere all’aula virtuale. \nDurante gli interventi\, oltre a vedere e sentire i docenti\, è possibile consultare simultaneamente la documentazione predisposta dal relatore. Ogni utente collegato potrà porre domande sulle tematiche affrontate a mezzo chat\, alle quali il docente risponderà nel corso dell’intervento. \nModalità di iscrizione \nL’iscrizione si perfeziona al momento del ricevimento del modulo di registrazione\, da inviare via email all’indirizzo info@paradigma.it\, integralmente compilato. Il numero dei collegamenti disponibili è limitato e la priorità d’iscrizione è determinata dalla data di ricezione del modulo di registrazione. Si consiglia pertanto di effettuare una preiscrizione telefonica. \nModalità di pagamento \nLa quota di partecipazione deve essere versata all’atto della presentazione della richiesta di iscrizione e\, in ogni caso\, prima dell’effettuazione dell’intervento formativo\, tramite bonifico bancario intestato a: \nParadigma Srl – Corso Vittorio Emanuele II\, 68 – 10121 Torino\nc/o Banco BPM Spa\nIBAN IT 14 V 05034 01017 000000002530 \nFormazione finanziata \nLa quota di partecipazione può essere completamente rimborsata tramite voucher promossi dai Fondi Paritetici Interprofessionali. Paradigma offre la completa e gratuita gestione delle spese di progettazione\, monitoraggio e rendicontazione. La possibilità di accedere alla formazione finanziata con partecipazione mediante videoconferenza può variare a seconda dell’Ente erogante. \nAttestato di frequenza \nL’attestato di partecipazione nominativo sarà inviato al termine dell’intervento formativo ai partecipanti che si sono regolarmente collegati all’aula virtuale. \nDiritto di recesso e modalità di disdetta \nE´ attribuita ai partecipanti la facoltà di recedere ai sensi dell’art. 1373 c.c. Il recesso dovrà essere comunicato in forma scritta almeno sette giorni prima della data di inizio dell’evento formativo (escluso il sabato e la domenica). Qualora la disdetta pervenga oltre tale termine o si verifichi di fatto con il mancato collegamento alla videoconferenza\, la quota di partecipazione sarà addebitata per intero e sarà inviato al partecipante il materiale didattico. In qualunque momento l’azienda o lo studio potranno comunque sostituire il partecipante\, comunicando il nuovo nominativo alla nostra Segreteria organizzativa. \nVariazioni di programma \nParadigma\, per ragioni eccezionali e imprevedibili\, si riserva di annullare o modificare la data dell’evento formativo\, dandone comunicazione agli interessati entro tre giorni dalla data di inizio prevista. In tali casi le quote di partecipazione pervenute verranno rimborsate\, con esclusione di qualsivoglia onere o obbligo a carico di Paradigma. Paradigma si riserva inoltre\, per ragioni sopravvenute e per cause di forza maggiore\, di modificare l’articolazione del programma e di sostituire i docenti previsti con altri docenti di pari livello professionale. \nPer ulteriori informazioni è possibile contattare la Segreteria organizzativa al numero 011.538686 o all’indirizzo email info@paradigma.it. \n\n\n		\n	\n\n\n	\n		\n			Quota di partecipazione\n	\n		\n			€ 1.100 + Iva una giornata€ 2.050 + Iva due giornate\n\n		\n	\n\n	\n		\n			In caso di videoconferenza con accessi multipli è necessario contattare la Segreteria organizzativa per un preventivo personalizzato. \n\n		\n	\n\n\n		\n	\n\n	\n		\n			\n\n\n\n\n\n\n	\n		\n			Early booking -20%\nInviando il modulo di iscrizione entro il 13 settembre si avrà diritto a una riduzione del 20% sulla quota di partecipazione.\n \n\n		\n	\n\n\n\n		\n	\n\n	\n		\n			\n\n		\n	\n\n	\n		\n			\n\n		\n	\n\n	\n		\n			\n\n\n\n\n\n\n	\n		\n			Progetto Giovani Eccellenze -50%\nL’adesione all’evento formativo permette di iscrivere una seconda risorsa\, che non abbia compiuto il 30° anno di età e proveniente dalla stessa organizzazione\, con una riduzione del 50% sulla seconda quota di partecipazione. L’agevolazione è calcolata sulla quota ordinaria. \n\n		\n	\n\n\n\n		\n	\n\n	\n		\n			\n\n\n\n\n\n\n	\n		\n			Formazione finanziata\nLa quota di partecipazione all’iniziativa può essere completamente rimborsata tramite voucher promossi dai Fondi Paritetici Interprofessionali. Paradigma offre la completa e gratuita gestione delle spese di progettazione\, monitoraggio e rendiconto. \n\n		\n	\n\n\n\n		\n	\n\n	\n		\n			\n\n\n\n\n\n\n	\n		\n			Mercati elettronici della PA\nParadigma opera sul MePA e sui principali mercati elettronici di soggetti aggregatori e centrali di committenza. \n\n		\n	\n\n\n\n		\n	\n\n	\n		\n			\n	\n\n\n	I campi con (*) sono obbligatori\n	\n		\n		Dati relativi all'evento\n		\n		\n			Partecipazione in aula\n			Partecipazione in videoconferenza\n		\n		\n\n		Dati relativi al richiedente\n		\n		\n		\n		\n		\n		\n		\n		\n\n	\n\n	\n\n		Dati per eventuale partecipante under 30\n		\n		\n		\n\n	\n\n	\n\n		Dati per la fatturazione elettronica\n		\n		\n		\n		\n		\n		\n				\n		\n		\n		  Split Payment:\n          \n            \n              \n              Si \n            No\n          \n        \n		\n		\n		\n		\n	\n\n	\n\n		Per informazioni contattare\n		\n		\n		\n		\n		\n	\n	L'iscrizione all'evento formativo si intende perfezionata al momento del ricevimento\, da parte di Paradigma Srl\, del presente modulo di registrazione compilato in ogni sua parte\, stampato\, firmato e inviato via e-mail all'indirizzo info@paradigma.it. Riceverete via email conferma dell'avvenuta iscrizione. \n\n\n		\n	     Acconsento all'invio di comunicazioni sui servizi Paradigma Srl - Consenso finalizzato\, anche con modalità automatizzate\, all'invio di comunicazioni relative a prodotti e servizi di Paradigma Srl e al fine di ricevere materiale informativo o promozionale.\n	\n	     Acconsento alla personalizzazione delle offerte - Consenso finalizzato\, mediante modalità automatizzate\, a personalizzare i servizi forniti e meglio indirizzare le proposte promozionali grazie ad attività di profilazione.\n	\n	Inviando i dati autorizzi Paradigma Srl a utilizzare i tuoi dati personali per evadere la richiesta di partecipazione all’evento formativo e svolgere le attività a ciò connesse. I dati potranno essere trattati\, per conto di Paradigma Srl\, da dipendenti e collaboratori incaricati di svolgere specifici servizi necessari all’esecuzione delle tue richieste. Il conferimento dei tuoi dati\, pur essendo facoltativo\, si rende necessario per l’esecuzione del servizio richiesto.	\n\n\n\n\n		\n\n\n\n\n\n		\n	\n[/vc_column][/vc_row]
URL:https://paradigma.it/iniziativa/la-distribuzione-dei-prodotti-bancari-finanziari-e-assicurativi-6/
CATEGORIES:Diritto Bancario
ORGANIZER;CN="Veronica%20Spiez":MAILTO:vspiez@paradigma.it
END:VEVENT
END:VCALENDAR