BEGIN:VCALENDAR
VERSION:2.0
PRODID:-//Paradigma srl - ECPv5.2.1//NONSGML v1.0//EN
CALSCALE:GREGORIAN
METHOD:PUBLISH
X-WR-CALNAME:Paradigma srl
X-ORIGINAL-URL:https://paradigma.it
X-WR-CALDESC:Eventi per Paradigma srl
BEGIN:VTIMEZONE
TZID:Europe/Rome
BEGIN:DAYLIGHT
TZOFFSETFROM:+0100
TZOFFSETTO:+0200
TZNAME:CEST
DTSTART:20250330T010000
END:DAYLIGHT
BEGIN:STANDARD
TZOFFSETFROM:+0200
TZOFFSETTO:+0100
TZNAME:CET
DTSTART:20251026T010000
END:STANDARD
END:VTIMEZONE
BEGIN:VEVENT
DTSTART;TZID=Europe/Rome:20251001T093000
DTEND;TZID=Europe/Rome:20251002T173000
DTSTAMP:20260421T130012
CREATED:20250801T100929Z
LAST-MODIFIED:20250929T132606Z
UID:24149-1759311000-1759426200@paradigma.it
SUMMARY:La disciplina IVA nazionale ed estera - Corso base
DESCRIPTION:[vc_row][vc_column]\n	\n		\n			\n		\n	\n\n	\n		\n			L’IVA nei rapporti interni\nMercoledì 1° ottobre 2025 \nL’IVA nei rapporti con l’estero\nGiovedì 2 ottobre 2025 \n \n\n		\n	\n\n	\n		\n			09.30 - 13.30  14.30 - 17.30 \n\n		\n	\n\n	\n		\n			Evento in diretta streaming \n\n		\n	\n\n	\n		\n			 \n\n		\n	\n\n	\n		\n			\n\n		\n	\nPresentazioneProgrammaDocentiBrochureIscrizioni e CondizioniPresentazione\n	\n		\n			Contenuti dell’evento \nIl corso propone ai partecipanti un’analisi completa e dettagliata dei principi generali che caratterizzano il funzionamento dell’IVA. \nLa disciplina dell’imposta sarà esaminata ricorrendo a casistiche ed esemplificazioni pratiche\, alla luce delle ultime novità normative e delle più recenti interpretazioni di prassi e giurisprudenza\, dando altresì spazio alle novità previste dalla riforma fiscale. \nDestinatari dell’evento \nL’evento formativo è rivolto alle risorse operanti all’interno delle Direzioni Amministrative e agli Uffici Fiscali di gruppi industriali e finanziari italiani\, a Commercialisti e ad Avvocati che si occupano di fiscalità d’impresa. \nObiettivi dell’evento \nObiettivo degli incontri è fornire ai partecipanti un quadro generale\, completo e operativo\, della disciplina IVA. \n\n\n		\n	\nProgramma\n	\n		\n			Prima giornata\nMercoledì 1° ottobre 2025 \nL’IVA NEI RAPPORTI INTERNI \nI presupposti dell’IVA\nPresupposto oggettivo: cessioni di beni e prestazioni di servizi\nPresupposto soggettivo: esercizio d’impresa\, arte e professione\nPresupposto territoriale: cenni \nLa classificazione delle operazioni\nOperazioni imponibili\nOperazioni non imponibili\nOperazioni esenti\nOperazioni non soggette \nIl momento di effettuazione delle operazioni e l’esigibilità dell’imposta\nLe regole generali per le cessioni di beni e le prestazioni di servizi\nLe deroghe anticipative\nL’esigibilità immediata e differita dell’imposta\nIl sistema del “cash accounting” \nLa rivalsa dell’imposta e il debitore d’imposta\nLa rivalsa dell’IVA\nIl soggetto passivo e il debitore d’imposta\nReverse charge\nSplit payment \nLa base imponibile e le aliquote IVA\nLe modalità di determinazione della base imponibile\nLe esclusioni dalla base imponibile\nLe aliquote IVA \nLa detrazione IVA\nLe condizioni e le modalità di esercizio\nLe ipotesi di indetraibilità parziale e totale\nIl calcolo del pro rata di detrazione\nLa rettifica della detrazione \nIl volume d’affari e l’esercizio di più attività\nIl calcolo del volume d’affari\nLa separazione delle attività\nDispensa dagli adempimenti per le operazioni esenti \nLe note di variazione dell’imponibile e dell’imposta\nVariazioni in aumento\nVariazione in diminuzione \nI rimborsi IVA e la compensazione del credito IVA\nI rimborsi annuali e infrannuali\nLa compensazione del credito IVA \nLa disciplina del Gruppo IVA \n  \nSeconda giornata\nGiovedì 2 ottobre 2025 \nL’IVA NEI RAPPORTI CON L’ESTERO \nLa territorialità delle operazioni\, l’individuazione del debitore d’imposta e le modalità di identificazione IVA\nLa definizione di territorio dello Stato e di territorio dell’Unione\nI criteri territoriali per le cessioni di beni\nI criteri territoriali per le prestazioni di servizi\nDebitore d’imposta nelle operazioni soggette a reverse charge “esterno”\nStabile organizzazione\, identificazione diretta e rappresentante fiscale \nI servizi internazionali\nTrasporti di beni\nTrasporti di persone\nIntermediazioni\nLavorazioni\nLeasing e noleggio di mezzi di trasporto e di altri beni mobili\nServizi immobiliari\nPrestazioni fieristiche\nPrestazioni di e-commerce \nLe cessioni e gli acquisti intracomunitari di beni\nRequisiti e criteri territoriali\nLa rilevanza del codice identificativo del cessionario\nL’iscrizione nell’archivio VIES delle controparti\nIl momento di effettuazione\nI conti lavoro\nI conti deposito: il caso del consignment stock\nScambi intracomunitari di beni in regime di call-off stock\nLe forniture con installazione/montaggio\nLe vendite a distanza\nProva del trasporto intracomunitario \nLe cessioni all’esportazione\nRequisiti e criteri territoriali\nLe esportazioni dirette e indirette\nDichiarazione d’intento\, esportatore abituale e plafond\nLe esportazioni differite\nLe forniture con installazione/montaggio\nEsportazioni in regime di call-off stock\nProva doganale\nOperazioni assimilate alle esportazioni \nLe triangolazioni e le quadrangolazioni\nEsame delle varie casistiche\nEffetti delle condizioni di consegna\nIdentificazione IVA plurima in capo ai soggetti\nLe semplificazioni previste per le vendite “a catena”\nLe triangolazioni con lavorazione \nI depositi IVA\nBeni che possono essere immessi in deposito\nLe operazioni agevolate: operazioni sui beni che vengono introdotti in depositi\, operazioni sui beni in deposito e operazioni sui beni estratti\nLe modalità di estrazione dei beni dal deposito: reverse charge e versamento diretto da parte del gestore del deposito\, obbligo di garanzia e dichiarazione d’intento per gli esportatori abituali\nLa determinazione della base imponibile dell’IVA dovuta in sede di estrazione\nGli obblighi del gestore del deposito\nIl deposito IVA come alternativa al “regime 42” \n  \nDott. Marco Peirolo\nDottore Commercialista\nOf Counsel SCGT – Studio di Consulenza Giuridico-Tributaria\nComponente della Commissione IVA e altre imposte indirette presso il CNDCEC \n\n\n		\n	\nDocenti\n	\n		\n			Dott. Marco Peirolo \nDottore commercialista\, svolge attività di consulenza prevalentemente focalizzata sulle problematiche dell’IVA nei rapporti interni\, intracomunitari e internazionali\, delle Dogane e delle Accise\, nonché attività di consulenza e assistenza nei rapporti con l’Agenzia delle Entrate\, incluse le fasi di pre-contenzioso e contenzioso tributario. \nOf Counsel di SCGT – Studio di Consulenza Giuridico-Tributaria\, esperto fiscale del Centro Estero per l’Internazionalizzazione del Piemonte (Ceipiemonte)\, nonché componente della Commissione IVA e altre imposte indirette presso il CNDCEC. \nAutore e coautore di numerose monografie ed opere collettanee e di numerosi articoli di approfondimento sulle tematiche dell’IVA. \nSvolge attività di docenza nell’ambito di alcuni Master universitari e di specializzazione\, e interviene\, in qualità di relatore\, in corsi di aggiornamento\, convegni e seminari promossi da Ordini professionali locali e società di formazione. \n\n\n		\n	\nBrochure\n	\n		\n			 Scarica la brochure\n\n		\n	\nIscrizioni e Condizioni\n	\n		\n			Quota di partecipazione \nLa quota di partecipazione in diretta streaming include la fruizione degli interventi\, nonché la possibilità di scaricare\, in formato elettronico\, il materiale didattico che i relatori riterranno di mettere a disposizione. \nÈ inoltre prevista la possibilità di rivolgere contestualmente domande ai docenti (attivando il proprio microfono o tramite chat)\, oppure sottoporle in via preventiva\, inviando una e-mail a info@optime.it entro il giorno antecedente l’evento. \nIn caso di videoconferenza con accessi multipli è necessario contattare la Segreteria Organizzativa per un preventivo personalizzato. \nModalità di funzionamento della videoconferenza \nE’ possibile accedere all’aula virtuale da qualsiasi luogo\, utilizzando il proprio PC o tablet con una semplice connessione a Internet. La piattaforma informatica utilizzata da Optime non necessita di requisiti tecnici particolari. \nNei giorni antecedenti l’evento il partecipante riceverà per posta elettronica le credenziali e le istruzioni di accesso. Il giorno dell’evento sarà sufficiente selezionare il link che troverà nella mail e inserire le credenziali per accedere all’aula virtuale. \nDurante gli interventi\, oltre a vedere e sentire i docenti\, è possibile consultare simultaneamente la documentazione predisposta dal relatore. Ogni utente collegato potrà porre domande sulle tematiche affrontate (attivando il proprio microfono o tramite chat)\, alle quali il docente risponderà nel corso dell’intervento. \nModalità di iscrizione \nL’iscrizione si perfeziona al momento del ricevimento del modulo di registrazione\, da inviare via e-mail all’indirizzo info@optime.it\, integralmente compilato e sottoscritto. Il numero dei collegamenti disponibili è limitato e la priorità d’iscrizione è determinata dalla data di ricezione del modulo di registrazione. Si consiglia pertanto di effettuare una preiscrizione telefonica. \nModalità di pagamento \nLa quota di partecipazione deve essere versata all’atto della presentazione della richiesta di iscrizione e\, in ogni caso\, prima dell’effettuazione dell’evento formativo\, tramite bonifico bancario intestato a:\nParadigma Srl – Corso Vittorio Emanuele II\, 68 – 10121 Torino\nc/o Banco BPM Spa\nIBAN IT 14 V 05034 01017 000000002530 \nFormazione finanziata \nLa quota di partecipazione può essere completamente rimborsata tramite voucher promossi dai Fondi Paritetici Interprofessionali. Optime offre la completa e gratuita gestione delle spese di progettazione\, monitoraggio e rendicontazione. La possibilità di accedere alla formazione finanziata con partecipazione mediante videoconferenza può variare a seconda dell’Ente erogante. \nAttestato di frequenza \nL’attestato di partecipazione nominativo sarà inviato al termine dell’evento formativo ai partecipanti che si sono regolarmente collegati all’aula virtuale. \nDiritto di recesso e modalità di disdetta \nÈ attribuita ai partecipanti la facoltà di recedere ai sensi dell’art. 1373 c.c. Il recesso dovrà essere comunicato in forma scritta almeno sette giorni prima della data di inizio dell’evento formativo (escluso il sabato e la domenica). Qualora la disdetta pervenga oltre tale termine o si verifichi di fatto con il mancato collegamento alla videoconferenza\, la quota di partecipazione sarà addebitata per intero e sarà inviato al partecipante il materiale didattico e\, se disponibile e per un periodo limitato\, la registrazione dell’evento. In qualunque momento l’azienda o lo studio potranno comunque sostituire il partecipante\, comunicando il nuovo nominativo alla nostra Segreteria Oorganizzativa. \nVariazioni di programma \nParadigma\, per ragioni eccezionali e imprevedibili\, si riserva di annullare o modificare la data dell’evento formativo\, dandone comunicazione agli interessati entro tre giorni dalla data di inizio prevista. In tali casi le quote di partecipazione pervenute verranno rimborsate\, con esclusione di qualsivoglia onere o obbligo a carico di Paradigma. Paradigma si riserva inoltre\, per ragioni sopravvenute e per cause di forza maggiore\, di modificare l’articolazione del programma e di sostituire i docenti previsti con altri docenti di pari livello professionale. \nPer ulteriori informazioni è possibile contattare la Segreteria Organizzativa al numero 011.538686 o all’indirizzo e-mail info@optime.it. \n\n\n		\n	\n\n\n	\n		\n			Quota di partecipazione\n	\n		\n			€ 1.100 + Iva una giornata€ 2.050 + Iva due giornate\n\n		\n	\n\n	\n		\n			In caso di videoconferenza con accessi multipli è necessario contattare la Segreteria organizzativa per un preventivo personalizzato. \n\n		\n	\n\n\n		\n	\n\n	\n		\n			\n\n\n\n\n\n\n	\n		\n			Early booking -20%\nInviando il modulo di iscrizione entro il 10 settembre si avrà diritto a una riduzione del 20% sulla quota di partecipazione. \n\n		\n	\n\n\n\n		\n	\n\n	\n		\n			\n\n\n\n\n\n\n	\n		\n			Quota corporate\nIscrivi all’evento 5 o più risorse provenienti dalla stessa organizzazione con una riduzione del 50%. \n\n		\n	\n\n\n\n		\n	\n\n	\n		\n			\n\n		\n	\n\n	\n		\n			\n\n\n\n\n\n\n	\n		\n			Progetto Giovani Eccellenze -50%\nL’adesione all’evento formativo permette di iscrivere una seconda risorsa\, che non abbia compiuto il 30° anno di età e proveniente dalla stessa organizzazione\, con una riduzione del 50% sulla seconda quota di partecipazione. L’agevolazione è calcolata sulla quota ordinaria. \n\n		\n	\n\n\n\n		\n	\n\n	\n		\n			\n\n\n\n\n\n\n	\n		\n			Formazione finanziata\nLa quota di partecipazione all’iniziativa può essere completamente rimborsata tramite voucher promossi dai Fondi Paritetici Interprofessionali. Paradigma offre la completa e gratuita gestione delle spese di progettazione\, monitoraggio e rendiconto. \n\n		\n	\n\n\n\n		\n	\n\n	\n		\n			\n\n\n\n\n\n\n	\n		\n			Mercati elettronici della PA\nParadigma opera sul MePA e sui principali mercati elettronici di soggetti aggregatori e centrali di committenza. \n\n		\n	\n\n\n\n		\n	\n\n	\n		\n			\n	\n\n\n	I campi con (*) sono obbligatori\n	\n		\n		Dati relativi all'evento\n		\n		\n			Partecipazione in aula\n			Partecipazione in videoconferenza\n		\n		\n\n		Dati relativi al richiedente\n		\n		\n		\n		\n		\n		\n		\n		\n\n	\n\n	\n\n		Dati per eventuale partecipante under 30\n		\n		\n		\n\n	\n\n	\n\n		Dati per la fatturazione elettronica\n		\n		\n		\n		\n		\n		\n				\n		\n		\n		  Split Payment:\n          \n            \n              \n              Si \n            No\n          \n        \n		\n		\n		\n		\n	\n\n	\n\n		Per informazioni contattare\n		\n		\n		\n		\n		\n	\n	L'iscrizione all'evento formativo si intende perfezionata al momento del ricevimento\, da parte di Paradigma Srl\, del presente modulo di registrazione compilato in ogni sua parte\, stampato\, firmato e inviato via e-mail all'indirizzo info@paradigma.it. Riceverete via email conferma dell'avvenuta iscrizione. \n\n\n		\n	     Acconsento all'invio di comunicazioni sui servizi Paradigma Srl - Consenso finalizzato\, anche con modalità automatizzate\, all'invio di comunicazioni relative a prodotti e servizi di Paradigma Srl e al fine di ricevere materiale informativo o promozionale.\n	\n	     Acconsento alla personalizzazione delle offerte - Consenso finalizzato\, mediante modalità automatizzate\, a personalizzare i servizi forniti e meglio indirizzare le proposte promozionali grazie ad attività di profilazione.\n	\n	Inviando i dati autorizzi Paradigma Srl a utilizzare i tuoi dati personali per evadere la richiesta di partecipazione all’evento formativo e svolgere le attività a ciò connesse. I dati potranno essere trattati\, per conto di Paradigma Srl\, da dipendenti e collaboratori incaricati di svolgere specifici servizi necessari all’esecuzione delle tue richieste. Il conferimento dei tuoi dati\, pur essendo facoltativo\, si rende necessario per l’esecuzione del servizio richiesto.	\n\n\n\n\n		\n\n\n\n\n\n		\n	\n[/vc_column][/vc_row]
URL:https://paradigma.it/iniziativa/la-disciplina-iva-nazionale-ed-estera/
CATEGORIES:Fisco e Diritto Tributario
ORGANIZER;CN="Veronica%20Spiez":MAILTO:vspiez@paradigma.it
END:VEVENT
END:VCALENDAR