BEGIN:VCALENDAR
VERSION:2.0
PRODID:-//Paradigma srl - ECPv5.2.1//NONSGML v1.0//EN
CALSCALE:GREGORIAN
METHOD:PUBLISH
X-WR-CALNAME:Paradigma srl
X-ORIGINAL-URL:https://paradigma.it
X-WR-CALDESC:Eventi per Paradigma srl
BEGIN:VTIMEZONE
TZID:Europe/Rome
BEGIN:DAYLIGHT
TZOFFSETFROM:+0100
TZOFFSETTO:+0200
TZNAME:CEST
DTSTART:20230326T010000
END:DAYLIGHT
BEGIN:STANDARD
TZOFFSETFROM:+0200
TZOFFSETTO:+0100
TZNAME:CET
DTSTART:20231029T010000
END:STANDARD
END:VTIMEZONE
BEGIN:VEVENT
DTSTART;TZID=Europe/Rome:20230516T093000
DTEND;TZID=Europe/Rome:20230516T173000
DTSTAMP:20260421T130546
CREATED:20230317T161413Z
LAST-MODIFIED:20230512T105622Z
UID:17571-1684229400-1684258200@paradigma.it
SUMMARY:La disciplina delle polizze  unit e index linked
DESCRIPTION:[vc_row][vc_column]\n	\n		\n			\n		\n	\n\n	\n		\n			I docenti\, nel corso dell’evento formativo\, risponderanno alle domande e alle richieste di chiarimenti formulate dai partecipanti. Eventuali quesiti potranno essere anticipati inviando una email all’indirizzo asorba@paradigma.it \n \n\n		\n	\n\n	\n		\n			Evento in videoconferenza \n\n		\n	\n\n	\n		\n			16 maggio 2023 \n\n		\n	\n\n	\n		\n			 \n\n		\n	\n\n	\n		\n			\n\n		\n	\nPresentazioneProgrammaDocentiBrochureIscrizioni e CondizioniPresentazione\n	\n		\n			Contenuti dell’evento \nNella costruzione dei prodotti assicurativi\, con particolare riguardo ai prodotti di investimento assicurativo\, sta assumendo sempre una maggiore centralità il concetto di value for money\, ossia di adeguato valore per il cliente. In particolare\, EIOPA\, nel corso del 2021 e del 2022\, ha pubblicato diversi documenti diretti sia verso gli operatori di settore sia verso le Autorità di vigilanza nazionali con l’obiettivo di influenzare l’attività di queste tanto dal punto di vista normativo quanto applicativo. \nI nuovi indirizzi sono destinati ad avere un impatto significativo sul mercato del private insurance\, anche per effetto della prospettata applicazione delle disposizioni anche alle compagnie appartenenti allo Spazio Economico Europeo (SEE) operanti in Italia. Altrettanto rilevanti le innovazioni in merito alla valutazione del rischio demografico\, tenuto conto delle indicazioni che emergono dalle suggestioni contenute nel Documento di Discussione Ivass n. 1/2022. \nNel corso della giornata di studio\, organizzata in modalità videoconferenza\, saranno analizzate le linee di sviluppo dei prodotti linked e il loro impatto sull’operatività di compagnie di assicurazioni e distributori. \nDestinatari dell’evento \nIl seminario è rivolto ai Responsabili delle funzioni Compliance\, Funzione Attuariale e Internal Audit\, ai Responsabili del Servizio Legale\, ai Responsabili del Servizio Commerciale e ai Responsabili dello Sviluppo Prodotti di compagnie di assicurazione e distributori\, avvocati e consulenti in materia assicurativa e finanziaria. \nObiettivi dell’evento \nObiettivo dell’incontro è fornire ai partecipanti un quadro dettagliato e completo delle novità introdotte dalla nuova regolamentazione Ivass\, attraverso l’analisi di casi concreti e problematiche operative. \n\n\n		\n	\nProgramma\n	\n		\n			Martedì 16 maggio 2023 \nASPETTI GENERALI \nGli interventi dell’Autorità di vigilanza europea in materia di value for money nei prodotti IBIPs\nI problemi rilevati nei prodotti unit e index linked\nGli interventi di EIOPA in materia di value for money: una necessaria panoramica\nIl concetto di value for money nella normativa europea e nell’interpretazione EIOPA\nI costi dei prodotti unit e index linked\nI ritorni dei prodotti unit e index linked\nLe remedial actions\nProf. Avv. Sara Landini\nUniversità di Firenze \nLa struttura\, i contenuti principali e il possibile impatto del nuovo schema di regolamento IVASS e del documento di discussione\nLo schema di Regolamento\nLe finalità del nuovo Regolamento\nLa struttura e i contenuti principali del Regolamento\nLa tempistica di applicazione del nuovo Regolamento\nIl possibile impatto delle nuove disposizioni sul mercato delle polizze unit index linked\nIl documento di discussione\nNovità dell’approccio\nL’evoluzione dell’offerta assicurativa: i principali focus del Documento di consultazione IVASS n. 1/2022\nProf. Avv. Fabio Maniori\nUniversità Cattolica del Sacro Cuore di Milano\nStudio Maniori \nLE MODIFICHE ALLA DISCIPLINA DEI CONTRATTI UNIT LINKED \nLa costituzione e la regolamentazione del fondo o dei singoli comparti\nLe modalità di costituzione dei fondi interni e i criteri di redazione del relativo regolamento\nIl contenuto minimale del regolamento recante i criteri di gestione del fondo o dei singoli comparti\nLe modalità e la frequenza di calcolo del valore della quota\nI criteri di rappresentazione delle spese a carico del fondo interno o del singolo comparto\nLe commissioni di overperformance\nLe modifiche al regolamento del fondo\nProf.ssa Elisabetta Piras\nUniversità di Cagliari \nLe tipologie e i limiti di investimento degli attivi\nLa coerenza con le disposizioni del Codice delle Assicurazioni Private e le indicazioni dell’Autorità di Vigilanza\nIl coordinamento con le istruzioni contenute nel Regolamento Banca d’Italia sulla gestione collettiva del risparmio\nI limiti generali e specifici alla gestione degli investimenti e alla concentrazione dei rischi\nIl calcolo delle commissioni di gestione e le regole di trasparenza per le polizze collegate direttamente a quote di OICVM\nAvv. Cristina Rustignoli\nGruppo Generali \nIL DOCUMENTO DI DISCUSSIONE DI IVASS SUI PRODOTTI VITA \nLe proposte di modifica dei criteri di calcolo del tasso di determinazione del tasso medio di rendimento della gestione separata\nLa regolamentazione di riferimento\nIl Provvedimento Ivass n. 68/2018 e l’accantonamento del “fondo utili”\nL’estensione della regola del “fondo utili” anche alle ai contratti assicurativi preesistenti\nL’informativa da rendere al cliente\nL’adesione alla proposta di modifica da parte dell’impresa di assicurazione\nAvv. Andrea Polizzi\nD’Argenio Polizzi e Associati Studio Legale \nLa valutazione del rischio demografico\nI possibili metodi di valorizzazione del rischio demografico\nContenuto e determinazione della garanzia demografica dei prodotti di ramo III\nLa giurisprudenza italiana ed europea sulla natura delle polizze unit/index linked\nAvv. Andrea Polizzi\nD’Argenio Polizzi e Associati Studio Legale \n\n\n		\n	\nDocenti\n	\n		\n			Prof. Avv. Sara Landini\nOrdinario di Diritto dell’Economia\nUniversità di Firenze \nProf. Avv. Fabio Maniori\nDocente a contratto nel Master Digital Innovation & FinTech\nUniversità Cattolica del Sacro Cuore di Milano\nFounding Partner\nStudio Maniori \nProf.ssa Elisabetta Piras\nAssociato di Diritto dell’Economia\nUniversità di Cagliari \nAvv. Andrea Polizzi\nFounding Partner\nD’Argenio Polizzi e Associati Studio Legale \nAvv. Cristina Rustignoli\nGeneral Counsel\nCountry Italia e Global Business Line\nGruppo Generali \n\n\n		\n	\nBrochure\n	\n		\n			 Scarica la brochure\n\n		\n	\nIscrizioni e Condizioni\n	\n		\n			Quota di partecipazione \nLa quota di partecipazione in aula virtuale (diretta streaming) include l’invio del materiale didattico in formato elettronico e la possibilità di sottoporre ai relatori quesiti di specifico interesse a mezzo chat. È altresì possibile anticipare domande e richieste di approfondimento inviando una e-mail a info@paradigma.it entro il giorno antecedente l’evento. \nIn caso di videoconferenza con accessi multipli è necessario contattare la Segreteria organizzativa per un preventivo personalizzato. \nModalità di funzionamento della videoconferenza \nE’ possibile accedere all’aula virtuale da qualsiasi luogo\, utilizzando il proprio PC o tablet con una semplice connessione a Internet. La piattaforma informatica utilizzata da Paradigma (Adobe Connect) non necessita di requisiti tecnici particolari. \nNei giorni antecedenti l’evento il partecipante riceverà per posta elettronica le credenziali e le istruzioni di accesso. Il giorno dell’evento sarà sufficiente selezionare il link che troverà nella mail e inserire le credenziali per accedere all’aula virtuale. \nDurante gli interventi\, oltre a vedere e sentire i docenti\, è possibile consultare simultaneamente la documentazione predisposta dal relatore. Ogni utente collegato potrà porre domande sulle tematiche affrontate a mezzo chat\, alle quali il docente risponderà nel corso dell’intervento. \nModalità di iscrizione \nL’iscrizione si perfeziona al momento del ricevimento del modulo di registrazione\, da inviare via e-mail all’indirizzo info@paradigma.it\, integralmente compilato. Il numero dei collegamenti disponibili è limitato e la priorità d’iscrizione è determinata dalla data di ricezione del modulo di registrazione. Si consiglia pertanto di effettuare una preiscrizione telefonica. \nModalità di pagamento \nLa quota di partecipazione deve essere versata all’atto della presentazione della richiesta di iscrizione e\, in ogni caso\, prima dell’effettuazione dell’evento formativo\, tramite bonifico bancario intestato a: \nParadigma Srl – Corso Vittorio Emanuele II\, 68 – 10121 Torino\nc/o Banco BPM Spa\nIBAN IT 14 V 05034 01017 000000002530 \nFormazione finanziata \nLa quota di partecipazione può essere completamente rimborsata tramite voucher promossi dai Fondi Paritetici Interprofessionali. Paradigma offre la completa e gratuita gestione delle spese di progettazione\, monitoraggio e rendicontazione. La possibilità di accedere alla formazione finanziata con partecipazione mediante videoconferenza può variare a seconda dell’Ente erogante. \nAttestato di frequenza \nL’attestato di partecipazione nominativo sarà inviato al termine dell’evento formativo ai partecipanti che si sono regolarmente collegati all’aula virtuale. \nDiritto di recesso e modalità di disdetta \nÈ attribuita ai partecipanti la facoltà di recedere ai sensi dell’art. 1373 c.c. Il recesso dovrà essere comunicato in forma scritta almeno sette giorni prima della data di inizio dell’evento formativo (escluso il sabato e la domenica). Qualora la disdetta pervenga oltre tale termine o si verifichi di fatto con il mancato collegamento alla videoconferenza\, la quota di partecipazione sarà addebitata per intero e sarà inviato al partecipante il materiale didattico. In qualunque momento l’azienda o lo studio potranno comunque sostituire il partecipante\, comunicando il nuovo nominativo alla nostra Segreteria organizzativa. \nVariazioni di programma \nParadigma\, per ragioni eccezionali e imprevedibili\, si riserva di annullare o modificare la data dell’evento formativo\, dandone comunicazione agli interessati entro tre giorni dalla data di inizio prevista. In tali casi le quote di partecipazione pervenute verranno rimborsate\, con esclusione di qualsivoglia onere o obbligo a carico di Paradigma. Paradigma si riserva inoltre\, per ragioni sopravvenute e per cause di forza maggiore\, di modificare l’articolazione del programma e di sostituire i docenti previsti con altri docenti di pari livello professionale. \nPer ulteriori informazioni è possibile contattare la Segreteria organizzativa al numero 011.538686 o all’indirizzo e-mail info@paradigma.it. \n\n\n		\n	\n\n\n	\n		\n			Quota di partecipazione\n	\n		\n			€ 1.100 + Iva\n\n		\n	\n\n	\n		\n			In caso di videoconferenza con accessi multipli è necessario contattare la Segreteria organizzativa per un preventivo personalizzato. \n\n		\n	\n\n\n		\n	\n\n	\n		\n			\n\n\n\n\n\n\n	\n		\n			Early booking -20%\nInviando il modulo di iscrizione entro il 26 aprile si avrà diritto a una riduzione del 20% sulla quota di partecipazione. \n\n		\n	\n\n\n\n		\n	\n\n	\n		\n			\n\n		\n	\n\n	\n		\n			\n\n		\n	\n\n	\n		\n			\n\n\n\n\n\n\n	\n		\n			Progetto Giovani Eccellenze -50%\nL’adesione all’evento formativo permette di iscrivere una seconda risorsa\, che non abbia compiuto il 30° anno di età e proveniente dalla stessa organizzazione\, con una riduzione del 50% sulla seconda quota di partecipazione. L’agevolazione è calcolata sulla quota ordinaria. \n\n		\n	\n\n\n\n		\n	\n\n	\n		\n			\n\n\n\n\n\n\n	\n		\n			Formazione finanziata\nLa quota di partecipazione all’iniziativa può essere completamente rimborsata tramite voucher promossi dai Fondi Paritetici Interprofessionali. Paradigma offre la completa e gratuita gestione delle spese di progettazione\, monitoraggio e rendiconto. \n\n		\n	\n\n\n\n		\n	\n\n	\n		\n			\n\n\n\n\n\n\n	\n		\n			Mercati elettronici della PA\nParadigma opera sul MePA e sui principali mercati elettronici di soggetti aggregatori e centrali di committenza. \n\n		\n	\n\n\n\n		\n	\n\n	\n		\n			\n	\n\n\n	I campi con (*) sono obbligatori\n	\n		\n		Dati relativi all'evento\n		\n		\n			Partecipazione in aula\n			Partecipazione in videoconferenza\n		\n		\n\n		Dati relativi al richiedente\n		\n		\n		\n		\n		\n		\n		\n		\n\n	\n\n	\n\n		Dati per eventuale partecipante under 30\n		\n		\n		\n\n	\n\n	\n\n		Dati per la fatturazione elettronica\n		\n		\n		\n		\n		\n		\n				\n		\n		\n		  Split Payment:\n          \n            \n              \n              Si \n            No\n          \n        \n		\n		\n		\n		\n	\n\n	\n\n		Per informazioni contattare\n		\n		\n		\n		\n		\n	\n	L'iscrizione all'evento formativo si intende perfezionata al momento del ricevimento\, da parte di Paradigma Srl\, del presente modulo di registrazione compilato in ogni sua parte\, stampato\, firmato e inviato via e-mail all'indirizzo info@paradigma.it. Riceverete via email conferma dell'avvenuta iscrizione. \n\n\n		\n	     Acconsento all'invio di comunicazioni sui servizi Paradigma Srl - Consenso finalizzato\, anche con modalità automatizzate\, all'invio di comunicazioni relative a prodotti e servizi di Paradigma Srl e al fine di ricevere materiale informativo o promozionale.\n	\n	     Acconsento alla personalizzazione delle offerte - Consenso finalizzato\, mediante modalità automatizzate\, a personalizzare i servizi forniti e meglio indirizzare le proposte promozionali grazie ad attività di profilazione.\n	\n	Inviando i dati autorizzi Paradigma Srl a utilizzare i tuoi dati personali per evadere la richiesta di partecipazione all’evento formativo e svolgere le attività a ciò connesse. I dati potranno essere trattati\, per conto di Paradigma Srl\, da dipendenti e collaboratori incaricati di svolgere specifici servizi necessari all’esecuzione delle tue richieste. Il conferimento dei tuoi dati\, pur essendo facoltativo\, si rende necessario per l’esecuzione del servizio richiesto.	\n\n\n\n\n		\n\n\n\n\n\n		\n	\n[/vc_column][/vc_row]
URL:https://paradigma.it/iniziativa/la-disciplina-delle-polizze-unit-e-index-linked/
CATEGORIES:Assicurazioni
ORGANIZER;CN="Veronica%20Spiez":MAILTO:vspiez@paradigma.it
END:VEVENT
END:VCALENDAR