BEGIN:VCALENDAR
VERSION:2.0
PRODID:-//Paradigma srl - ECPv5.2.1//NONSGML v1.0//EN
CALSCALE:GREGORIAN
METHOD:PUBLISH
X-WR-CALNAME:Paradigma srl
X-ORIGINAL-URL:https://paradigma.it
X-WR-CALDESC:Eventi per Paradigma srl
BEGIN:VTIMEZONE
TZID:Europe/Rome
BEGIN:DAYLIGHT
TZOFFSETFROM:+0100
TZOFFSETTO:+0200
TZNAME:CEST
DTSTART:20250330T010000
END:DAYLIGHT
BEGIN:STANDARD
TZOFFSETFROM:+0200
TZOFFSETTO:+0100
TZNAME:CET
DTSTART:20251026T010000
END:STANDARD
END:VTIMEZONE
BEGIN:VEVENT
DTSTART;TZID=Europe/Rome:20250401T093000
DTEND;TZID=Europe/Rome:20250401T180000
DTSTAMP:20260421T130618
CREATED:20250129T143758Z
LAST-MODIFIED:20250326T140040Z
UID:22418-1743499800-1743530400@paradigma.it
SUMMARY:La disciplina delle CFC  alla luce delle recenti  modifiche normative
DESCRIPTION:[vc_row][vc_column]\n	\n		\n			\n		\n	\n\n	\n		\n			\nAspetti operativi e principali problematiche\nImpatto delle novità introdotte dalla Riforma Fiscale\n\nI docenti\, nel corso dell’evento formativo\, risponderanno alle domande e alle richieste di chiarimenti formulate dai partecipanti. Eventuali quesiti potranno essere anticipati inviando una email all’indirizzo asorba@paradigma.it \n \n\n		\n	\n\n	\n		\n			Evento in videoconferenza \n\n		\n	\n\n	\n		\n			1 aprile 2025 \n\n		\n	\n\n	\n		\n			 \n\n		\n	\n\n	\n		\n			\n\n		\n	\nPresentazioneProgrammaDocentiBrochureIscrizioni e CondizioniPresentazione\n	\n		\n			Contenuti dell’evento \nNel corso dell’evento si fornirà una dettagliata analisi dei profili teorici e applicativi della normativa CFC\, anche alla luce delle recenti modifiche normative e delle novità introdotte dalla Riforma fiscale. \nDestinatari dell’evento \nIl convegno è destinato ai Responsabili Fiscali\, ai Responsabili della Pianificazione Fiscale e ai Direttori Amministrativi e Finanziari di tutte le aziende italiane\, nonché a tutti i professionisti che operano in questo ambito. \nObiettivi dell’evento \nL’iniziativa consentirà di approfondire\, con il contributo di autorevoli esperti\, le tematiche di maggiore interesse per la pianificazione fiscale di imprese e gruppi\, fornendo\, oltre a un’accurata disamina delle più recenti novità\, concreti spunti operativi. \n\n\n		\n	\nProgramma\n	\n		\n			Martedì 1 aprile 2025 \nLa disciplina CFC nelle GloBE Rules alla luce della Riforma fiscale\nRecente evoluzione della disciplina: dal Progetto BEPS alla Riforma Fiscale\nLa necessità di coordinamento tra disciplina CFC e GloBE Rules: ordine di applicazione e reciproca interazione ai fini della determinazione delle imposte dovute\nAvv. Giuseppe Francesco Patti\nStudio Tributario e Societario Deloitte \nLa nuova disciplina dell’ETR alla luce della Riforma fiscale: la sopravvivenza dell’ETR ordinario\nQuando e come opera l’ETR ordinario\nI principali aspetti di determinazione dell’ETR ordinario\nIl Provvedimento dell’Agenzia delle Entrate\nDott. Sergio Marchese\nMarchese Zanardi & Partners \nLa nuova disciplina dell’ETR alla luce della Riforma fiscale: l’ETR semplificato \nLe caratteristiche del nuovo test\nGli elementi rilevanti\nLa necessità di un bilancio soggetto a revisione\nProfili applicativi\, criticità operativi e aspetti ancora aperti\nIl caso delle holding\nDott. Carlo Sanna\nSCGT – Studio di Consulenza Giuridico-Tributaria \nLa nuova imposta sostitutiva\nL’imposta sostitutiva introdotta dalla Riforma fiscale\nMeccanismo di funzionamento\nIl Provvedimento dell’Agenzia delle Entrate\nI punti aperti\nDott. Aurelio Massimiano\nMaisto e Associati\nDott. Francesco Semonella\nMaisto e Associati \nLa circostanza esimente\nIl passaggio dalle precedenti esimenti alla nuova esimente\nLo svolgimento di un’attività economica effettiva\nLe novità in materia di interpello probatorio preventivo alla luce della riforma della disciplina degli interpelli\nL’indicazione in dichiarazione dei redditi\nDott. Claudio Carrara\nStudio Tributario e Societario Deloitte \nIl coordinamento con la disciplina degli utili di provenienza estera\nLa rilevanza delle nuove disposizioni anche ai fini della disciplina dei dividendi c.d. black\nI fenomeni transitori\nLa rilevanza della Global Minimum Tax ai fini della seconda esimente (tassazione congrua)\nAvv. Riccardo Michelutti\nFacchini Rossi Michelutti Studio Legale Tributario \nDeterminazione\, attribuzione e tassazione del reddito del soggetto estero controllato\nLa determinazione del reddito estero e il meccanismo di imputazione per trasparenza\nIl monitoraggio dei valori fiscalmente rilevanti\nLa tassazione separata\nCredito d’imposta per redditi prodotti all’estero\nLe questioni sull’accreditabilità dell’Imposta Minima Nazionale Equivalente riscossa dallo Stato estero\nDott. Angelo Garcea\nAssonime \n\n\n		\n	\nDocenti\n	\n		\n			Dott. Claudio Carrara\nPartner\nStudio Tributario e Societario Deloitte \nDott. Angelo Garcea\nCondirettore Area Fiscale\nAssonime \nDott. Sergio Marchese\nPartner\nMarchese Zanardi & Partners \nDott. Aurelio Massimiano\nPartner\nMaisto e Associati \nAvv. Riccardo Michelutti\nFounding Partner\nFacchini Rossi Michelutti Studio Legale Tributario \nAvv. Giuseppe Francesco Patti\nInternational Tax Director\nStudio Tributario e Societario Deloitte \nDott. Carlo Sanna\nPartner\nSCGT – Studio di Consulenza Giuridico-Tributaria \nDott. Francesco Semonella\nAssociato\nMaisto e Associati \n\n\n		\n	\nBrochure\n	\n		\n			 Scarica la brochure\n\n		\n	\nIscrizioni e Condizioni\n	\n		\n			Quota di partecipazione \nLa quota di partecipazione in aula virtuale (diretta streaming) include la fruizione in diretta delle docenze\, nonché l’invio\, in formato elettronico\, del materiale didattico che i relatori riterranno di mettere a disposizione. È inoltre prevista la possibilità di presentare in diretta domande e quesiti di specifico interesse a mezzo chat\, nonché di sottoporli in via preventiva\, inviando una email a info@paradigma.it entro il giorno antecedente l’evento. \nIn caso di videoconferenza con accessi multipli è necessario contattare la Segreteria organizzativa per un preventivo personalizzato. \nModalità di funzionamento della videoconferenza \nE’ possibile accedere all’aula virtuale da qualsiasi luogo\, utilizzando il proprio PC o tablet con una semplice connessione a Internet. La piattaforma informatica utilizzata da Paradigma (Adobe Connect) non necessita di requisiti tecnici particolari. \nNei giorni antecedenti l’evento il partecipante riceverà per posta elettronica le credenziali e le istruzioni di accesso. Il giorno dell’evento sarà sufficiente selezionare il link che troverà nella mail e inserire le credenziali per accedere all’aula virtuale. \nDurante gli interventi\, oltre a vedere e sentire i docenti\, è possibile consultare simultaneamente la documentazione predisposta dal relatore. Ogni utente collegato potrà porre domande sulle tematiche affrontate a mezzo chat\, alle quali il docente risponderà nel corso dell’intervento. \nModalità di iscrizione \nL’iscrizione si perfeziona al momento del ricevimento del modulo di registrazione\, da inviare via e-mail all’indirizzo info@paradigma.it\, integralmente compilato. Il numero dei collegamenti disponibili è limitato e la priorità d’iscrizione è determinata dalla data di ricezione del modulo di registrazione. Si consiglia pertanto di effettuare una preiscrizione telefonica. \nModalità di pagamento \nLa quota di partecipazione deve essere versata all’atto della presentazione della richiesta di iscrizione e\, in ogni caso\, prima dell’effettuazione dell’evento formativo\, tramite bonifico bancario intestato a: \nParadigma Srl – Corso Vittorio Emanuele II\, 68 – 10121 Torino\nc/o Banco BPM Spa\nIBAN IT 14 V 05034 01017 000000002530 \nFormazione finanziata \nLa quota di partecipazione può essere completamente rimborsata tramite voucher promossi dai Fondi Paritetici Interprofessionali. Paradigma offre la completa e gratuita gestione delle spese di progettazione\, monitoraggio e rendicontazione. La possibilità di accedere alla formazione finanziata con partecipazione mediante videoconferenza può variare a seconda dell’Ente erogante. \nAttestato di frequenza \nL’attestato di partecipazione nominativo sarà inviato al termine dell’evento formativo ai partecipanti che si sono regolarmente collegati all’aula virtuale. \nDiritto di recesso e modalità di disdetta \nÈ attribuita ai partecipanti la facoltà di recedere ai sensi dell’art. 1373 c.c. Il recesso dovrà essere comunicato in forma scritta almeno sette giorni prima della data di inizio dell’evento formativo (escluso il sabato e la domenica). Qualora la disdetta pervenga oltre tale termine o si verifichi di fatto con il mancato collegamento alla videoconferenza\, la quota di partecipazione sarà addebitata per intero e sarà inviato al partecipante il materiale didattico. In qualunque momento l’azienda o lo studio potranno comunque sostituire il partecipante\, comunicando il nuovo nominativo alla nostra Segreteria organizzativa. \nVariazioni di programma \nParadigma\, per ragioni eccezionali e imprevedibili\, si riserva di annullare o modificare la data dell’evento formativo\, dandone comunicazione agli interessati entro tre giorni dalla data di inizio prevista. In tali casi le quote di partecipazione pervenute verranno rimborsate\, con esclusione di qualsivoglia onere o obbligo a carico di Paradigma. Paradigma si riserva inoltre\, per ragioni sopravvenute e per cause di forza maggiore\, di modificare l’articolazione del programma e di sostituire i docenti previsti con altri docenti di pari livello professionale. \nPer ulteriori informazioni è possibile contattare la Segreteria organizzativa al numero 011.538686 o all’indirizzo e-mail info@paradigma.it. \n\n\n		\n	\n\n\n	\n		\n			Quota di partecipazione\n	\n		\n			€ 1.100 + Iva\n\n		\n	\n\n	\n		\n			In caso di videoconferenza con accessi multipli è necessario contattare la Segreteria organizzativa per un preventivo personalizzato. \n\n		\n	\n\n\n		\n	\n\n	\n		\n			\n\n\n\n\n\n\n	\n		\n			Early booking -20%\nInviando il modulo di iscrizione entro l’11 marzo si avrà diritto a una riduzione del 20% sulla quota di partecipazione. \n\n		\n	\n\n\n\n		\n	\n\n	\n		\n			\n\n		\n	\n\n	\n		\n			\n\n		\n	\n\n	\n		\n			\n\n\n\n\n\n\n	\n		\n			Progetto Giovani Eccellenze -50%\nL’adesione all’evento formativo permette di iscrivere una seconda risorsa\, che non abbia compiuto il 30° anno di età e proveniente dalla stessa organizzazione\, con una riduzione del 50% sulla seconda quota di partecipazione. L’agevolazione è calcolata sulla quota ordinaria. \n\n		\n	\n\n\n\n		\n	\n\n	\n		\n			\n\n\n\n\n\n\n	\n		\n			Formazione finanziata\nLa quota di partecipazione all’iniziativa può essere completamente rimborsata tramite voucher promossi dai Fondi Paritetici Interprofessionali. Paradigma offre la completa e gratuita gestione delle spese di progettazione\, monitoraggio e rendiconto. \n\n		\n	\n\n\n\n		\n	\n\n	\n		\n			\n\n\n\n\n\n\n	\n		\n			Mercati elettronici della PA\nParadigma opera sul MePA e sui principali mercati elettronici di soggetti aggregatori e centrali di committenza. \n\n		\n	\n\n\n\n		\n	\n\n	\n		\n			\n	\n\n\n	I campi con (*) sono obbligatori\n	\n		\n		Dati relativi all'evento\n		\n		\n			Partecipazione in aula\n			Partecipazione in videoconferenza\n		\n		\n\n		Dati relativi al richiedente\n		\n		\n		\n		\n		\n		\n		\n		\n\n	\n\n	\n\n		Dati per eventuale partecipante under 30\n		\n		\n		\n\n	\n\n	\n\n		Dati per la fatturazione elettronica\n		\n		\n		\n		\n		\n		\n				\n		\n		\n		  Split Payment:\n          \n            \n              \n              Si \n            No\n          \n        \n		\n		\n		\n		\n	\n\n	\n\n		Per informazioni contattare\n		\n		\n		\n		\n		\n	\n	L'iscrizione all'evento formativo si intende perfezionata al momento del ricevimento\, da parte di Paradigma Srl\, del presente modulo di registrazione compilato in ogni sua parte\, stampato\, firmato e inviato via e-mail all'indirizzo info@paradigma.it. Riceverete via email conferma dell'avvenuta iscrizione. \n\n\n		\n	     Acconsento all'invio di comunicazioni sui servizi Paradigma Srl - Consenso finalizzato\, anche con modalità automatizzate\, all'invio di comunicazioni relative a prodotti e servizi di Paradigma Srl e al fine di ricevere materiale informativo o promozionale.\n	\n	     Acconsento alla personalizzazione delle offerte - Consenso finalizzato\, mediante modalità automatizzate\, a personalizzare i servizi forniti e meglio indirizzare le proposte promozionali grazie ad attività di profilazione.\n	\n	Inviando i dati autorizzi Paradigma Srl a utilizzare i tuoi dati personali per evadere la richiesta di partecipazione all’evento formativo e svolgere le attività a ciò connesse. I dati potranno essere trattati\, per conto di Paradigma Srl\, da dipendenti e collaboratori incaricati di svolgere specifici servizi necessari all’esecuzione delle tue richieste. Il conferimento dei tuoi dati\, pur essendo facoltativo\, si rende necessario per l’esecuzione del servizio richiesto.	\n\n\n\n\n		\n\n\n\n\n\n		\n	\n[/vc_column][/vc_row]
URL:https://paradigma.it/iniziativa/la-disciplina-delle-cfc-alla-luce-delle-recenti-modifiche-normative/
CATEGORIES:Fisco e Diritto Tributario
ORGANIZER;CN="Veronica%20Spiez":MAILTO:vspiez@paradigma.it
END:VEVENT
END:VCALENDAR